{"text_format":"1","workbook":"xlsx","n_sheets":13,"sheets":["1-COVER SHEET","2-Table of Content","3-General Data","4-Executive Summary","5-PMS","Document Status","6- S-Curve Table","7- S-Curve Chart","8-Document Status Report (MDR)","9-Manufacturing Pics Gallery","Last Document Status-HOMA","Overall Document Status-HOMA","Eng. Progress Measurement PRC"],"not_rendered":{"charts":1,"images":4,"macros":1,"external_links":0,"defined_names":13,"comments":3,"pivot_tables":0},"unopened":[],"bounds":{"document_bytes":16777216,"sheet_cells":100000,"rows_first":2000,"rows_last":500,"rows_between":2000,"halvings":0,"cell_chars":16384,"cell_head_chars":4096},"cells_cut":0,"cells_raw":0,"read":"whole","date_system":"1900"}

{"sheet":"1-COVER SHEET","index":0,"n_rows":59,"n_cols":14,"rows_kept":59,"cut":false,"hidden":false,"merged":[[58,13,58,14],[6,12,6,13],[6,7,6,10],[58,1,58,2],[58,3,58,4],[58,5,58,6],[58,7,58,8],[58,9,58,10],[58,11,58,12],[56,13,56,14],[57,1,57,2],[57,3,57,4],[57,5,57,6],[57,7,57,8],[57,9,57,10],[57,11,57,12],[57,13,57,14],[56,1,56,2],[56,3,56,4],[56,5,56,6],[56,7,56,8],[56,9,56,10],[56,11,56,12],[53,11,53,12],[53,13,53,14],[54,13,54,14],[55,1,55,2],[55,3,55,4],[55,5,55,6],[55,7,55,8],[55,9,55,10],[55,11,55,12],[55,13,55,14],[54,1,54,2],[54,3,54,4],[54,5,54,6],[54,7,54,8],[54,9,54,10],[54,11,54,12],[53,1,53,2],[53,3,53,4],[53,5,53,6],[53,7,53,8],[53,9,53,10],[43,1,43,14],[44,1,44,14],[46,1,46,14],[49,1,49,14],[52,1,52,2],[52,3,52,4],[52,5,52,6],[52,7,52,8],[52,9,52,10],[52,11,52,12],[52,13,52,14],[34,2,34,5],[34,6,34,13],[35,2,35,5],[35,6,35,13],[36,2,36,5],[36,6,36,13],[13,1,13,14],[19,1,19,14],[20,1,20,14],[33,2,33,5],[33,6,33,13],[0,1,6,4],[0,5,1,10],[0,11,3,14],[2,5,3,10],[4,5,5,10],[4,11,4,14],[5,11,5,14],[6,5,6,6]]}
[null,null,null,null,null,"Tabriz Petrochemical Company",null,null,null,null,null,"Contractor/Vendor Logo"]
[]
[null,null,null,null,null,"310 KTPA HDPE Plant"]
[]
[null,null,null,null,null,"DOCUMENT TITLE:\nMonthly/Weekly Progress Report",null,null,null,null,null,"Vendor Name :"]
[null,null,null,null,null,null,null,null,null,null,null,{"$f":"B47","v":"XXXXX Co."}]
[null,null,null,null,null,"Document No. :",null,null,null,null,null,"PO. No.:",{"$f":"B44","v":"XXXXXX"}]
[]
[]
[]
[]
[]
[]
[null,"MONTHLY/WEEKLY PROGRESS REPORT"]
[]
[]
[]
[]
[]
[null,"Cut-off Date:"]
[null,"2022-04-15"]
[]
[null,null,null,null,null,null,null,"Report No. :",null,"02"]
[]
[]
[]
[]
[]
[]
[]
[]
[]
[]
[null,null,"MR No.:",null,null,null,"Material Description Name:"]
[null,null,"3607/33-00-EP-PI-MR-5003",null,null,null,"SMLS-CS & LTCS Pipes"]
[null,null,"3607/33-00-EP-PI-MR-5031",null,null,null,"Wrough -CS & LTCS Fittings"]
[]
[]
[]
[]
[]
[]
[null,null,null,null,null,null,null,"PO Number:"]
[null,"XXXXXX"]
[]
[null,null,null,null,null,null,null,"Vendor Name:"]
[null,"XXXXX Co."]
[]
[]
[]
[]
[]
[]
[]
[]
[]
[]
[null,"2022-03-16",null,"FI",null,"Issued For Information"]
[null,"Issue Date",null,"Status",null,"Description",null,"Pages",null,"Prepared by",null,"Checked by",null,"Approved by"]

{"sheet":"2-Table of Content","index":1,"n_rows":32,"n_cols":8,"rows_kept":32,"cut":false,"hidden":false,"merged":[[6,7,6,8],[0,1,6,3],[0,4,1,5],[0,6,3,8],[2,4,3,5],[4,4,6,5],[4,6,4,8],[5,6,5,8]]}
[null,null,null,null,{"$f":"'1-COVER SHEET'!F1","v":"Tabriz Petrochemical Company"},null,"Contractor/Vendor Logo"]
[]
[null,null,null,null,{"$f":"'1-COVER SHEET'!F3","v":"310 KTPA HDPE Plant"}]
[]
[null,null,null,null,"DOCUMENT TITLE:\nMonthly/Weekly Progress Report",null,"Vendor Name :"]
[null,null,null,null,null,null,{"$f":"'1-COVER SHEET'!L6","v":"XXXXX Co."}]
[null,null,null,null,null,null,"PO. No.:",{"$f":"'1-COVER SHEET'!M7","v":"XXXXXX"}]
[]
[]
[]
[]
[]
[null,null,1,"General Data"]
[null,null,2,"Executive Summary"]
[null,null,3,"Work Breakdown Structure (WBS)"]
[null,null,4,"Plan & Actual Trend"]
[null,null,5,"Overall Progress Table and S-curve"]
[null,null,6,"Document Progress Measurement Procedure"]
[null,null,7,"Engineering Documents Status Report"]
[null,null,8,"Raw Material Status Report"]
[null,null,9,"Manufacturing Status Report"]
[null,null,10,"Inspection & Delivery"]
[]
[]
[]
[]
[]
[]
[]
[null,null,"Attachments:"]
[null,null,1,"Updated Time Schedule (Native file and PDF)"]
[null,null,2,"Updated VPIS from HOMA"]

{"sheet":"3-General Data","index":2,"n_rows":29,"n_cols":10,"rows_kept":29,"cut":false,"hidden":false,"merged":[[39,6,39,7],[6,9,6,10],[33,6,33,7],[34,6,34,7],[35,6,35,7],[36,6,36,7],[37,6,37,7],[38,6,38,7],[27,6,27,7],[28,6,28,7],[29,6,29,7],[30,6,30,7],[31,6,31,7],[32,6,32,7],[34,8,34,9],[35,8,35,9],[36,8,36,9],[37,8,37,9],[38,8,38,9],[39,8,39,9],[28,8,28,9],[29,8,29,9],[30,8,30,9],[31,8,31,9],[32,8,32,9],[33,8,33,9],[11,5,11,9],[12,5,12,9],[13,5,13,9],[14,5,14,9],[15,5,15,9],[16,5,16,9],[38,2,38,5],[39,2,39,5],[36,2,36,5],[37,2,37,5],[34,2,34,5],[35,2,35,5],[32,2,32,5],[33,2,33,5],[30,2,30,5],[31,2,31,5],[28,2,28,5],[29,2,29,5],[25,2,25,9],[26,2,26,5],[27,2,27,5],[26,8,26,9],[27,8,27,9],[26,6,26,7],[21,2,21,4],[21,5,21,9],[22,2,22,4],[22,5,22,9],[23,2,23,4],[23,5,23,9],[20,2,20,4],[20,5,20,9],[17,2,17,4],[18,2,18,4],[17,5,17,9],[18,5,18,9],[14,2,14,4],[15,2,15,4],[16,2,16,4],[11,2,11,4],[12,2,12,4],[13,2,13,4],[0,1,6,2],[0,3,1,7],[0,8,3,10],[2,3,3,7],[4,3,4,7],[4,8,4,10],[5,3,5,7],[5,8,5,10],[6,3,6,7]]}
[null,null,null,{"$f":"'1-COVER SHEET'!F1","v":"Tabriz Petrochemical Company"},null,null,null,null,"Contractor/Vendor Logo"]
[]
[null,null,null,{"$f":"'1-COVER SHEET'!F3","v":"310 KTPA HDPE Plant"}]
[]
[null,null,null,"DOCUMENT TITLE:",null,null,null,null,"Vendor Name :"]
[null,null,null,"Monthly/Weekly Progress Report",null,null,null,null,{"$f":"'1-COVER SHEET'!L6","v":"XXXXX Co."}]
[null,null,null,"General Data",null,null,null,null,"PO. No.:",{"$f":"'1-COVER SHEET'!M7","v":"XXXXXX"}]
[]
[]
[]
[]
[null,null,"Vendor Name: ",null,null,{"$f":"'1-COVER SHEET'!B47","v":"XXXXX Co."}]
[null,null,"P.O. No.:",null,null,{"$f":"'1-COVER SHEET'!B44","v":"XXXXXX"}]
[null,null,"Advance Payment Date:"]
[null,null,"P.O. Effective Date:"]
[null,null,"Planned Start Date:"]
[null,null,"Contractual Duration:"]
[null,null,"Contractual Finish Date:"]
[null,null,"Planned Finish Date:"]
[]
[null,null,"MR No.:"]
[null,null,{"$f":"'1-COVER SHEET'!C35:F35","v":"3607/33-00-EP-PI-MR-5003"},null,null,{"$f":"'1-COVER SHEET'!G35","v":"SMLS-CS & LTCS Pipes"}]
[null,null,{"$f":"'1-COVER SHEET'!C36:F36","v":"3607/33-00-EP-PI-MR-5031"},null,null,{"$f":"'1-COVER SHEET'!G36","v":"Wrough -CS & LTCS Fittings"}]
[null,null,{"$f":"'1-COVER SHEET'!C37:F37","v":0},null,null,{"$f":"'1-COVER SHEET'!G37","v":0}]
[null,null,null,null,null,null,null,"2023-04-20"]
[null,null,"List of P.O Items (Balance Sheet)"]
[null,null,"Contract Items Description",null,null,null,"Tag No/ Code No",null,"Quantity"]
[null,null,"SMLS Pipes",null,null,null,6610,null,500]
[null,null,"LTCS Pipes",null,null,null,6610,null,300]

{"sheet":"4-Executive Summary","index":3,"n_rows":98,"n_cols":16,"rows_kept":98,"cut":false,"hidden":false,"merged":[[5,4,5,13],[6,4,6,13],[0,14,3,16],[57,9,57,10],[58,9,58,10],[41,2,41,8],[42,2,42,8],[43,2,43,8],[44,2,44,8],[45,2,45,8],[41,9,41,10],[42,9,42,10],[43,9,43,10],[44,9,44,10],[52,12,52,13],[58,12,58,13],[59,9,59,10],[60,9,60,10],[49,2,49,8],[50,2,50,8],[51,2,51,8],[52,2,52,8],[53,2,53,8],[56,2,56,8],[57,2,57,8],[58,2,58,8],[59,2,59,8],[60,2,60,8],[51,9,51,10],[52,9,52,10],[53,9,53,10],[56,9,56,10],[58,14,58,15],[56,12,56,13],[56,14,56,15],[57,12,57,13],[57,14,57,15],[52,14,52,15],[97,1,97,16],[67,1,67,16],[68,1,68,16],[73,1,73,16],[78,1,78,16],[79,1,79,16],[85,1,85,16],[59,12,59,13],[59,14,59,15],[60,12,60,13],[60,14,60,15],[53,12,53,13],[53,14,53,15],[91,1,91,16],[92,1,92,16],[51,12,51,13],[51,14,51,15],[49,12,49,13],[49,14,49,15],[50,12,50,13],[50,14,50,15],[49,9,49,10],[50,9,50,10],[45,12,45,13],[45,14,45,15],[46,12,46,13],[46,14,46,15],[45,9,45,10],[46,9,46,10],[46,2,46,8],[43,12,43,13],[43,14,43,15],[44,12,44,13],[44,14,44,15],[41,12,41,13],[41,14,41,15],[42,12,42,13],[42,14,42,15],[0,1,6,3],[13,2,13,5],[11,15,12,15],[11,6,11,7],[11,12,12,12],[11,13,12,13],[11,14,12,14],[8,1,8,16],[0,4,1,13],[2,4,3,13],[4,4,4,13],[36,9,36,11]]}
[null,null,null,null,{"$f":"'1-COVER SHEET'!F1","v":"Tabriz Petrochemical Company"},null,null,null,null,null,null,null,null,null,"Contractor/Vendor Logo"]
[]
[null,null,null,null,{"$f":"'1-COVER SHEET'!F3","v":"310 KTPA HDPE Plant"}]
[]
[null,null,null,null,"DOCUMENT TITLE:",null,null,null,null,null,null,null,null,null,"Vendor Name :"]
[null,null,null,null,"Monthly/Weekly Progress Report",null,null,null,null,null,null,null,null,null,{"$f":"'1-COVER SHEET'!L6","v":"XXXXX Co."}]
[null,null,null,null,"Executive Summary",null,null,null,null,null,null,null,null,null,"PO. No.:",{"$f":"'1-COVER SHEET'!M7","v":"XXXXXX"}]
[]
[null,"Executive Summary"]
[]
[]
[null,null,null,null,null,null,"% Progress",null,null,"Finish Date",null,null,"Total No. of Docs","Total No. of Issued","Total No. of Code3","Total No. of AP/AN/NC"]
[null,null,null,null,null,null,"Planned","Actual",null,"Planned","Forecasted"]
[null,null,"Project Overall Status",null,null,null,{"$f":"'5-PMS'!$S$10","v":0},{"$f":"'5-PMS'!$T$10","v":0},null,{"$f":"'5-PMS'!$L$10","v":"2022-04-05T11:43:44"},null,null,{"$f":"COUNTA('8-Document Status Report (MDR)'!$B11:$B1560)","v":77},{"$f":"COUNTIFS('8-Document Status Report (MDR)'!$M11:$M1560,\">0\",'8-Document Status Report (MDR)'!$B11:$B1560,\"<>\")","v":10},{"$f":"COUNTIF('8-Document Status Report (MDR)'!$O11:$O1560,\"Code3\")","v":2},{"$f":"COUNTIF('8-Document Status Report (MDR)'!$O11:$O1560,\"Code1\")+COUNTIF('8-Document Status Report (MDR)'!$O11:$O1560,\"Code2\")+COUNTIF('8-Document Status Report (MDR)'!$O11:$O1560,\"Code5\")","v":4}]
[]
[]
[null,"1. Major Activities/Main Documents performed/issued in the Period :"]
[]
[]
[]
[]
[]
[]
[]
[]
[null,"2. Major Activities/Main Documents planned for the Next Period :"]
[]
[]
[]
[]
[]
[]
[]
[]
[]
[null,"3. Technical Queries to be settled with EIED"]
[null,null,null,null,null,null,null,"This Period",null,"Cumulative Up to NOW"]
[null,null,null,null,null,null,null,"No. of TQs",null,"Total No. of TQs","No. of Open TQs","No. of Closed TQs"]
[]
[]
[null,"4. Technical Open Items to be settled with EIED:"]
[null,null,"Open Items",null,null,null,null,null,null,"Notice Date",null,null,"Letter/Fax No.",null,"Due Date"]
[]
[]
[]
[]
[]
[]
[null,"5. Area of Concerns which may affect on quality of the Product or delivery schedule:"]
[null,null,"Area of Concerns",null,null,null,null,null,null,"Notice Date",null,null,"Time/Cost/Quality Impacts",null,"Due Date"]
[]
[]
[]
[]
[]
[null,"6. Urgent necessity for Information or approving documents by EIED:"]
[null,null,"Urgent Information/Documents",null,null,null,null,null,null,"Notice Date",null,null,"Letter/Fax No.",null,"Due Date"]
[]
[]
[]
[]
[]
[]
[]
[]
[null,"7. Reason of Delays with relative Remedial Actions"]
[]
[null,"7.1 Engineering :"]
[null,"7.1.1 Major reasons of Delays :"]
[]
[]
[]
[]
[null,"7.1.2 Corrective Actions :"]
[]
[]
[]
[]
[null,"7.2 Procurement and Supply of RAW Materials:"]
[null,"7.2.1 Major reasons of Delays :"]
[]
[]
[]
[]
[]
[null,"7.2.2 Corrective Actions :"]
[]
[]
[]
[]
[]
[null,"7.3 Manufacturing and Delivery :"]
[null,"7.3.1 Major reasons of Delays :"]
[]
[]
[]
[]
[null,"7.3.2 Corrective Actions :"]

{"sheet":"5-PMS","index":4,"n_rows":192,"n_cols":26,"rows_kept":192,"cut":false,"hidden":false,"merged":[[7,10,7,11],[7,12,7,13],[7,23,7,25],[0,16,3,20],[4,16,4,20],[5,16,5,20],[6,16,6,20],[0,0,6,5],[6,6,6,15],[0,6,1,15],[2,6,3,15],[4,6,4,15],[5,6,5,15]]}
[null,null,null,null,null,null,{"$f":"'1-COVER SHEET'!F1","v":"Tabriz Petrochemical Company"},null,null,null,null,null,null,null,null,null,"Contractor/Vendor Logo"]
[]
[null,null,null,null,null,null,{"$f":"'1-COVER SHEET'!F3","v":"310 KTPA HDPE Plant"}]
[]
[null,null,null,null,null,null,"DOCUMENT TITLE:",null,null,null,null,null,null,null,null,null,"Vendor Name :"]
[null,null,null,null,null,null,"Monthly/Weekly Progress Report",null,null,null,null,null,null,null,null,null,{"$f":"'1-COVER SHEET'!L6","v":"XXXXX Co."}]
[null,null,null,null,null,null,"Project Progress Status",null,null,null,null,null,null,null,null,null,"PO. No.:",{"$f":"'1-COVER SHEET'!M7","v":"XXXXXX"}]
[null,null,null,null,null,null,"Project Progress Status",null,null,null,"Plan Dates",null,"Actual Dates",null," Last Period Cumulative Progess",null,"This Period Progess",null,"Cumulative Progess\nup to NOW",null,null,null,"Doc No.","Delay Analysis"]
["Project","Level No.","Phase","Sub-phase","Work Package","Activity ID","Activity Title","WBS Category","Weight in Overall",null,"Basline Start Date","Basline Finish Date","Actual Start Date","Actual Finish Date"," Planned Progress"," Actual Progress","Planned Progress","Actual Progress"," Planned Progress"," Actual Progress","Variance",null,"Engineering","Delay Responsible Party","Status","Reason of Delay"]
[0,0,null,null,"Project Name",null,null,null,{"$f":"SUMIFS(I11:I192,$F11:$F192,\"<>\")","v":0.66450000000000042},null,{"$f":"_xlfn.MINIFS(K11:K192,$F11:$F192,\"<>\")","v":"00:00:00"},{"$f":"_xlfn.MAXIFS(L11:L192,$F11:$F192,\"<>\")","v":"2022-04-05T11:43:44"},{"$f":"_xlfn.MINIFS(M11:M192,$F11:$F192,\"<>\")","v":"00:00:00"},{"$f":"IF(COUNTBLANK(N11:N192)=0,_xlfn.MAXIFS(N11:N192,$F11:$F192,\"<>\"),0)","v":"00:00:00"},null,null,{"$f":"S10-O10","v":0},{"$f":"T10-P10","v":0},{"$f":"IF($I$10>0,SUMPRODUCT(--($F11:$F192>0),$I11:$I192,S11:S192)/$I$10,0)","v":0},{"$f":"IF($I$10>0,SUMPRODUCT(--($F11:$F192>0),$I11:$I192,T11:T192)/$I$10,0)","v":0},{"$f":"T10-S10","v":0}]
[null,1,"Project Management and Control",null,null,null,null,"PHASE",{"$f":"SUMIFS(I12:I28,$F12:$F28,\"<>\")","v":6.0000000000000001E-3},null,{"$f":"_xlfn.MINIFS(K12:K27,$F12:$F27,\"<>\")","v":"2022-04-04T11:43:44.243"},{"$f":"_xlfn.MAXIFS(L12:L27,$F12:$F27,\"<>\")","v":"2022-04-05T11:43:44"},{"$f":"_xlfn.MINIFS(M12:M27,$F12:$F27,\"<>\")","v":"00:00:00"},{"$f":"IF(COUNTBLANK(N12:N27)=0,_xlfn.MAXIFS(N12:N27,$F12:$F27,\"<>\"),0)","v":"00:00:00"},null,null,{"$f":"S11-O11","v":0},0,{"$f":"IF($I$11>0,SUMPRODUCT(--($F12:$F28>0),$I12:$I28,S12:S28)/$I$11,0)","v":0},{"$f":"IF($I$11>0,SUMPRODUCT(--($F12:$F28>0),$I12:$I28,T12:T28)/$I$11,0)","v":0},{"$f":"T11-S11","v":0}]
[null,2,1.1000000000000001,"Milestones",null,null,null,"MLS",{"$f":"SUMIFS(I13:I19,$F13:$F19,\"<>\")","v":0},null,{"$f":"_xlfn.MINIFS(K14:K19,$F14:$F19,\"<>\")","v":"2022-04-04T11:43:44.243"},{"$f":"_xlfn.MAXIFS(L14:L19,$F14:$F19,\"<>\")","v":"2022-04-05T11:43:44"},{"$f":"_xlfn.MINIFS(M14:M19,$F14:$F19,\"<>\")","v":"00:00:00"},{"$f":"IF(COUNTBLANK(N14:N19)=0,_xlfn.MAXIFS(N14:N19,$F14:$F19,\"<>\"),0)","v":"00:00:00"},null,null,0,0,{"$f":"IF($I$12>0,SUMPRODUCT(--($F13:$F19>0),$I13:$I19,S13:S19)/$I$12,0)","v":0},{"$f":"IF($I$12>0,SUMPRODUCT(--($F13:$F19>0),$I13:$I19,T13:T19)/$I$12,0)","v":0},0]
[null,3,"1.1.1",null,"Key Milestones",null,null,"MLS",{"$f":"SUMIFS(I14:I19,$F14:$F19,\"<>\")","v":0},null,{"$f":"_xlfn.MINIFS(K14:K19,$F14:$F19,\"<>\")","v":"2022-04-04T11:43:44.243"},{"$f":"IF(COUNTBLANK(L14:L19)=0,_xlfn.MAXIFS(L14:L19,$F14:$F19,\"<>\"),0)","v":"00:00:00"},{"$f":"_xlfn.MINIFS(M14:M19,$F14:$F19,\"<>\")","v":"00:00:00"},{"$f":"IF(COUNTBLANK(N14:N19)=0,_xlfn.MAXIFS(N14:N19,$F14:$F19,\"<>\"),0)","v":"00:00:00"},null,null,0,0,{"$f":"IF($I$13>0,SUMPRODUCT(--($F14:$F19>0),$I14:$I19,S14:S19)/$I$13,0)","v":0},{"$f":"IF($I$13>0,SUMPRODUCT(--($F14:$F19>0),$I14:$I19,T14:T19)/$I$13,0)","v":0},0]
[null,4,null,null,null,"GN.MLS.0001","PO Sign Date","MLS",0,null,"2022-04-04T11:43:44.243","2022-04-05T11:43:44",null,null,null,null,0,0,null,null,0]
[null,4,null,null,null,"GN.MLS.0002","Kick-off Meeting","MLS",0,null,null,null,null,null,null,null,0,0,null,null,0]
[null,4,null,null,null,"GN.MLS.0003","Receiving Advanced Payment","MLS",0,null,null,null,null,null,null,null,0,0,null,null,0]
[null,4,null,null,null,"GN.MLS.0004","Project Start","MLS",0,null,null,null,null,null,null,null,0,0,null,null,0]
[null,4,null,null,null,"GN.MLS.0005","PIM","MLS",0,null,null,null,null,null,null,null,0,0,null,null,0]
[null,4,null,null,null,"GN.MLS.0006","Project Finish","MLS",0,null,null,null,null,null,null,null,0,0,null,null,0]
[null,2,1.2,"General and Control Documents",null,null,null,"Doc Type",{"$f":"SUMIFS(I21:I27,$F21:$F27,\"<>\")","v":6.0000000000000001E-3},null,{"$f":"_xlfn.MINIFS(K21:K27,$F21:$F27,\"<>\")","v":"00:00:00"},{"$f":"_xlfn.MAXIFS(L21:L27,$F21:$F27,\"<>\")","v":"00:00:00"},{"$f":"_xlfn.MINIFS(M21:M27,$F21:$F27,\"<>\")","v":"00:00:00"},{"$f":"IF(COUNTBLANK(N21:N27)=0,_xlfn.MAXIFS(N21:N27,$F21:$F27,\"<>\"),0)","v":"00:00:00"},null,null,0,0,{"$f":"IF($I$20>0,SUMPRODUCT(--($F21:$F27>0),$I21:$I27,S21:S27)/$I$20,0)","v":0},{"$f":"IF($I$20>0,SUMPRODUCT(--($F21:$F27>0),$I21:$I27,T21:T27)/$I$20,0)","v":0},0]
[null,3,"1.2.1",null,"General Documents",null,null,"Doc Type",{"$f":"SUMIFS(I22:I27,$F22:$F27,\"<>\")","v":6.0000000000000001E-3},null,{"$f":"_xlfn.MINIFS(K22:K27,$F22:$F27,\"<>\")","v":"00:00:00"},{"$f":"_xlfn.MAXIFS(L22:L27,$F22:$F27,\"<>\")","v":"00:00:00"},{"$f":"_xlfn.MINIFS(M22:M27,$F22:$F27,\"<>\")","v":"00:00:00"},{"$f":"IF(COUNTBLANK(N22:N27)=0,_xlfn.MAXIFS(N22:N27,$F22:$F27,\"<>\"),0)","v":"00:00:00"},null,null,0,0,{"$f":"IF($I$21>0,SUMPRODUCT(--($F22:$F27>0),$I22:$I27,S22:S27)/$I$21,0)","v":0},{"$f":"IF($I$21>0,SUMPRODUCT(--($F22:$F27>0),$I22:$I27,T22:T27)/$I$21,0)","v":0},0]
[null,4,null,null,null,"GN.WBS.0011","WBS ","Activity",1E-3,null,null,null,null,null,null,null,0,0,null,null,0]
[null,4,null,null,null,"GN.SCH.0011","Detail Time Schedule ","Activity",2E-3,null,null,null,null,null,null,null,0,0,null,null,0]
[null,4,null,null,null,"GN.LST.0021","Final Book Index ","Activity",1E-3,null,null,null,null,null,null,null,0,0,null,null,0]
[null,4,null,null,null,"GN.LST.0031","Sub-Vendor List ","Activity",1E-3,null,null,null,null,null,null,null,0,0,null,null,0]
[null,4,null,null,null,"GN.LST.0041","Spare Part List ","Activity",5.0000000000000001E-4,null,null,null,null,null,null,null,{"$f":"S26-O26","v":0},{"$f":"T26-P26","v":0},null,null,0]
[null,4,null,null,null,"GN.PRC.0011","Packing, Marking And Shipping Procedure ","Activity",5.0000000000000001E-4,null,null,null,null,null,null,null,0,0,null,null,0]
[null,1,"Engineering",null,null,null,null,"PHASE",{"$f":"SUMIFS(I29:I64,$F29:$F64,\"<>\")","v":6.000000000000001E-3},null,{"$f":"_xlfn.MINIFS(K29:K64,$F29:$F64,\"<>\")","v":"00:00:00"},{"$f":"_xlfn.MAXIFS(L29:L64,$F29:$F64,\"<>\")","v":"00:00:00"},{"$f":"_xlfn.MINIFS(M29:M64,$F29:$F64,\"<>\",M29:M64,\">0\")","v":"2022-04-04T11:43:44.243"},{"$f":"IF(COUNTBLANK(N29:N64)=0,_xlfn.MAXIFS(N29:N64,$F29:$F64,\"<>\",N29:N64,\">0\"),0)","v":"00:00:00"},null,null,0,0,{"$f":"IF($I$28>0,SUMPRODUCT(--($F29:$F64>0),$I29:$I64,S29:S64)/$I$28,0)","v":0},{"$f":"IF($I$28>0,SUMPRODUCT(--($F29:$F64>0),$I29:$I64,T29:T64)/$I$28,0)","v":0},0]
[null,2,2.1,"Engineering Common Docs (Related to All Tags)",null,null,null,"Priority",{"$f":"SUMIFS(I30:I37,$F30:$F37,\"<>\")","v":6.000000000000001E-3},null,{"$f":"_xlfn.MINIFS(K30:K37,G30:G37,\"<>\")","v":"00:00:00"},{"$f":"_xlfn.MAXIFS(L30:L37,G30:G37,\"<>\")","v":"00:00:00"},{"$f":"_xlfn.MINIFS(M30:M37,F30:F37,\"<>\")","v":"00:00:00"},{"$f":"IF(COUNTBLANK(N30:N37)=0,_xlfn.MAXIFS(N30:N37,$F30:$F37,\"<>\",N30:N37,\">0\"),0)","v":"00:00:00"},null,null,{"$f":"S29-O29","v":0},{"$f":"T29-P29","v":0},{"$f":"IF($I$38>0,SUMPRODUCT(--($F30:$F37>0),$I30:$I37,S30:S37)/$I$38,0)","v":0},{"$f":"IF($I$38>0,SUMPRODUCT(--($F30:$F37>0),$I30:$I37,T30:T37)/$I$38,0)","v":0},0]
[null,3,"2.1.1",null,"Common Documents ( Such as Procedures, Specifications, Reports, WQR, WPS, PQR …)",null,null,"Doc Type",{"$f":"SUMIFS(I31:I37,$F31:$F37,\"<>\")","v":6.000000000000001E-3},null,{"$f":"_xlfn.MAXIFS(K31:K37,$F31:$F37,\"<>\")","v":"00:00:00"},{"$f":"_xlfn.MAXIFS(L31:L37,$F31:$F37,\"<>\")","v":"00:00:00"},{"$f":"_xlfn.MINIFS(M31:M37,$F31:$F37,\"<>\",M31:M37,\">0\")","v":"2022-04-04T11:43:44.243"},{"$f":"IF(_xlfn.MAXIFS(N31:N37,$F31:$F37,\"<>\",N31:N37,\">0\"),0)","v":"00:00:00"},null,null,0,0,{"$f":"IF($I$39>0,SUMPRODUCT(--($F31:$F37>0),$I31:$I37,S31:S37)/$I$39,0)","v":0},{"$f":"IF($I$39>0,SUMPRODUCT(--($F31:$F37>0),$I31:$I37,T31:T37)/$I$39,0)","v":0},0]
[null,4,null,null,null,"EN.LST.0111","VPIS ","Activity",1E-3,null,null,null,{"$f":"IFERROR((VLOOKUP(W31,'8-Document Status Report (MDR)'!$A$12:$I$88,8,FALSE)),\"\")","v":"2022-04-04T11:43:44.243"},{"$f":"IFERROR((VLOOKUP(W31,'8-Document Status Report (MDR)'!$A$12:$I$88,9,FALSE)),\"\")","v":"2022-04-04T11:43:44.243"},null,null,0,0,null,null,0,null,"HDPE-16-VD-5002-GN-LST-0001"]
[null,4,null,null,null,"EN.PRC.0111","Fabrication Procedures ","Activity",1E-3,null,{"$f":"IFERROR((VLOOKUP(W32,'8-Document Status Report (MDR)'!$A$12:$I$88,6,FALSE)),\"\")","v":"00:00:00"},null,{"$f":"IFERROR((VLOOKUP(W32,'8-Document Status Report (MDR)'!$A$12:$I$88,8,FALSE)),\"\")","v":"00:00:00"},{"$f":"IFERROR((VLOOKUP(W32,'8-Document Status Report (MDR)'!$A$12:$I$88,9,FALSE)),\"\")","v":"2022-04-04T11:43:44.243"},null,null,0,0,null,null,0,null,"HDPE-16-VD-5002-GN-WBS-0001"]
[null,4,null,null,null,"EN.PRC.0121","Quality Control Procedure ","Activity",1E-3,null,{"$f":"IFERROR((VLOOKUP(W33,'8-Document Status Report (MDR)'!$A$12:$I$88,6,FALSE)),\"\")","v":"00:00:00"},null,{"$f":"IFERROR((VLOOKUP(W33,'8-Document Status Report (MDR)'!$A$12:$I$88,8,FALSE)),\"\")","v":"00:00:00"},{"$f":"IFERROR((VLOOKUP(W33,'8-Document Status Report (MDR)'!$A$12:$I$88,9,FALSE)),\"\")","v":"2022-04-04T11:43:44.243"},null,null,{"$f":"S33-O33","v":0},{"$f":"T33-P33","v":0},null,null,0,null,"HDPE-16-VD-5002-GN-SCH-0001"]
[null,4,null,null,null,"EN.PRC.0131","Inspection and Test Plan ","Activity",1E-3,null,{"$f":"IFERROR((VLOOKUP(W34,'8-Document Status Report (MDR)'!$A$12:$I$88,6,FALSE)),\"\")","v":"00:00:00"},null,{"$f":"IFERROR((VLOOKUP(W34,'8-Document Status Report (MDR)'!$A$12:$I$88,8,FALSE)),\"\")","v":"00:00:00"},{"$f":"IFERROR((VLOOKUP(W34,'8-Document Status Report (MDR)'!$A$12:$I$88,9,FALSE)),\"\")","v":"2022-04-04T11:43:44.243"},null,null,0,0,null,null,0,null,"HDPE-16-VD-5002-ME-DWG-0031"]
[null,4,null,null,null,"EN.PRC.0141","N.D.E Procedure ","Activity",5.0000000000000001E-4,null,{"$f":"IFERROR((VLOOKUP(W35,'8-Document Status Report (MDR)'!$A$12:$I$88,6,FALSE)),\"\")","v":"00:00:00"},null,{"$f":"IFERROR((VLOOKUP(W35,'8-Document Status Report (MDR)'!$A$12:$I$88,8,FALSE)),\"\")","v":"00:00:00"},{"$f":"IFERROR((VLOOKUP(W35,'8-Document Status Report (MDR)'!$A$12:$I$88,9,FALSE)),\"\")","v":"2022-04-04T11:43:44.243"},null,null,{"$f":"S35-O35","v":0},{"$f":"T35-P35","v":0},null,null,0,null,"HDPE-16-VD-5002-ME-DWG-0043"]
[null,4,null,null,null,"EN.SPC.0011","Welding Procedure Specification Related to All Tags ","Activity",5.0000000000000001E-4,null,null,null,{"$f":"IFERROR((VLOOKUP(W36,'8-Document Status Report (MDR)'!$A$12:$I$88,8,FALSE)),\"\")","v":""},{"$f":"IFERROR((VLOOKUP(W36,'8-Document Status Report (MDR)'!$A$12:$I$88,9,FALSE)),\"\")","v":""},null,null,0,0,null,null,0]
[null,4,null,null,null,"EN.WQR.0021","Welder Qualification Records (WQR) ","Activity",1E-3,null,null,null,{"$f":"IFERROR((VLOOKUP(W37,'8-Document Status Report (MDR)'!$A$12:$I$88,8,FALSE)),\"\")","v":""},{"$f":"IFERROR((VLOOKUP(W37,'8-Document Status Report (MDR)'!$A$12:$I$88,9,FALSE)),\"\")","v":""},null,null,{"$f":"S37-O37","v":0},{"$f":"T37-P37","v":0},null,null,0]
[null,2,2.2000000000000002,"Priority I  (Tag XXX, Tag ZZZ)",null,null,null,"Priority",{"$f":"SUMIFS(I39:I47,$F39:$F47,\"<>\")","v":0},null,{"$f":"_xlfn.MINIFS(K39:K45,$F39:$F45,\"<>\",K39:K45,\">0\")","v":"00:00:00"},{"$f":"_xlfn.MAXIFS(L39:L47,G39:G47,\"<>\")","v":"00:00:00"},{"$f":"_xlfn.MINIFS(M39:M47,$F39:$F47,\"<>\",M39:M47,\">0\")","v":"00:00:00"},{"$f":"IF(COUNTBLANK(N39:N47)=0,_xlfn.MAXIFS(N39:N47,F39:F47,\"<>\"),0)","v":"00:00:00"},null,null,0,0,{"$f":"IF($I$38>0,SUMPRODUCT(--($F39:$F47>0),$I39:$I47,S39:S47)/$I$38,0)","v":0},{"$f":"IF($I$38>0,SUMPRODUCT(--($F39:$F47>0),$I39:$I47,T39:T47)/$I$38,0)","v":0},0]
[null,3,"2.2.1",null,"Data Sheets",null,null,"Doc Type",{"$f":"SUMIFS(I40:I41,$F40:$F41,\"<>\")","v":0},null,{"$f":"_xlfn.MINIFS(K40:K41,$F40:$F41,\"<>\",K40:K41,\">0\")","v":"00:00:00"},{"$f":"_xlfn.MAXIFS(L40:L41,$F40:$F41,\"<>\")","v":"00:00:00"},{"$f":"_xlfn.MINIFS(M40:M41,$F40:$F41,\"<>\",M40:M41,\">0\")","v":"00:00:00"},{"$f":"IF(COUNTBLANK(N40:N41)=0,_xlfn.MAXIFS(N40:N41,$F40:$F41,\"<>\",N40:N41,\">0\"),0)","v":"00:00:00"},null,null,0,0,{"$f":"IF($I$39>0,SUMPRODUCT(--($F40:$F41>0),$I40:$I41,S40:S41)/$I$39,0)","v":0},{"$f":"IF($I$39>0,SUMPRODUCT(--($F40:$F41>0),$I40:$I41,T40:T41)/$I$39,0)","v":0},0]
[null,4,null,null,null,"EN.DSH.1011","Data Sheet for Tag XXX ","Activity",null,null,null,null,null,{"$f":"IFERROR((VLOOKUP(W40,'8-Document Status Report (MDR)'!$A$12:$I$88,9,FALSE)),\"\")","v":""},null,null,0,0,null,null,0]
[null,4,null,null,null,"EN.DSH.1021","Data Sheet for Tag ZZZ ","Activity",null,null,null,null,null,{"$f":"IFERROR((VLOOKUP(W41,'8-Document Status Report (MDR)'!$A$12:$I$88,9,FALSE)),\"\")","v":""},null,null,0,0,null,null,0]
[null,3,"2.2.2",null,"Calculations",null,null,"Doc Type",{"$f":"SUMIFS(I43:I44,$F43:$F44,\"<>\")","v":0},null,{"$f":"_xlfn.MINIFS(K43:K44,$F43:$F44,\"<>\",K43:K44,\">0\")","v":"00:00:00"},{"$f":"_xlfn.MAXIFS(L43:L44,$F43:$F44,\"<>\")","v":"00:00:00"},{"$f":"_xlfn.MINIFS(M43:M44,$F43:$F44,\"<>\",M43:M44,\">0\")","v":"00:00:00"},{"$f":"IF(COUNTBLANK($N$43:$N$44)=0,_xlfn.MAXIFS($N$43:$N$44,$F43:$F44,\"<>\",$N$43:$N$44,\">0\"),0)","v":"00:00:00"},null,null,{"$f":"S42-O42","v":0},{"$f":"T42-P42","v":0},{"$f":"IF($I$39>0,SUMPRODUCT(--($F43:$F44>0),$I43:$I44,S43:S44)/$I$39,0)","v":0},{"$f":"IF($I$39>0,SUMPRODUCT(--($F43:$F44>0),$I43:$I44,T43:T44)/$I$39,0)","v":0},0]
[null,4,null,null,null,"EN.CAL.1011","Calculation sheet for Tag XXX ","Activity",null,null,null,null,null,{"$f":"IFERROR((VLOOKUP(W43,'8-Document Status Report (MDR)'!$A$12:$I$88,9,FALSE)),\"\")","v":""},null,null,0,0,null,null,0]
[null,4,null,null,null,"EN.CAL.1021","Calculation sheet for Tag ZZZ ","Activity",null,null,null,null,null,{"$f":"IFERROR((VLOOKUP(W44,'8-Document Status Report (MDR)'!$A$12:$I$88,9,FALSE)),\"\")","v":""},null,null,0,0,null,null,0]
[null,3,"2.2.3",null,"Drawings",null,null,"Doc Type",{"$f":"SUMIFS(I46:I47,$F46:$F47,\"<>\")","v":0},null,{"$f":"_xlfn.MINIFS(K46:K52,$F46:$F52,\"<>\",K46:K52,\">0\")","v":"00:00:00"},{"$f":"_xlfn.MAXIFS(L46:L47,$F46:$F47,\"<>\")","v":"00:00:00"},{"$f":"_xlfn.MINIFS(M46:M47,$F46:$F47,\"<>\",M46:M47,\">0\")","v":"00:00:00"},{"$f":"IF(COUNTBLANK(N46:N47)=0,_xlfn.MAXIFS(N46:N47,$F46:$F47,\"<>\",N46:N47,\">0\"),0)","v":"00:00:00"},null,null,0,0,{"$f":"IF($I$45>0,SUMPRODUCT(--($F46:$F47>0),$I46:$I47,S46:S47)/$I$45,0)","v":0},{"$f":"IF($I$45>0,SUMPRODUCT(--($F46:$F47>0),$I46:$I47,T46:T47)/$I$45,0)","v":0},0]
[null,4,null,null,null,"EN.GNA.1011","General Arrangement for Tag XXX ","Activity",null,null,null,null,null,{"$f":"IFERROR((VLOOKUP(W46,'8-Document Status Report (MDR)'!$A$12:$I$88,9,FALSE)),\"\")","v":""},null,null,0,0,null,null,0]
[null,4,null,null,null,"EN.GNA.1021","General Arrangement for Tag ZZZ ","Activity",null,null,null,null,null,{"$f":"IFERROR((VLOOKUP(W47,'8-Document Status Report (MDR)'!$A$12:$I$88,9,FALSE)),\"\")","v":""},null,null,0,0,null,null,0]
[null,2,2.2999999999999998,"Priority II (Tag WWW, Tag YYY)",null,null,null,"Priority",{"$f":"SUMIFS(I49:I57,$F49:$F57,\"<>\")","v":0},null,{"$f":"_xlfn.MINIFS(K49:K55,$F49:$F55,\"<>\",K49:K55,\">0\")","v":"00:00:00"},{"$f":"_xlfn.MAXIFS(L49:L57,G49:G57,\"<>\")","v":"00:00:00"},{"$f":"_xlfn.MINIFS(M49:M57,$F49:$F57,\"<>\",M49:M57,\">0\")","v":"00:00:00"},{"$f":"IF(COUNTBLANK(N49:N57)=0,_xlfn.MAXIFS(N49:N57,A49:A57,\"<>\"),0)","v":"00:00:00"},null,null,0,0,{"$f":"IF($I$48>0,SUMPRODUCT(--($F49:$F57>0),$I49:$I57,S49:S57)/$I$48,0)","v":0},{"$f":"IF($I$48>0,SUMPRODUCT(--($F49:$F57>0),$I49:$I57,T49:T57)/$I$48,0)","v":0},0]
[null,3,"2.3.1",null,"Data Sheets",null,null,"Doc Type",{"$f":"SUMIFS(I50:I51,$F50:$F51,\"<>\")","v":0},null,{"$f":"_xlfn.MINIFS(K50:K51,$F50:$F51,\"<>\")","v":"00:00:00"},{"$f":"_xlfn.MAXIFS(L50:L51,$F50:$F51,\"<>\")","v":"00:00:00"},{"$f":"_xlfn.MINIFS(M50:M51,$F50:$F51,\"<>\",M50:M51,\">0\")","v":"00:00:00"},{"$f":"IF(COUNTBLANK(N50:N51)=0,_xlfn.MAXIFS(N50:N51,$F50:$F51,\"<>\"),0)","v":"00:00:00"},null,null,0,0,{"$f":"IF($I$49>0,SUMPRODUCT(--($F50:$F51>0),$I50:$I51,S50:S51)/$I$49,0)","v":0},{"$f":"IF($I$49>0,SUMPRODUCT(--($F50:$F51>0),$I50:$I51,T50:T51)/$I$49,0)","v":0},0]
[null,4,null,null,null,"EN.DSH.2011","Data Sheet for Tag WWW ","Activity",null,null,null,null,null,{"$f":"IFERROR((VLOOKUP(W50,'8-Document Status Report (MDR)'!$A$12:$I$88,9,FALSE)),\"\")","v":""},null,null,0,0,null,null,0]
[null,4,null,null,null,"EN.DSH.2021","Data Sheet for Tag YYY ","Activity",null,null,null,null,null,{"$f":"IFERROR((VLOOKUP(W51,'8-Document Status Report (MDR)'!$A$12:$I$88,9,FALSE)),\"\")","v":""},null,null,0,0,null,null,0]
[null,3,"2.3.2",null,"Calculations",null,null,"Doc Type",{"$f":"SUMIFS(I53:I54,$F53:$F54,\"<>\")","v":0},null,{"$f":"_xlfn.MINIFS(K53:K54,$F53:$F54,\"<>\")","v":"00:00:00"},{"$f":"_xlfn.MAXIFS(L53:L54,$F53:$F54,\"<>\")","v":"00:00:00"},{"$f":"_xlfn.MINIFS(M53:M54,$F53:$F54,\"<>\",M53:M54,\">0\")","v":"00:00:00"},{"$f":"IF(COUNTBLANK($N$53:$N$54)=0,_xlfn.MAXIFS($N$53:$N$54,$F53:$F54,\"<>\"),0)","v":"00:00:00"},null,null,{"$f":"S52-O52","v":0},{"$f":"T52-P52","v":0},{"$f":"IF($I$49>0,SUMPRODUCT(--($F53:$F54>0),$I53:$I54,S53:S54)/$I$49,0)","v":0},{"$f":"IF($I$49>0,SUMPRODUCT(--($F53:$F54>0),$I53:$I54,T53:T54)/$I$49,0)","v":0},0]
[null,4,null,null,null,"EN.CAL.2011","Calculation sheet for Tag WWW ","Activity",null,null,null,null,null,{"$f":"IFERROR((VLOOKUP(W53,'8-Document Status Report (MDR)'!$A$12:$I$88,9,FALSE)),\"\")","v":""},null,null,0,0,null,null,0]
[null,4,null,null,null,"EN.CAL.2021","Calculation sheet for Tag YYY ","Activity",null,null,null,null,null,{"$f":"IFERROR((VLOOKUP(W54,'8-Document Status Report (MDR)'!$A$12:$I$88,9,FALSE)),\"\")","v":""},null,null,0,0,null,null,0]
[null,3,"2.3.3",null,"Drawings",null,null,"Doc Type",{"$f":"SUMIFS(I56:I57,$F56:$F57,\"<>\")","v":0},null,{"$f":"_xlfn.MINIFS(K56:K57,$F56:$F57,\"<>\")","v":"00:00:00"},{"$f":"_xlfn.MAXIFS(L56:L57,$F56:$F57,\"<>\")","v":"00:00:00"},{"$f":"_xlfn.MINIFS(M56:M57,$F56:$F57,\"<>\",M56:M57,\">0\")","v":"00:00:00"},{"$f":"IF(COUNTBLANK(N56:N57)=0,_xlfn.MAXIFS(N56:N57,$F56:$F57,\"<>\"),0)","v":"00:00:00"},null,null,0,0,{"$f":"IF($I$55>0,SUMPRODUCT(--($F56:$F57>0),$I56:$I57,S56:S57)/$I$55,0)","v":0},{"$f":"IF($I$55>0,SUMPRODUCT(--($F56:$F57>0),$I56:$I57,T56:T57)/$I$55,0)","v":0},0]
[null,4,null,null,null,"EN.GNA.2011","General Arrangement for Tag WWW","Activity",null,null,null,null,null,{"$f":"IFERROR((VLOOKUP(W56,'8-Document Status Report (MDR)'!$A$12:$I$88,9,FALSE)),\"\")","v":""},null,null,0,0,null,null,0]
[null,4,null,null,null,"EN.GNA.2021","General Arrangement for Tag YYY ","Activity",null,null,null,null,null,{"$f":"IFERROR((VLOOKUP(W57,'8-Document Status Report (MDR)'!$A$12:$I$88,9,FALSE)),\"\")","v":""},null,null,0,0,null,null,0]
[null,2,2.4,"Priority III (Tag PPP, Tag GGG, Tag SSS)",null,null,null,"Priority",{"$f":"SUMIFS(I59:I64,$F59:$F64,\"<>\")","v":0},null,{"$f":"_xlfn.MINIFS(K59:K64,G59:G64,\"<>\")","v":"00:00:00"},{"$f":"_xlfn.MAXIFS(L59:L64,G59:G64,\"<>\")","v":"00:00:00"},{"$f":"_xlfn.MINIFS(M59:M64,$F59:$F64,\"<>\",M59:M64,\">0\")","v":"00:00:00"},{"$f":"IF(COUNTBLANK(N59:N64)=0,_xlfn.MAXIFS(N59:N64,$F59:$F64,\"<>\"),0)","v":"00:00:00"},null,null,{"$f":"S58-O58","v":0},0,{"$f":"IF($I$58>0,SUMPRODUCT(--($F59:$F64>0),$I59:$I64,S59:S64)/$I$58,0)","v":0},{"$f":"IF($I$58>0,SUMPRODUCT(--($F59:$F64>0),$I59:$I64,T59:T64)/$I$58,0)","v":0},0]
[null,3,"2.4.1",null,"Data Sheets",null,null,"Doc Type",{"$f":"SUMIFS(I60:I60,$F60:$F60,\"<>\")","v":0},null,{"$f":"_xlfn.MINIFS(K60:K60,$F60:$F60,\"<>\")","v":"00:00:00"},{"$f":"_xlfn.MAXIFS(L60:L60,$F60:$F60,\"<>\")","v":"00:00:00"},{"$f":"_xlfn.MINIFS(M60,$F60,\"<>\",M60,\">0\")","v":"00:00:00"},{"$f":"IF(COUNTBLANK(N60)=0,_xlfn.MAXIFS(N60,$F60,\"<>\"),0)","v":"00:00:00"},null,null,{"$f":"S60-O60","v":0},{"$f":"T60-P60","v":0},{"$f":"IF($I$60>0,SUMPRODUCT(--($F60:$F60>0),$I60:$I60,S60:S60)/$I$60,0)","v":0},{"$f":"IF($I$60>0,SUMPRODUCT(--($F60:$F60>0),$I60:$I60,T60:T60)/$I$60,0)","v":0},0]
[null,4,null,null,null,"EN.DSH.3011","Data Sheet for Tag GGG ","Activity",null,null,null,null,null,{"$f":"IFERROR((VLOOKUP(W60,'8-Document Status Report (MDR)'!$A$12:$I$88,9,FALSE)),\"\")","v":""},null,null,0,0,null,null,0]
[null,3,"2.4.2",null,"Data Sheets",null,null,"Doc Type",{"$f":"SUMIFS(I62:I62,$F62:$F62,\"<>\")","v":0},null,{"$f":"_xlfn.MINIFS(K62:K62,$F62:$F62,\"<>\")","v":"00:00:00"},{"$f":"_xlfn.MAXIFS(L62:L62,$F62:$F62,\"<>\")","v":"00:00:00"},{"$f":"_xlfn.MINIFS(M62,$F62,\"<>\",M62,\">0\")","v":"00:00:00"},{"$f":"IF(COUNTBLANK(N62)=0,_xlfn.MAXIFS(N62,$F62,\"<>\"),0)","v":"00:00:00"},null,null,{"$f":"S62-O62","v":0},{"$f":"T62-P62","v":0},{"$f":"IF($I$60>0,SUMPRODUCT(--($F62:$F62>0),$I62:$I62,S62:S62)/$I$60,0)","v":0},{"$f":"IF($I$60>0,SUMPRODUCT(--($F62:$F62>0),$I62:$I62,T62:T62)/$I$60,0)","v":0},0]
[null,4,null,null,null,"EN.CAL.3011","Calculation sheet for Tag GGG ","Activity",null,null,null,null,null,{"$f":"IFERROR((VLOOKUP(W62,'8-Document Status Report (MDR)'!$A$12:$I$88,9,FALSE)),\"\")","v":""},null,null,{"$f":"S62-O62","v":0},{"$f":"T62-P62","v":0},null,null,0]
[null,3,"2.4.3",null,"General Arrangements",null,null,"Doc Type",{"$f":"SUMIFS(I64:I64,$F64:$F64,\"<>\")","v":0},null,{"$f":"_xlfn.MINIFS(K64:K64,$F64:$F64,\"<>\")","v":"00:00:00"},{"$f":"_xlfn.MAXIFS(L64:L64,$F64:$F64,\"<>\")","v":"00:00:00"},{"$f":"_xlfn.MINIFS(M64,$F64,\"<>\",M64,\">0\")","v":"00:00:00"},{"$f":"IF(COUNTBLANK(N64)=0,_xlfn.MAXIFS(N64,$F64,\"<>\"),0)","v":"00:00:00"},null,null,0,0,{"$f":"IF($I$63>0,SUMPRODUCT(--($F64:$F64>0),$I64:$I64,S64:S64)/$I$63,0)","v":0},{"$f":"IF($I$63>0,SUMPRODUCT(--($F64:$F64>0),$I64:$I64,T64:T64)/$I$63,0)","v":0},0]
[null,4,null,null,null,"EN.GNA.3011","General Arrangement for Tag GGG ","Activity",null,null,null,null,null,{"$f":"IFERROR((VLOOKUP(W64,'8-Document Status Report (MDR)'!$A$12:$I$88,9,FALSE)),\"\")","v":""},null,null,{"$f":"S64-O64","v":0},{"$f":"T64-P64","v":0},null,null,0]
[null,1,"Procurement and Supply of Materials (Based on Sub-vendor List)",null,null,null,null,"PHASE",{"$f":"SUMIFS(I66:I80,$F66:$F80,\"<>\")","v":8.249999999999999E-2},null,{"$f":"_xlfn.MINIFS(K66:K80,$F66:$F80,\"<>\")","v":"00:00:00"},{"$f":"_xlfn.MAXIFS(L66:L80,$F66:$F80,\"<>\")","v":"00:00:00"},{"$f":"_xlfn.MINIFS(M66:M80,$F66:$F80,\"<>\")","v":"00:00:00"},{"$f":"IF(COUNTBLANK(N66:N80)=0,_xlfn.MAXIFS(N66:N80,$F66:$F80,\"<>\"),0)","v":"00:00:00"},null,null,0,0,{"$f":"IF($I$10>0,SUMPRODUCT(--($F66:$F80>0),$I66:$I80,S66:S80)/$I$10,0)","v":0},{"$f":"IF($I$10>0,SUMPRODUCT(--($F66:$F80>0),$I66:$I80,T66:T80)/$I$10,0)","v":0},0]
[null,2,3.1,"P.O #01",null,null,null,"P.O",{"$f":"SUMIFS(I67:I70,$F67:$F70,\"<>\")","v":3.7499999999999992E-2},null,{"$f":"_xlfn.MINIFS(K67:K70,G67:G70,\"<>\")","v":"00:00:00"},{"$f":"_xlfn.MAXIFS(L67:L70,G67:G70,\"<>\")","v":"00:00:00"},{"$f":"_xlfn.MINIFS(M67:M70,J67:J70,\"<>\")","v":"00:00:00"},{"$f":"IF(COUNTBLANK(N67:N70)=0,_xlfn.MAXIFS(N67:N70,A67:A70,\"<>\"),0)","v":"00:00:00"},null,null,0,0,{"$f":"IF($I$66>0,SUMPRODUCT(--($F67:$F70>0),$I67:$I70,S67:S70)/$I$66,0)","v":0},{"$f":"IF($I$66>0,SUMPRODUCT(--($F67:$F70>0),$I67:$I70,T67:T70)/$I$66,0)","v":0},0]
[null,3,"3.1.1",null,"(e.g. Raw Material)",null,null,"Material Name",{"$f":"SUMIFS(I68:I71,$F68:$F71,\"<>\")","v":3.7499999999999992E-2},null,{"$f":"_xlfn.MINIFS(K68:K71,$F68:$F71,\"<>\")","v":"00:00:00"},{"$f":"_xlfn.MAXIFS(L68:L71,$F68:$F71,\"<>\")","v":"00:00:00"},{"$f":"_xlfn.MINIFS(M68:M71,$F68:$F71,\"<>\")","v":"00:00:00"},{"$f":"IF(COUNTBLANK(N68:N71)=0,_xlfn.MAXIFS(N68:N71,$F68:$F71,\"<>\"),0)","v":"00:00:00"},null,null,0,0,{"$f":"IF($I$67>0,SUMPRODUCT(--($F68:$F71>0),$I68:$I71,S68:S71)/$I$67,0)","v":0},{"$f":"IF($I$67>0,SUMPRODUCT(--($F68:$F71>0),$I68:$I71,T68:T71)/$I$67,0)","v":0},0]
[null,4,null,null,null,"PC.PO1.1011","Purchase Order Placement","Activity",1.4999999999999998E-2,null,null,null,null,null,null,null,0,0,null,null,0]
[null,4,null,null,null,"PC.PO1.1012","Raw Material Supply/Fabrication","Activity",7.4999999999999989E-3,null,null,null,null,null,null,null,0,0,null,null,0]
[null,4,null,null,null,"PC.PO1.1013","Delivery At Vendor Shop","Activity",1.4999999999999998E-2,null,null,null,null,null,null,null,0,0,null,null,0]
[null,2,3.2,"P.O #02",null,null,null,"P.O",{"$f":"SUMIFS(I72:I75,$F72:$F75,\"<>\")","v":2.5000000000000005E-2},null,{"$f":"_xlfn.MINIFS(K72:K75,G72:G75,\"<>\")","v":"00:00:00"},{"$f":"_xlfn.MAXIFS(L72:L75,G72:G75,\"<>\")","v":"00:00:00"},{"$f":"_xlfn.MINIFS(M72:M75,J72:J75,\"<>\")","v":"00:00:00"},{"$f":"IF(COUNTBLANK(N72:N75)=0,_xlfn.MAXIFS(N72:N75,A72:A75,\"<>\"),0)","v":"00:00:00"},null,null,0,0,{"$f":"IF($I$71>0,SUMPRODUCT(--($F72:$F75>0),$I72:$I75,S72:S75)/$I$71,0)","v":0},{"$f":"IF($I$71>0,SUMPRODUCT(--($F72:$F75>0),$I72:$I75,T72:T75)/$I$71,0)","v":0},0]
[null,3,"3.2.1",null,"(e.g. Driver)",null,null,"Material Name",{"$f":"SUMIFS(I73:I76,$F73:$F76,\"<>\")","v":2.5000000000000005E-2},null,{"$f":"_xlfn.MINIFS(K73:K76,$F73:$F76,\"<>\")","v":"00:00:00"},{"$f":"_xlfn.MAXIFS(L73:L76,$F73:$F76,\"<>\")","v":"00:00:00"},{"$f":"_xlfn.MINIFS(M73:M76,$F73:$F76,\"<>\")","v":"00:00:00"},{"$f":"IF(COUNTBLANK(N73:N76)=0,_xlfn.MAXIFS(N73:N76,$F73:$F76,\"<>\"),0)","v":"00:00:00"},null,null,0,0,{"$f":"IF($I$72>0,SUMPRODUCT(--($F73:$F76>0),$I73:$I76,S73:S76)/$I$72,0)","v":0},{"$f":"IF($I$72>0,SUMPRODUCT(--($F73:$F76>0),$I73:$I76,T73:T76)/$I$72,0)","v":0},0]
[null,4,null,null,null,"PC.PO2.2011","Purchase Order Placement","Activity",1.0000000000000002E-2,null,null,null,null,null,null,null,0,0,null,null,0]
[null,4,null,null,null,"PC.PO2.2012","Raw Material Supply/Fabrication","Activity",5.000000000000001E-3,null,null,null,null,null,null,null,0,0,null,null,0]
[null,4,null,null,null,"PC.PO2.2013","Delivery At Vendor Shop","Activity",1.0000000000000002E-2,null,null,null,null,null,null,null,0,0,null,null,{"$f":"T75-S75","v":0}]
[null,2,3.3,"P.O #03",null,null,null,"P.O",{"$f":"SUMIFS(I77:I80,$F77:$F80,\"<>\")","v":0.02},null,{"$f":"_xlfn.MINIFS(K77:K80,G77:G80,\"<>\")","v":"00:00:00"},{"$f":"_xlfn.MAXIFS(L77:L80,G77:G80,\"<>\")","v":"00:00:00"},{"$f":"_xlfn.MINIFS(M77:M80,J77:J80,\"<>\")","v":"00:00:00"},{"$f":"IF(COUNTBLANK(N77:N80)=0,_xlfn.MAXIFS(N77:N80,A77:A80,\"<>\"),0)","v":"00:00:00"},null,null,0,0,{"$f":"IF($I$76>0,SUMPRODUCT(--($F77:$F80>0),$I77:$I80,S77:S80)/$I$76,0)","v":0},{"$f":"IF($I$76>0,SUMPRODUCT(--($F77:$F80>0),$I77:$I80,T77:T80)/$I$76,0)","v":0},0]
[null,3,"3.3.1",null,"(e.g. CS & SS Pipe)",null,null,"Material Name",{"$f":"SUMIFS(I78:I82,$F78:$F82,\"<>\")","v":0.02},null,{"$f":"_xlfn.MINIFS(K78:K82,$F78:$F82,\"<>\")","v":"00:00:00"},{"$f":"_xlfn.MAXIFS(L78:L82,$F78:$F82,\"<>\")","v":"00:00:00"},{"$f":"_xlfn.MINIFS(M78:M82,$F78:$F82,\"<>\")","v":"00:00:00"},{"$f":"IF(COUNTBLANK(N78:N82)=0,_xlfn.MAXIFS(N78:N82,$F78:$F82,\"<>\"),0)","v":"00:00:00"},null,null,0,0,{"$f":"IF($I$77>0,SUMPRODUCT(--($F78:$F82>0),$I78:$I82,S78:S82)/$I$77,0)","v":0},{"$f":"IF($I$77>0,SUMPRODUCT(--($F78:$F82>0),$I78:$I82,T78:T82)/$I$77,0)","v":0},0]
[null,4,null,null,null,"PC.PO3.3011","Purchase Order Placement","Activity",8.0000000000000002E-3,null,null,null,null,null,null,null,0,0,null,null,0]
[null,4,null,null,null,"PC.PO3.3012","Raw Material Supply/Fabrication","Activity",4.0000000000000001E-3,null,null,null,null,null,null,null,0,0,null,null,0]
[null,4,null,null,null,"PC.PO3.3013","Delivery At Vendor Shop","Activity",8.0000000000000002E-3,null,null,null,null,null,null,null,0,0,null,null,0]
[null,1,"Manufacturing",null,null,null,null,"PHASE",{"$f":"SUMIFS(I82:I153,$F82:$F153,\"<>\")","v":0.32000000000000017},null,{"$f":"_xlfn.MINIFS(K82:K153,$F82:$F153,\"<>\")","v":"00:00:00"},{"$f":"_xlfn.MAXIFS(L82:L153,$F82:$F153,\"<>\")","v":"00:00:00"},{"$f":"_xlfn.MINIFS(M82:M153,$F82:$F153,\"<>\")","v":"00:00:00"},{"$f":"IF(COUNTBLANK(N82:N153)=0,_xlfn.MAXIFS(N82:N153,$F82:$F153,\"<>\"),0)","v":"00:00:00"},null,null,0,0,{"$f":"IF($I$81>0,SUMPRODUCT(--($F82:$F153>0),$I82:$I153,S82:S153)/$I$81,0)","v":0},{"$f":"IF($I$81>0,SUMPRODUCT(--($F82:$F153>0),$I82:$I153,T82:T153)/$I$81,0)","v":0},0]
[null,2,4.0999999999999996,"Priority I  (Tag XXX, Tag ZZZ)",null,null,null,"Priority",{"$f":"SUMIFS(I83:I112,$F83:$F112,\"<>\")","v":0.20000000000000007},null,{"$f":"_xlfn.MINIFS(K83:K112,$F83:$F112,\"<>\")","v":"00:00:00"},{"$f":"_xlfn.MAXIFS(L83:L112,$F83:$F112,\"<>\")","v":"00:00:00"},{"$f":"_xlfn.MINIFS(M83:M112,$F83:$F112,\"<>\")","v":"00:00:00"},{"$f":"IF(COUNTBLANK(N83:N112)=0,_xlfn.MAXIFS(N83:N112,$F83:$F112,\"<>\"),0)","v":"00:00:00"},null,null,0,0,{"$f":"IF($I$82>0,SUMPRODUCT(--($F83:$F112>0),$I83:$I112,S83:S112)/$I$82,0)","v":0},{"$f":"IF($I$82>0,SUMPRODUCT(--($F83:$F112>0),$I83:$I112,T83:T112)/$I$82,0)","v":0},0]
[null,3,"4.1.1",null,"Tag XXX",null,null,"Tagged Items",{"$f":"SUMIFS(I84:I97,$F84:$F97,\"<>\")","v":0.15000000000000002},null,{"$f":"_xlfn.MINIFS(K84:K97,$F84:$F97,\"<>\")","v":"00:00:00"},{"$f":"_xlfn.MAXIFS(L84:L97,$F84:$F97,\"<>\")","v":"00:00:00"},{"$f":"_xlfn.MINIFS(M84:M97,$F84:$F97,\"<>\")","v":"00:00:00"},{"$f":"IF(COUNTBLANK(N84:N97)=0,_xlfn.MAXIFS(N84:N97,$F84:$F97,\"<>\"),0)","v":"00:00:00"},null,null,0,0,{"$f":"IF($I$83>0,SUMPRODUCT(--($F84:$F97>0),$I84:$I97,S84:S97)/$I$83,0)","v":0},{"$f":"IF($I$83>0,SUMPRODUCT(--($F84:$F97>0),$I84:$I97,T84:T97)/$I$83,0)","v":0},0]
[null,4,null,null,null,"MF.XXX.1001","Cutting Component I of Tag XXX","Activity",7.4999999999999997E-3,null,null,null,null,null,null,null,0,0,null,null,0]
[null,4,null,null,null,"MF.XXX.1002","Welding Component I of Tag XXX","Activity",7.4999999999999997E-3,null,null,null,null,null,null,null,0,0,null,null,0]
[null,4,null,null,null,"MF.XXX.1003","ofming Component I of Tag XXX","Activity",7.4999999999999997E-3,null,null,null,null,null,null,null,0,0,null,null,0]
[null,4,null,null,null,"MF.XXX.1004","Course No. Of Component I of Tag XXX","Activity",7.4999999999999997E-3,null,null,null,null,null,null,null,0,0,null,null,0]
[null,4,null,null,null,"MF.XXX.1005","Cutting Of Component I of Tag XXX","Activity",7.4999999999999997E-3,null,null,null,null,null,null,null,0,0,null,null,0]
[null,4,null,null,null,"MF.XXX.1006","1st Rolling Of Component I of Tag XXX","Activity",7.4999999999999997E-3,null,null,null,null,null,null,null,0,0,null,null,0]
[null,4,null,null,null,"MF.XXX.1007","2nd Rolling Of Component I of Tag XXX","Activity",7.4999999999999997E-3,null,null,null,null,null,null,null,0,0,null,null,0]
[null,4,null,null,null,"MF.XXX.1008","Fabricating Base Plate of Tag XXX","Activity",7.4999999999999997E-3,null,null,null,null,null,null,null,0,0,null,null,0]
[null,4,null,null,null,"MF.XXX.1009","Hydrostatic test of Tag XXX","Activity",7.4999999999999997E-3,null,null,null,null,null,null,null,0,0,null,null,0]
[null,4,null,null,null,"MF.XXX.1010","Component Assembly of Tag XXX","Activity",1.4999999999999999E-2,null,null,null,null,null,null,null,0,0,null,null,0]
[null,4,null,null,null,"MF.XXX.1011","Perofmance Test of Tag XXX","Activity",2.2499999999999999E-2,null,null,null,null,null,null,null,0,0,null,null,0]
[null,4,null,null,null,"MF.XXX.1012","Final Assembly of Tag XXX","Activity",2.2499999999999999E-2,null,null,null,null,null,null,null,0,0,null,null,0]
[null,4,null,null,null,"MF.XXX.1013","Running Test of Tag XXX","Activity",1.4999999999999999E-2,null,null,null,null,null,null,null,0,0,null,null,0]
[null,4,null,null,null,"MF.XXX.1014","Painting of Tag XXX","Activity",7.4999999999999997E-3,null,null,null,null,null,null,null,0,0,null,null,0]
[null,3,"4.1.2",null,"Tag YYY",null,null,"Tagged Items",{"$f":"SUMIFS(I99:I113,$F99:$F113,\"<>\")","v":0.05},null,{"$f":"_xlfn.MINIFS(K99:K113,$F99:$F113,\"<>\")","v":"00:00:00"},{"$f":"_xlfn.MAXIFS(L99:L113,$F99:$F113,\"<>\")","v":"00:00:00"},{"$f":"_xlfn.MINIFS(M99:M113,$F99:$F113,\"<>\")","v":"00:00:00"},{"$f":"IF(COUNTBLANK(N99:N113)=0,_xlfn.MAXIFS(N99:N113,$F99:$F113,\"<>\"),0)","v":"00:00:00"},null,null,0,0,{"$f":"IF($I$98>0,SUMPRODUCT(--($F99:$F113>0),$I99:$I113,S99:S113)/$I$98,0)","v":0},{"$f":"IF($I$98>0,SUMPRODUCT(--($F99:$F113>0),$I99:$I113,T99:T113)/$I$98,0)","v":0},0]
[null,4,null,null,null,"MF.ZZZ.1001","Cutting Component I of Tag ZZZ","Activity",2.5000000000000005E-3,null,null,null,null,null,null,null,0,0,null,null,0]
[null,4,null,null,null,"MF.ZZZ.1002","Welding Component I of Tag ZZZ","Activity",2.5000000000000005E-3,null,null,null,null,null,null,null,0,0,null,null,0]
[null,4,null,null,null,"MF.ZZZ.1003","ofming Component I of Tag ZZZ","Activity",2.5000000000000005E-3,null,null,null,null,null,null,null,0,0,null,null,0]
[null,4,null,null,null,"MF.ZZZ.1004","Course No. Of Component I of Tag ZZZ","Activity",2.5000000000000005E-3,null,null,null,null,null,null,null,0,0,null,null,0]
[null,4,null,null,null,"MF.ZZZ.1005","Cutting Of Component I of Tag ZZZ","Activity",2.5000000000000005E-3,null,null,null,null,null,null,null,0,0,null,null,0]
[null,4,null,null,null,"MF.ZZZ.1006","1st Rolling Of Component I of Tag ZZZ","Activity",2.5000000000000005E-3,null,null,null,null,null,null,null,0,0,null,null,0]
[null,4,null,null,null,"MF.ZZZ.1007","2nd Rolling Of Component I of Tag ZZZ","Activity",2.5000000000000005E-3,null,null,null,null,null,null,null,0,0,null,null,0]
[null,4,null,null,null,"MF.ZZZ.1008","Fabricating Base Plate of Tag ZZZ","Activity",2.5000000000000005E-3,null,null,null,null,null,null,null,0,0,null,null,0]
[null,4,null,null,null,"MF.ZZZ.1009","Hydrostatic test of Tag ZZZ","Activity",2.5000000000000005E-3,null,null,null,null,null,null,null,0,0,null,null,0]
[null,4,null,null,null,"MF.ZZZ.1010","Component Assembly of Tag ZZZ","Activity",5.000000000000001E-3,null,null,null,null,null,null,null,0,0,null,null,0]
[null,4,null,null,null,"MF.ZZZ.1011","Perofmance Test of Tag ZZZ","Activity",7.4999999999999997E-3,null,null,null,null,null,null,null,0,0,null,null,0]
[null,4,null,null,null,"MF.ZZZ.1012","Final Assembly of Tag ZZZ","Activity",7.4999999999999997E-3,null,null,null,null,null,null,null,0,0,null,null,0]
[null,4,null,null,null,"MF.ZZZ.1013","Running Test of Tag ZZZ","Activity",5.000000000000001E-3,null,null,null,null,null,null,null,0,0,null,null,0]
[null,4,null,null,null,"MF.ZZZ.1014","Painting of Tag ZZZ","Activity",2.5000000000000005E-3,null,null,null,null,null,null,null,0,0,null,null,0]
[null,2,4.2,"Priority II  (Tag WWW, Tag YYY)",null,null,null,"Priority",{"$f":"SUMIFS(I114:I143,$F114:$F143,\"<>\")","v":0.12000000000000005},null,{"$f":"_xlfn.MINIFS(K114:K143,$F114:$F143,\"<>\")","v":"00:00:00"},{"$f":"_xlfn.MAXIFS(L114:L143,$F114:$F143,\"<>\")","v":"00:00:00"},{"$f":"_xlfn.MINIFS(M114:M143,$F114:$F143,\"<>\")","v":"00:00:00"},{"$f":"IF(COUNTBLANK(N114:N143)=0,_xlfn.MAXIFS(N114:N143,$F114:$F143,\"<>\"),0)","v":"00:00:00"},null,null,0,0,{"$f":"IF($I$113>0,SUMPRODUCT(--($F114:$F143>0),$I114:$I143,S114:S143)/$I$113,0)","v":0},{"$f":"IF($I$113>0,SUMPRODUCT(--($F114:$F143>0),$I114:$I143,T114:T143)/$I$113,0)","v":0},0]
[null,3,"4.2.1",null,"Tag WWW",null,null,"Tagged Items",{"$f":"SUMIFS(I115:I128,$F115:$F128,\"<>\")","v":4.0000000000000008E-2},null,{"$f":"_xlfn.MINIFS(K115:K128,$F115:$F128,\"<>\")","v":"00:00:00"},{"$f":"_xlfn.MAXIFS(L115:L128,$F115:$F128,\"<>\")","v":"00:00:00"},{"$f":"_xlfn.MINIFS(M115:M128,$F115:$F128,\"<>\")","v":"00:00:00"},{"$f":"IF(COUNTBLANK(N115:N128)=0,_xlfn.MAXIFS(N115:N128,$F115:$F128,\"<>\"),0)","v":"00:00:00"},null,null,0,0,{"$f":"IF($I$114>0,SUMPRODUCT(--($F115:$F128>0),$I115:$I128,S115:S128)/$I$114,0)","v":0},{"$f":"IF($I$114>0,SUMPRODUCT(--($F115:$F128>0),$I115:$I128,T115:T128)/$I$114,0)","v":0},0]
[null,4,null,null,null,"MF.WWW.1001","Cutting Component I of Tag WWW","Activity",2E-3,null,null,null,null,null,null,null,0,0,null,null,0]
[null,4,null,null,null,"MF.WWW.1002","Welding Component I of Tag WWW","Activity",2E-3,null,null,null,null,null,null,null,0,0,null,null,0]
[null,4,null,null,null,"MF.WWW.1003","ofming Component I of Tag WWW","Activity",2E-3,null,null,null,null,null,null,null,{"$f":"S117-O117","v":0},0,null,null,0]
[null,4,null,null,null,"MF.WWW.1004","Course No. Of Component I of Tag WWW","Activity",2E-3,null,null,null,null,null,null,null,0,0,null,null,0]
[null,4,null,null,null,"MF.WWW.1005","Cutting Of Component I of Tag WWW","Activity",2E-3,null,null,null,null,null,null,null,0,0,null,null,0]
[null,4,null,null,null,"MF.WWW.1006","1st Rolling Of Component I of Tag WWW","Activity",2E-3,null,null,null,null,null,null,null,0,0,null,null,0]
[null,4,null,null,null,"MF.WWW.1007","2nd Rolling Of Component I of Tag WWW","Activity",2E-3,null,null,null,null,null,null,null,0,0,null,null,0]
[null,4,null,null,null,"MF.WWW.1008","Fabricating Base Plate of Tag WWW","Activity",2E-3,null,null,null,null,null,null,null,0,0,null,null,0]
[null,4,null,null,null,"MF.WWW.1009","Hydrostatic test of Tag WWW","Activity",2E-3,null,null,null,null,null,null,null,0,0,null,null,0]
[null,4,null,null,null,"MF.WWW.1010","Component Assembly of Tag WWW","Activity",4.0000000000000001E-3,null,null,null,null,null,null,null,0,0,null,null,0]
[null,4,null,null,null,"MF.WWW.1011","Perofmance Test of Tag WWW","Activity",6.0000000000000001E-3,null,null,null,null,null,null,null,0,0,null,null,0]
[null,4,null,null,null,"MF.WWW.1012","Final Assembly of Tag WWW","Activity",6.0000000000000001E-3,null,null,null,null,null,null,null,0,0,null,null,0]
[null,4,null,null,null,"MF.WWW.1013","Running Test of Tag WWW","Activity",4.0000000000000001E-3,null,null,null,null,null,null,null,0,0,null,null,0]
[null,4,null,null,null,"MF.WWW.1014","Painting of Tag WWW","Activity",2E-3,null,null,null,null,null,null,null,0,0,null,null,0]
[null,3,"4.2.2",null,"Tag YYY",null,null,"Tagged Items",{"$f":"SUMIFS(I130:I144,$F130:$F144,\"<>\")","v":8.0000000000000016E-2},null,{"$f":"_xlfn.MINIFS(K130:K143,$F130:$F143,\"<>\")","v":"00:00:00"},{"$f":"_xlfn.MAXIFS(L130:L143,$F130:$F143,\"<>\")","v":"00:00:00"},{"$f":"_xlfn.MINIFS(M130:M144,$F130:$F144,\"<>\")","v":"00:00:00"},{"$f":"IF(COUNTBLANK(N130:N144)=0,_xlfn.MAXIFS(N130:N144,$F130:$F144,\"<>\"),0)","v":"00:00:00"},null,null,0,0,{"$f":"IF($I$129>0,SUMPRODUCT(--($F130:$F144>0),$I130:$I144,S130:S144)/$I$129,0)","v":0},{"$f":"IF($I$129>0,SUMPRODUCT(--($F130:$F144>0),$I130:$I144,T130:T144)/$I$129,0)","v":0},0]
[null,4,null,null,null,"MF.YYY.1001","Cutting Component I of Tag YYY","Activity",4.0000000000000001E-3,null,null,null,null,null,null,null,0,0,null,null,0]
[null,4,null,null,null,"MF.YYY.1002","Welding Component I of Tag YYY","Activity",4.0000000000000001E-3,null,null,null,null,null,null,null,0,0,null,null,0]
[null,4,null,null,null,"MF.YYY.1003","ofming Component I of Tag YYY","Activity",4.0000000000000001E-3,null,null,null,null,null,null,null,0,0,null,null,0]
[null,4,null,null,null,"MF.YYY.1004","Course No. Of Component I of Tag YYY","Activity",4.0000000000000001E-3,null,null,null,null,null,null,null,0,0,null,null,0]
[null,4,null,null,null,"MF.YYY.1005","Cutting Of Component I of Tag YYY","Activity",4.0000000000000001E-3,null,null,null,null,null,null,null,0,0,null,null,0]
[null,4,null,null,null,"MF.YYY.1006","1st Rolling Of Component I of Tag YYY","Activity",4.0000000000000001E-3,null,null,null,null,null,null,null,0,0,null,null,0]
[null,4,null,null,null,"MF.YYY.1007","2nd Rolling Of Component I of Tag YYY","Activity",4.0000000000000001E-3,null,null,null,null,null,null,null,0,0,null,null,0]
[null,4,null,null,null,"MF.YYY.1008","Fabricating Base Plate of Tag YYY","Activity",4.0000000000000001E-3,null,null,null,null,null,null,null,0,0,null,null,0]
[null,4,null,null,null,"MF.YYY.1009","Hydrostatic test of Tag YYY","Activity",4.0000000000000001E-3,null,null,null,null,null,null,null,0,0,null,null,0]
[null,4,null,null,null,"MF.YYY.1010","Component Assembly of Tag YYY","Activity",8.0000000000000002E-3,null,null,null,null,null,null,null,0,0,null,null,{"$f":"T139-S139","v":0}]
[null,4,null,null,null,"MF.YYY.1011","Perofmance Test of Tag YYY","Activity",1.2E-2,null,null,null,null,null,null,null,0,0,null,null,0]
[null,4,null,null,null,"MF.YYY.1012","Final Assembly of Tag YYY","Activity",1.2E-2,null,null,null,null,null,null,null,0,0,null,null,0]
[null,4,null,null,null,"MF.YYY.1013","Running Test of Tag YYY","Activity",8.0000000000000002E-3,null,null,null,null,null,null,null,0,0,null,null,0]
[null,4,null,null,null,"MF.YYY.1014","Painting of Tag YYY","Activity",4.0000000000000001E-3,null,null,null,null,null,null,null,0,0,null,null,0]
[null,2,4.3,"Priority III (Tag PPP, Tag GGG, Tag SSS)",null,null,null,"Priority",{"$f":"SUMIFS(I145:I153,$F145:$F153,\"<>\")","v":0},null,{"$f":"_xlfn.MINIFS(K145:K153,$F145:$F153,\"<>\")","v":"00:00:00"},{"$f":"_xlfn.MAXIFS(L145:L153,$F145:$F153,\"<>\")","v":"00:00:00"},{"$f":"_xlfn.MINIFS(M145:M153,$F145:$F153,\"<>\")","v":"00:00:00"},{"$f":"IF(COUNTBLANK(N145:N153)=0,_xlfn.MAXIFS(N145:N153,$F145:$F153,\"<>\"),0)","v":"00:00:00"},null,null,0,0,{"$f":"IF($I$144>0,SUMPRODUCT(--($F145:$F153>0),$I145:$I153,S145:S153)/$I$144,0)","v":0},{"$f":"IF($I$144>0,SUMPRODUCT(--($F145:$F153>0),$I145:$I153,T145:T153)/$I$144,0)","v":0},0]
[null,3,"4.3.1",null,"Tag PPP",null,null,"Tagged Items",{"$f":"SUMIFS(I146:I147,$F146:$F147,\"<>\")","v":0},null,{"$f":"_xlfn.MINIFS(K146:K147,$F146:$F147,\"<>\")","v":"00:00:00"},{"$f":"_xlfn.MAXIFS(L146:L147,$F146:$F147,\"<>\")","v":"00:00:00"},{"$f":"_xlfn.MINIFS(M146:M147,$F146:$F147,\"<>\")","v":"00:00:00"},{"$f":"IF(COUNTBLANK(N146:N147)=0,_xlfn.MAXIFS(N146:N147,$F146:$F147,\"<>\"),0)","v":"00:00:00"},null,null,{"$f":"S146-O146","v":0},{"$f":"T146-P146","v":0},{"$f":"IF($I$146>0,SUMPRODUCT(--($F146:$F147>0),$I146:$I147,S146:S147)/$I$146,0)","v":0},{"$f":"IF($I$146>0,SUMPRODUCT(--($F146:$F147>0),$I146:$I147,T146:T147)/$I$146,0)","v":0},0]
[null,4,null,null,null,null,null,"Activity",null,null,null,null,null,null,null,null,0,0,null,null,0]
[null,4,null,null,null,null,null,"Activity",null,null,null,null,null,null,null,null,{"$f":"S147-O147","v":0},{"$f":"T147-P147","v":0},null,null,0]
[null,3,"4.3.2",null,"Tag GGG",null,null,"Tagged Items",{"$f":"SUMIFS(I149:I150,$F149:$F150,\"<>\")","v":0},null,{"$f":"_xlfn.MINIFS(K149:K150,$F149:$F150,\"<>\")","v":"00:00:00"},{"$f":"_xlfn.MAXIFS(L149:L150,$F149:$F150,\"<>\")","v":"00:00:00"},{"$f":"_xlfn.MINIFS(M149:M150,$F149:$F150,\"<>\")","v":"00:00:00"},{"$f":"IF(COUNTBLANK(N149:N150)=0,_xlfn.MAXIFS(N149:N150,$F149:$F150,\"<>\"),0)","v":"00:00:00"},null,null,{"$f":"S149-O149","v":0},{"$f":"T149-P149","v":0},{"$f":"IF($I$149>0,SUMPRODUCT(--($F149:$F150>0),$I149:$I150,S149:S150)/$I$149,0)","v":0},{"$f":"IF($I$149>0,SUMPRODUCT(--($F149:$F150>0),$I149:$I150,T149:T150)/$I$149,0)","v":0},0]
[null,4,null,null,null,null,null,"Activity",null,null,null,null,null,null,null,null,{"$f":"S149-O149","v":0},{"$f":"T149-P149","v":0},null,null,0]
[null,4,null,null,null,null,null,"Activity",null,null,null,null,null,null,null,null,0,0,null,null,0]
[null,3,"4.3.3",null,"Tag SSS",null,null,"Tagged Items",{"$f":"SUMIFS(I152:I153,$F152:$F153,\"<>\")","v":0},null,{"$f":"_xlfn.MINIFS(K152:K153,$F152:$F153,\"<>\")","v":"00:00:00"},{"$f":"_xlfn.MAXIFS(L152:L153,$F152:$F153,\"<>\")","v":"00:00:00"},{"$f":"_xlfn.MINIFS(M152:M153,$F152:$F153,\"<>\")","v":"00:00:00"},{"$f":"IF(COUNTBLANK(N152:N153)=0,_xlfn.MAXIFS(N152:N153,$F152:$F153,\"<>\"),0)","v":"00:00:00"},null,null,0,0,{"$f":"IF($I$151>0,SUMPRODUCT(--($F152:$F153>0),$I152:$I153,S152:S153)/$I$151,0)","v":0},{"$f":"IF($I$151>0,SUMPRODUCT(--($F152:$F153>0),$I152:$I153,T152:T153)/$I$151,0)","v":0},0]
[null,4,null,null,null,null,null,"Activity",null,null,null,null,null,null,null,null,0,0,null,null,0]
[null,4,null,null,null,null,null,"Activity",null,null,null,null,null,null,null,null,{"$f":"S153-O153","v":0},{"$f":"T153-P153","v":0},null,null,0]
[null,1,"Final Inspection and Test",null,null,null,null,"PHASE",{"$f":"SUMIFS(I155:I172,$F155:$F172,\"<>\")","v":0.10000000000000002},null,{"$f":"_xlfn.MINIFS(K155:K172,$F155:$F172,\"<>\")","v":"00:00:00"},{"$f":"_xlfn.MAXIFS(L155:L172,$F155:$F172,\"<>\")","v":"00:00:00"},{"$f":"_xlfn.MINIFS(M155:M172,$F155:$F172,\"<>\")","v":"00:00:00"},{"$f":"IF(COUNTBLANK(N155:N172)=0,_xlfn.MAXIFS(N155:N172,$F155:$F172,\"<>\"),0)","v":"00:00:00"},null,null,0,0,{"$f":"IF($I$154>0,SUMPRODUCT(--($F155:$F172>0),$I155:$I172,S155:S172)/$I$154,0)","v":0},{"$f":"IF($I$154>0,SUMPRODUCT(--($F155:$F172>0),$I155:$I172,T155:T172)/$I$154,0)","v":0},0]
[null,2,5.0999999999999996,"Priority I  (Tag XXX, Tag ZZZ)",null,null,null,"Priority",{"$f":"SUMIFS(I156:I161,$F156:$F161,\"<>\")","v":6.0000000000000005E-2},null,{"$f":"_xlfn.MINIFS(K156:K161,G156:G161,\"<>\")","v":"00:00:00"},{"$f":"_xlfn.MAXIFS(L156:L161,G156:G161,\"<>\")","v":"00:00:00"},{"$f":"_xlfn.MINIFS(M156:M161,J156:J161,\"<>\")","v":"00:00:00"},{"$f":"IF(COUNTBLANK(N156:N161)=0,_xlfn.MAXIFS(N156:N161,A156:A161,\"<>\"),0)","v":"00:00:00"},null,null,0,0,{"$f":"IF($I$155>0,SUMPRODUCT(--($F156:$F161>0),$I156:$I161,S156:S161)/$I$155,0)","v":0},{"$f":"IF($I$155>0,SUMPRODUCT(--($F156:$F161>0),$I156:$I161,T156:T161)/$I$155,0)","v":0},0]
[null,3,"5.1.1",null,"Tag XXX / Part 1",null,null,"Component",{"$f":"SUMIFS(I157:I158,$F157:$F158,\"<>\")","v":0.04},null,{"$f":"_xlfn.MINIFS(K157:K158,$F157:$F158,\"<>\")","v":"00:00:00"},{"$f":"_xlfn.MAXIFS(L157:L158,$F157:$F158,\"<>\")","v":"00:00:00"},{"$f":"_xlfn.MINIFS(M157:M158,$F157:$F158,\"<>\")","v":"00:00:00"},{"$f":"IF(COUNTBLANK(N157:N158)=0,_xlfn.MAXIFS(N157:N158,$F157:$F158,\"<>\"),0)","v":"00:00:00"},null,null,0,0,{"$f":"IF($I$156>0,SUMPRODUCT(--($F157:$F158>0),$I157:$I158,S157:S158)/$I$156,0)","v":0},{"$f":"IF($I$156>0,SUMPRODUCT(--($F157:$F158>0),$I157:$I158,T157:T158)/$I$156,0)","v":0},0]
[null,4,null,null,null,"MF.PR1.INS.1011","Final Inspection & Test of Tag XXX / Part 1","Activity",0.02,null,null,null,null,null,null,null,0,0,null,null,0]
[null,4,null,null,null,"MF.PR1.PKG.1011","Packing of Tag XXX / Part 1","Activity",0.02,null,null,null,null,null,null,null,0,0,null,null,0]
[null,3,"5.1.2",null,"Tag ZZZ / Part 2",null,null,"Component",{"$f":"SUMIFS(I160:I161,$F160:$F161,\"<>\")","v":0.02},null,{"$f":"_xlfn.MINIFS(K160:K161,$F160:$F161,\"<>\")","v":"00:00:00"},{"$f":"_xlfn.MAXIFS(L160:L161,$F160:$F161,\"<>\")","v":"00:00:00"},{"$f":"_xlfn.MINIFS(M160:M161,$F160:$F161,\"<>\")","v":"00:00:00"},{"$f":"IF(COUNTBLANK(N160:N161)=0,_xlfn.MAXIFS(N160:N161,$F160:$F161,\"<>\"),0)","v":"00:00:00"},null,null,0,0,{"$f":"IF($I$159>0,SUMPRODUCT(--($F160:$F161>0),$I160:$I161,S160:S161)/$I$159,0)","v":0},{"$f":"IF($I$159>0,SUMPRODUCT(--($F160:$F161>0),$I160:$I161,T160:T161)/$I$159,0)","v":0},0]
[null,4,null,null,null,"MF.PR2.INS.2011","Final Inspection & Test of Tag ZZZ / Part 2","Activity",0.01,null,null,null,null,null,null,null,0,0,null,null,0]
[null,4,null,null,null,"MF.PR2.PKG.2012","Packing of Tag ZZZ / Part2","Activity",0.01,null,null,null,null,null,null,null,0,0,null,null,0]
[null,2,5.2,"Priority II (Tag WWW, Tag YYY)",null,null,null,"Priority",{"$f":"SUMIFS(I163:I168,$F163:$F168,\"<>\")","v":3.0000000000000002E-2},null,{"$f":"_xlfn.MINIFS(K163:K168,G163:G168,\"<>\")","v":"00:00:00"},{"$f":"_xlfn.MAXIFS(L163:L168,G163:G168,\"<>\")","v":"00:00:00"},{"$f":"_xlfn.MINIFS(M163:M168,J163:J168,\"<>\")","v":"00:00:00"},{"$f":"IF(COUNTBLANK(N163:N168)=0,_xlfn.MAXIFS(N163:N168,A163:A168,\"<>\"),0)","v":"00:00:00"},null,null,0,0,{"$f":"IF($I$162>0,SUMPRODUCT(--($F163:$F168>0),$I163:$I168,S163:S168)/$I$162,0)","v":0},{"$f":"IF($I$162>0,SUMPRODUCT(--($F163:$F168>0),$I163:$I168,T163:T168)/$I$162,0)","v":0},0]
[null,3,"5.2.1",null,"Tag WWW / Part 3",null,null,"Component",{"$f":"SUMIFS(I164:I165,$F164:$F165,\"<>\")","v":0.02},null,{"$f":"_xlfn.MINIFS(K164:K165,$F164:$F165,\"<>\")","v":"00:00:00"},{"$f":"_xlfn.MAXIFS(L164:L165,$F164:$F165,\"<>\")","v":"00:00:00"},{"$f":"_xlfn.MINIFS(M164:M165,$F164:$F165,\"<>\")","v":"00:00:00"},{"$f":"IF(COUNTBLANK(N164:N165)=0,_xlfn.MAXIFS(N164:N165,$F164:$F165,\"<>\"),0)","v":"00:00:00"},null,null,0,0,{"$f":"IF($I$163>0,SUMPRODUCT(--($F164:$F165>0),$I164:$I165,S164:S165)/$I$163,0)","v":0},{"$f":"IF($I$163>0,SUMPRODUCT(--($F164:$F165>0),$I164:$I165,T164:T165)/$I$163,0)","v":0},0]
[null,4,null,null,null,"MF.PR3.INS.3011","Final Inspection & Test of Tag WWW / Part 3","Activity",0.01,null,null,null,null,null,null,null,0,0,null,null,0]
[null,4,null,null,null,"MF.PR3.PKG.3012","Packing of Tag WWW / Part 3","Activity",0.01,null,null,null,null,null,null,null,0,0,null,null,0]
[null,3,"5.2.2",null,"Tag YYY / Part 4",null,null,"Component",{"$f":"SUMIFS(I167:I168,$F167:$F168,\"<>\")","v":0.01},null,{"$f":"_xlfn.MINIFS(K167:K168,$F167:$F168,\"<>\")","v":"00:00:00"},{"$f":"_xlfn.MAXIFS(L167:L168,$F167:$F168,\"<>\")","v":"00:00:00"},{"$f":"_xlfn.MINIFS(M167:M168,$F167:$F168,\"<>\")","v":"00:00:00"},{"$f":"IF(COUNTBLANK(N167:N168)=0,_xlfn.MAXIFS(N167:N168,$F167:$F168,\"<>\"),0)","v":"00:00:00"},null,null,0,0,{"$f":"IF($I$166>0,SUMPRODUCT(--($F167:$F168>0),$I167:$I168,S167:S168)/$I$166,0)","v":0},{"$f":"IF($I$166>0,SUMPRODUCT(--($F167:$F168>0),$I167:$I168,T167:T168)/$I$166,0)","v":0},0]
[null,4,null,null,null,"MF.PR4.INS.4011","Final Inspection & Test of Tag YYY / Part 4","Activity",5.0000000000000001E-3,null,null,null,null,null,null,null,0,0,null,null,0]
[null,4,null,null,null,"MF.PR4.PKG.4012","Packing of Tag YYY / Part 4","Activity",5.0000000000000001E-3,null,null,null,null,null,null,null,0,0,null,null,0]
[null,2,5.3,"Priority III (Tag PPP, Tag GGG, Tag SSS)",null,null,null,"Priority",{"$f":"SUMIFS(I170:I172,$F170:$F172,\"<>\")","v":0.01},null,{"$f":"_xlfn.MINIFS(K170:K172,G170:G172,\"<>\")","v":"00:00:00"},{"$f":"_xlfn.MAXIFS(L170:L172,G170:G172,\"<>\")","v":"00:00:00"},{"$f":"_xlfn.MINIFS(M170:M172,J170:J172,\"<>\")","v":"00:00:00"},{"$f":"IF(COUNTBLANK(N170:N172)=0,_xlfn.MAXIFS(N170:N172,A170:A172,\"<>\"),0)","v":"00:00:00"},null,null,0,0,{"$f":"IF($I$169>0,SUMPRODUCT(--($F170:$F172>0),$I170:$I172,S170:S172)/$I$169,0)","v":0},{"$f":"IF($I$169>0,SUMPRODUCT(--($F170:$F172>0),$I170:$I172,T170:T172)/$I$169,0)","v":0},0]
[null,3,"5.3.1",null,"Tag PPP , G, S / Part 5",null,null,"Component",{"$f":"SUMIFS(I171:I172,$F171:$F172,\"<>\")","v":0.01},null,{"$f":"_xlfn.MINIFS(K171:K172,$F171:$F172,\"<>\")","v":"00:00:00"},{"$f":"_xlfn.MAXIFS(L171:L172,$F171:$F172,\"<>\")","v":"00:00:00"},{"$f":"_xlfn.MINIFS(M171:M172,$F171:$F172,\"<>\")","v":"00:00:00"},{"$f":"IF(COUNTBLANK(N171:N172)=0,_xlfn.MAXIFS(N171:N172,$F171:$F172,\"<>\"),0)","v":"00:00:00"},null,null,0,0,{"$f":"IF($I$170>0,SUMPRODUCT(--($F171:$F172>0),$I171:$I172,S171:S172)/$I$170,0)","v":0},{"$f":"IF($I$170>0,SUMPRODUCT(--($F171:$F172>0),$I171:$I172,T171:T172)/$I$170,0)","v":0},0]
[null,4,null,null,null,"MF.PR5.INS.5011","Final Inspection & Test of Tag PPP, G, S / Part 5","Activity",5.0000000000000001E-3,null,null,null,null,null,null,null,0,0,null,null,0]
[null,4,null,null,null,"MF.PR5.PKG.5012","Packing of Tag PPP, G, S / Part 5","Activity",5.0000000000000001E-3,null,null,null,null,null,null,null,0,0,null,null,0]
[null,1,"Ex-Work/ FOB/ CFR/ Transportation and Delivery at Site",null,null,null,null,"PHASE",{"$f":"SUMIFS(I174:I186,$F174:$F186,\"<>\")","v":0.1},null,{"$f":"_xlfn.MINIFS(K174:K186,$F174:$F186,\"<>\")","v":"00:00:00"},{"$f":"_xlfn.MAXIFS(L174:L186,$F174:$F186,\"<>\")","v":"00:00:00"},{"$f":"_xlfn.MINIFS(M174:M186,$F174:$F186,\"<>\")","v":"00:00:00"},{"$f":"IF(COUNTBLANK(N174:N186)=0,_xlfn.MAXIFS(N174:N186,$F174:$F186,\"<>\"),0)","v":"00:00:00"},null,null,0,0,{"$f":"IF($I$173>0,SUMPRODUCT(--($F174:$F186>0),$I174:$I186,S174:S186)/$I$173,0)","v":0},{"$f":"IF($I$173>0,SUMPRODUCT(--($F174:$F186>0),$I174:$I186,T174:T186)/$I$173,0)","v":0},0]
[null,2,6.1,"Priority I  (Tag XXX, Tag ZZZ)",null,null,null,"Priority",{"$f":"SUMIFS(I175:I178,$F175:$F178,\"<>\")","v":0.05},null,{"$f":"_xlfn.MINIFS(K175:K178,G175:G178,\"<>\")","v":"00:00:00"},{"$f":"_xlfn.MAXIFS(L175:L178,G175:G178,\"<>\")","v":"00:00:00"},{"$f":"_xlfn.MINIFS(M175:M178,J175:J178,\"<>\")","v":"00:00:00"},{"$f":"IF(COUNTBLANK(N175:N178)=0,_xlfn.MAXIFS(N175:N178,A175:A178,\"<>\"),0)","v":"00:00:00"},null,null,0,0,{"$f":"IF($I$174>0,SUMPRODUCT(--($F175:$F178>0),$I175:$I178,S175:S178)/$I$174,0)","v":0},{"$f":"IF($I$174>0,SUMPRODUCT(--($F175:$F178>0),$I175:$I178,T175:T178)/$I$174,0)","v":0},0]
[null,3,"6.1.1",null,"Tag XXX / Part 1",null,null,"Component",{"$f":"SUMIFS(I176:I176,$F176:$F176,\"<>\")","v":0.03},null,{"$f":"_xlfn.MINIFS(K176:K176,$F176:$F176,\"<>\")","v":"00:00:00"},{"$f":"_xlfn.MAXIFS(L176:L176,$F176:$F176,\"<>\")","v":"00:00:00"},{"$f":"_xlfn.MINIFS(M176:M176,$F176:$F176,\"<>\")","v":"00:00:00"},{"$f":"IF(COUNTBLANK(N176:N176)=0,_xlfn.MAXIFS(N176:N176,$F176:$F176,\"<>\"),0)","v":"00:00:00"},null,null,0,0,{"$f":"IF($I$175>0,SUMPRODUCT(--($F176:$F176>0),$I176:$I176,S176:S176)/$I$175,0)","v":0},{"$f":"IF($I$175>0,SUMPRODUCT(--($F176:$F176>0),$I176:$I176,T176:T176)/$I$175,0)","v":0},0]
[null,4,null,null,null,"MF.PR1.DLV.1011","Delivery at Site of Tag XXX / Part 1","Activity",0.03,null,null,null,null,null,null,null,0,0,0,0,0]
[null,3,"6.1.2",null,"Tag ZZZ / Part 2",null,null,"Component",{"$f":"SUMIFS(I178:I178,$F178:$F178,\"<>\")","v":0.02},null,{"$f":"_xlfn.MINIFS(K178:K178,$F178:$F178,\"<>\")","v":"00:00:00"},{"$f":"_xlfn.MAXIFS(L178:L178,$F178:$F178,\"<>\")","v":"00:00:00"},{"$f":"_xlfn.MINIFS(M178:M178,$F178:$F178,\"<>\")","v":"00:00:00"},{"$f":"IF(COUNTBLANK(N178:N178)=0,_xlfn.MAXIFS(N178:N178,$F178:$F178,\"<>\"),0)","v":"00:00:00"},null,null,0,0,{"$f":"IF($I$177>0,SUMPRODUCT(--($F178:$F178>0),$I178:$I178,S178:S178)/$I$177,0)","v":0},{"$f":"IF($I$177>0,SUMPRODUCT(--($F178:$F178>0),$I178:$I178,T178:T178)/$I$177,0)","v":0},0]
[null,4,null,null,null,"MF.PR2.DLV.2011","Delivery at Site  of Tag ZZZ / Part 2","Activity",0.02,null,null,null,null,null,null,null,0,0,0,0,0]
[null,2,6.2,"Priority II (Tag WWW, Tag YYY)",null,null,null,"Priority",{"$f":"SUMIFS(I180:I183,$F180:$F183,\"<>\")","v":0.04},null,{"$f":"_xlfn.MINIFS(K180:K183,G180:G183,\"<>\")","v":"00:00:00"},{"$f":"_xlfn.MAXIFS(L180:L183,G180:G183,\"<>\")","v":"00:00:00"},{"$f":"_xlfn.MINIFS(M180:M183,J180:J183,\"<>\")","v":"00:00:00"},{"$f":"IF(COUNTBLANK(N180:N183)=0,_xlfn.MAXIFS(N180:N183,A180:A183,\"<>\"),0)","v":"00:00:00"},null,null,0,0,{"$f":"IF($I$179>0,SUMPRODUCT(--($F180:$F183>0),$I180:$I183,S180:S183)/$I$179,0)","v":0},{"$f":"IF($I$179>0,SUMPRODUCT(--($F180:$F183>0),$I180:$I183,T180:T183)/$I$179,0)","v":0},0]
[null,3,"6.2.1",null,"Tag WWW / Part 3",null,null,"Component",{"$f":"SUMIFS(I181:I181,$F181:$F181,\"<>\")","v":0.02},null,{"$f":"_xlfn.MINIFS(K181:K181,$F181:$F181,\"<>\")","v":"00:00:00"},{"$f":"_xlfn.MAXIFS(L181:L181,$F181:$F181,\"<>\")","v":"00:00:00"},{"$f":"_xlfn.MINIFS(M181:M181,$F181:$F181,\"<>\")","v":"00:00:00"},{"$f":"IF(COUNTBLANK(N181:N181)=0,_xlfn.MAXIFS(N181:N181,$F181:$F181,\"<>\"),0)","v":"00:00:00"},null,null,0,0,{"$f":"IF($I$180>0,SUMPRODUCT(--($F181:$F181>0),$I181:$I181,S181:S181)/$I$180,0)","v":0},{"$f":"IF($I$180>0,SUMPRODUCT(--($F181:$F181>0),$I181:$I181,T181:T181)/$I$180,0)","v":0},0]
[null,4,null,null,null,"MF.PR3.DLV.3011","Delivery at Site of Tag WWW / Part 3","Activity",0.02,null,null,null,null,null,null,null,0,0,0,0,0]
[null,3,"6.2.2",null,"Tag YYY / Part 4",null,null,"Component",{"$f":"SUMIFS(I183:I183,$F183:$F183,\"<>\")","v":0.02},null,{"$f":"_xlfn.MINIFS(K183:K183,$F183:$F183,\"<>\")","v":"00:00:00"},{"$f":"_xlfn.MAXIFS(L183:L183,$F183:$F183,\"<>\")","v":"00:00:00"},{"$f":"_xlfn.MINIFS(M183:M183,$F183:$F183,\"<>\")","v":"00:00:00"},{"$f":"IF(COUNTBLANK(N183:N183)=0,_xlfn.MAXIFS(N183:N183,$F183:$F183,\"<>\"),0)","v":"00:00:00"},null,null,0,0,{"$f":"IF($I$182>0,SUMPRODUCT(--($F183:$F183>0),$I183:$I183,S183:S183)/$I$182,0)","v":0},{"$f":"IF($I$182>0,SUMPRODUCT(--($F183:$F183>0),$I183:$I183,T183:T183)/$I$182,0)","v":0},0]
[null,4,null,null,null,"MF.PR4.DLV.4011","Delivery at Site of Tag YYY / Part 4","Activity",0.02,null,null,null,null,null,null,null,0,0,0,0,0]
[null,2,6.3,"Priority III (Tag PPP, Tag GGG, Tag SSS)",null,null,null,"Priority",{"$f":"SUMIFS(I185:I186,$F185:$F186,\"<>\")","v":0.01},null,{"$f":"_xlfn.MINIFS(K185:K186,G185:G186,\"<>\")","v":"00:00:00"},{"$f":"_xlfn.MAXIFS(L185:L186,G185:G186,\"<>\")","v":"00:00:00"},{"$f":"_xlfn.MINIFS(M185:M186,J185:J186,\"<>\")","v":"00:00:00"},{"$f":"IF(COUNTBLANK(N185:N186)=0,_xlfn.MAXIFS(N185:N186,A185:A186,\"<>\"),0)","v":"00:00:00"},null,null,0,0,{"$f":"IF($I$184>0,SUMPRODUCT(--($F185:$F186>0),$I185:$I186,S185:S186)/$I$184,0)","v":0},{"$f":"IF($I$184>0,SUMPRODUCT(--($F185:$F186>0),$I185:$I186,T185:T186)/$I$184,0)","v":0},0]
[null,3,"6.3.1",null,"Tag PPP , G, S / Part 5",null,null,"Component",{"$f":"SUMIFS(I186:I186,$F186:$F186,\"<>\")","v":0.01},null,{"$f":"_xlfn.MINIFS(K186:K186,$F186:$F186,\"<>\")","v":"00:00:00"},{"$f":"_xlfn.MAXIFS(L186:L186,$F186:$F186,\"<>\")","v":"00:00:00"},{"$f":"_xlfn.MINIFS(M186:M186,$F186:$F186,\"<>\")","v":"00:00:00"},{"$f":"IF(COUNTBLANK(N186:N186)=0,_xlfn.MAXIFS(N186:N186,$F186:$F186,\"<>\"),0)","v":"00:00:00"},null,null,{"$f":"S186-O186","v":0},{"$f":"T186-P186","v":0},{"$f":"IF($I$186>0,SUMPRODUCT(--($F186:$F186>0),$I186:$I186,S186:S186)/$I$186,0)","v":0},{"$f":"IF($I$186>0,SUMPRODUCT(--($F186:$F186>0),$I186:$I186,T186:T186)/$I$186,0)","v":0},0]
[null,4,null,null,null,"MF.PR5.DLV.5011","Delivery at Site of Tag  P, G, S / Part 5","Activity",0.01,null,null,null,null,null,null,null,{"$f":"S186-O186","v":0},{"$f":"T186-P186","v":0},0,0,0]
[null,1,"Final Book",null,null,null,null,"PHASE",{"$f":"SUMIFS(I188:I192,$F188:$F192,\"<>\")","v":0.05},null,{"$f":"_xlfn.MINIFS(K188:K192,$F188:$F192,\"<>\")","v":"00:00:00"},{"$f":"_xlfn.MAXIFS(L188:L192,$F188:$F192,\"<>\")","v":"00:00:00"},{"$f":"_xlfn.MINIFS(M188:M192,$F188:$F192,\"<>\")","v":"00:00:00"},{"$f":"IF(COUNTBLANK(N188:N192)=0,_xlfn.MAXIFS(N188:N192,$F188:$F192,\"<>\"),0)","v":"00:00:00"},null,null,0,0,{"$f":"IF($I$187>0,SUMPRODUCT(--($F188:$F192>0),$I188:$I192,S188:S192)/$I$187,0)","v":0},{"$f":"IF($I$187>0,SUMPRODUCT(--($F188:$F192>0),$I188:$I192,T188:T192)/$I$187,0)","v":0},0]
[null,2,7.1,"MR No.",null,null,null,"Item",{"$f":"SUMIFS(I189:I192,$F189:$F192,\"<>\")","v":0.05},null,{"$f":"_xlfn.MINIFS(K189:K192,G189:G192,\"<>\")","v":"00:00:00"},{"$f":"_xlfn.MAXIFS(L189:L192,G189:G192,\"<>\")","v":"00:00:00"},{"$f":"_xlfn.MINIFS(M189:M192,J189:J192,\"<>\")","v":"00:00:00"},{"$f":"IF(COUNTBLANK(N189:N192)=0,_xlfn.MAXIFS(N189:N192,A189:A192,\"<>\"),0)","v":"00:00:00"},null,null,{"$f":"S188-O188","v":0},0,{"$f":"IF($I$188>0,SUMPRODUCT(--($F189:$F192>0),$I189:$I192,S189:S192)/$I$188,0)","v":0},{"$f":"IF($I$188>0,SUMPRODUCT(--($F189:$F192>0),$I189:$I192,T189:T192)/$I$188,0)","v":0},0]
[null,3,"7.1.1",null,"Soft Copy of Final Book Package",null,null,"Component",{"$f":"SUMIFS(I190:I190,$F190:$F190,\"<>\")","v":0.03},null,{"$f":"_xlfn.MINIFS(K190:K190,$F190:$F190,\"<>\")","v":"00:00:00"},{"$f":"_xlfn.MAXIFS(L190:L190,$F190:$F190,\"<>\")","v":"00:00:00"},{"$f":"_xlfn.MINIFS(M190:M190,$F190:$F190,\"<>\")","v":"00:00:00"},{"$f":"IF(COUNTBLANK(N190:N190)=0,_xlfn.MAXIFS(N190:N190,$F190:$F190,\"<>\"),0)","v":"00:00:00"},null,null,{"$f":"S190-O190","v":0},{"$f":"T190-P190","v":0},{"$f":"IF($I$190>0,SUMPRODUCT(--($F190:$F190>0),$I190:$I190,S190:S190)/$I$190,0)","v":0},{"$f":"IF($I$190>0,SUMPRODUCT(--($F190:$F190>0),$I190:$I190,T190:T190)/$I$190,0)","v":0},0]
[null,4,null,null,null,"FB.5023.SFT.1011","Submission of Soft Copy of Final Documents","Activity",0.03,null,null,null,null,null,null,null,0,0,0,0,0]
[null,3,"7.1.2",null,"Hard Copy of Final Book Package",null,null,"Component",{"$f":"SUMIFS(I192:I192,$F192:$F192,\"<>\")","v":0.02},null,{"$f":"_xlfn.MINIFS(K192:K192,$F192:$F192,\"<>\")","v":"00:00:00"},{"$f":"_xlfn.MAXIFS(L192:L192,$F192:$F192,\"<>\")","v":"00:00:00"},{"$f":"_xlfn.MINIFS(M192:M192,$F192:$F192,\"<>\")","v":"00:00:00"},{"$f":"IF(COUNTBLANK(N192:N192)=0,_xlfn.MAXIFS(N192:N192,$F192:$F192,\"<>\"),0)","v":"00:00:00"},null,null,{"$f":"S192-O192","v":0},{"$f":"T192-P192","v":0},{"$f":"IF($I$192>0,SUMPRODUCT(--($F192:$F192>0),$I192:$I192,S192:S192)/$I$192,0)","v":0},{"$f":"IF($I$192>0,SUMPRODUCT(--($F192:$F192>0),$I192:$I192,T192:T192)/$I$192,0)","v":0},0]
[null,4,null,null,null,"FB.5023.HRD.1011","Submission of Hard Copy of Final Documents","Activity",0.02,null,null,null,null,null,null,null,{"$f":"S192-O192","v":0},{"$f":"T192-P192","v":0},0,0,0]

{"sheet":"Document Status","index":5,"n_rows":33,"n_cols":7,"rows_kept":33,"cut":false,"hidden":false,"merged":[[0,0,0,6],[13,0,13,6],[28,0,28,3]]}
["Hold Document By Vendor"]
["Row","Document Code","Description","Revision","Comment Date\n (By EIED)","Comment Type","Vendor Delay (Day)"]
[1]
[2]
[3]
[]
[]
[]
[]
[]
[]
[]
[]
["Hold Document By EIED"]
["Row","Document Code","Description","Revision","Reply Date\n(By Vendor)","Comment Type","EIED Delay (Day)"]
[1]
[2]
[3]
[]
[]
[]
[]
[]
[]
[]
[]
[]
[]
["Not issued documents (Based on Time Schedule)"]
["Row","Document Code","Description","Class"]
[1]
[2]
[3]

{"sheet":"6- S-Curve Table","index":6,"n_rows":33,"n_cols":22,"rows_kept":33,"cut":false,"hidden":false,"merged":[[0,17,3,21],[4,17,4,18],[4,19,4,21],[5,19,5,21],[6,19,6,21],[8,0,8,21],[10,0,10,5],[12,1,13,1],[12,2,13,2],[12,4,13,4],[12,5,13,5],[0,0,6,3],[0,4,1,16],[2,4,3,16],[4,4,4,16],[5,4,5,16],[6,4,6,16],[22,0,22,5],[24,1,25,1],[24,2,25,2],[24,4,25,4],[24,5,25,5]]}
[null,null,null,null,{"$f":"'1-COVER SHEET'!F1","v":"Tabriz Petrochemical Company"},null,null,null,null,null,null,null,null,null,null,null,null,"Contractor/Vendor Logo"]
[]
[null,null,null,null,{"$f":"'1-COVER SHEET'!F3","v":"310 KTPA HDPE Plant"}]
[]
[null,null,null,null,"DOCUMENT TITLE:",null,null,null,null,null,null,null,null,null,null,null,null,"Vendor Name :",null,"XXXXX Co."]
[null,null,null,null,"Monthly/Weekly Progress Report",null,null,null,null,null,null,null,null,null,null,null,null,"Cut-off Date",null,"2022-04-15"]
[null,null,null,null,"Plan & Actual Trend",null,null,null,null,null,null,null,null,null,null,null,null,"PO. No.:",null,"XXXXXX"]
[]
["Plan & Actual Trend"]
[]
["PLAN",null,null,null,null,null,0,1,2,3,4,5,6,7,8,9,10,11,12,13,14,15]
["Row No.","WBS Name","WF (100%)",4,"Start Date","Finish Date","2022-02-23","2022-03-15","2022-04-15","2022-05-15","2022-06-15","2022-07-15","2022-08-15","2022-09-15","2022-10-15","2022-11-15","2022-12-15","2023-01-15","2023-02-15","2023-03-15","2023-04-15","2023-05-15"]
[0,"Overall Planned Progress",{"$f":"SUM(C15:C21)","v":0.6645000000000002},"Cum. Plan",{"$f":"MIN(E15:E21)","v":"00:00:00"},{"$f":"MAX(F15:F21)","v":"2022-04-05T11:43:44"},{"$f":"(SUMPRODUCT($C15:$C21,G15:G21))","v":0},0,0,0,0,0,0,0,0,0,0,0,0,0,0,0]
[null,null,null,"Plan Interval",null,null,{"$f":"(G13)","v":0},{"$f":"(H13-G13)","v":0},0,0,0,0,0,0,0,0,0,0,0,0,0,0]
[1,"Project Management and Control",{"$f":"VLOOKUP(B15,'5-PMS'!$C:$I,7,0)","v":6.0000000000000001E-3},"Cum. Plan",{"$f":"VLOOKUP(B15,'5-PMS'!$C:$N,9,0)","v":"2022-04-04T11:43:44.243"},{"$f":"VLOOKUP(B15,'5-PMS'!$C:$N,10,0)","v":"2022-04-05T11:43:44"},0]
[2,"Engineering",{"$f":"VLOOKUP(B16,'5-PMS'!$C:$I,7,0)","v":6.000000000000001E-3},"Cum. Plan",{"$f":"VLOOKUP(B16,'5-PMS'!$C:$N,9,0)","v":"00:00:00"},{"$f":"VLOOKUP(B16,'5-PMS'!$C:$N,10,0)","v":"00:00:00"},0]
[2,"Procurement and Supply of Materials (Based on Sub-vendor List)",{"$f":"VLOOKUP(B17,'5-PMS'!$C:$I,7,0)","v":8.249999999999999E-2},"Cum. Plan",{"$f":"VLOOKUP(B17,'5-PMS'!$C:$N,9,0)","v":"00:00:00"},{"$f":"VLOOKUP(B17,'5-PMS'!$C:$N,10,0)","v":"00:00:00"},0]
[3,"Manufacturing",{"$f":"VLOOKUP(B18,'5-PMS'!$C:$I,7,0)","v":0.32000000000000017},"Cum. Plan",{"$f":"VLOOKUP(B18,'5-PMS'!$C:$N,9,0)","v":"00:00:00"},{"$f":"VLOOKUP(B18,'5-PMS'!$C:$N,10,0)","v":"00:00:00"},0]
[4,"Final Inspection and Test",{"$f":"VLOOKUP(B19,'5-PMS'!$C:$I,7,0)","v":0.10000000000000002},"Cum. Plan",{"$f":"VLOOKUP(B19,'5-PMS'!$C:$N,9,0)","v":"00:00:00"},{"$f":"VLOOKUP(B19,'5-PMS'!$C:$N,10,0)","v":"00:00:00"},0]
[5,"Ex-Work/ FOB/ CFR/ Transportation and Delivery at Site",{"$f":"VLOOKUP(B20,'5-PMS'!$C:$I,7,0)","v":0.1},"Cum. Plan",{"$f":"VLOOKUP(B20,'5-PMS'!$C:$N,9,0)","v":"00:00:00"},{"$f":"VLOOKUP(B20,'5-PMS'!$C:$N,10,0)","v":"00:00:00"},0]
[6,"Final Book",{"$f":"VLOOKUP(B21,'5-PMS'!$C:$I,7,0)","v":0.05},"Cum. Plan",{"$f":"VLOOKUP(B21,'5-PMS'!$C:$N,9,0)","v":"00:00:00"},{"$f":"VLOOKUP(B21,'5-PMS'!$C:$N,10,0)","v":0},0]
[]
["Actual",null,null,null,null,null,{"$f":"G11","v":0},{"$f":"IF(H11>0,H11,\"\")","v":1},2,3,4,5,6,7,8,9,10,11,12,13,14,15]
["Row No.","WBS Name","WF (100%)",null,"Start Date","Finish Date",{"$f":"IF(G12>0,G12,\"\")","v":"2022-02-23"},"2022-03-15","2022-04-15","2022-05-15","2022-06-15","2022-07-15","2022-08-15","2022-09-15","2022-10-15","2022-11-15","2022-12-15","2023-01-15","2023-02-15","2023-03-15","2023-04-15","2023-05-15"]
[0,"Overall Actual Progress",{"$f":"SUM(C27:C33)","v":0.6645000000000002},"Cum. Actual",{"$f":"MIN(E27:E33)","v":"00:00:00"},{"$f":"IF(COUNTIF(C27:C33,\">0\")=COUNTIF(F27:F33,\">0\"),MAX(F27:F33),\"\")","v":""},{"$f":"SUMPRODUCT($C27:$C33,G27:G33)","v":0},{"$f":"SUMPRODUCT($C27:$C33,H27:H33)","v":0},{"$f":"SUMPRODUCT($C27:$C33,I27:I33)","v":0}]
[null,null,null,"Actual Interval",null,{"$f":"IF(COUNTIF(D27:D33,\">0\")=COUNTIF(F27:F33,\">0\"),MAX(F27:F33),\"\")","v":"00:00:00"},{"$f":"G25","v":0},{"$f":"H25-G25","v":0},{"$f":"I25-H25","v":0}]
[1,{"$f":"B15","v":"Project Management and Control"},{"$f":"C15","v":6.0000000000000001E-3},"Cum. Actual",{"$f":"VLOOKUP(B27,'5-PMS'!$C:$N,11,0)","v":"00:00:00"},{"$f":"VLOOKUP(B27,'5-PMS'!$C:$N,12,0)","v":"00:00:00"},0]
[2,{"$f":"B16","v":"Engineering"},6.000000000000001E-3,"Cum. Actual",{"$f":"VLOOKUP(B28,'5-PMS'!$C:$N,11,0)","v":"2022-04-04T11:43:44.243"},{"$f":"VLOOKUP(B28,'5-PMS'!$C:$N,12,0)","v":"00:00:00"},0]
[2,"Procurement and Supply of Materials (Based on Sub-vendor List)",8.249999999999999E-2,"Cum. Actual",{"$f":"VLOOKUP(B29,'5-PMS'!$C:$N,11,0)","v":"00:00:00"},{"$f":"VLOOKUP(B29,'5-PMS'!$C:$N,12,0)","v":"00:00:00"},0,0]
[3,"Manufacturing",0.32000000000000017,"Cum. Actual",{"$f":"VLOOKUP(B30,'5-PMS'!$C:$N,11,0)","v":"00:00:00"},{"$f":"VLOOKUP(B30,'5-PMS'!$C:$N,12,0)","v":"00:00:00"},0,0]
[4,"Final Inspection and Test",0.10000000000000002,"Cum. Actual",{"$f":"VLOOKUP(B31,'5-PMS'!$C:$N,11,0)","v":"00:00:00"},{"$f":"VLOOKUP(B31,'5-PMS'!$C:$N,12,0)","v":"00:00:00"},0]
[5,"Ex-Work/ FOB/ CFR/ Transportation and Delivery at Site",0.1,"Cum. Actual",{"$f":"VLOOKUP(B32,'5-PMS'!$C:$N,11,0)","v":"00:00:00"},{"$f":"VLOOKUP(B32,'5-PMS'!$C:$N,12,0)","v":"00:00:00"},0]
[6,"Final Book",0.05,"Cum. Actual",{"$f":"VLOOKUP(B33,'5-PMS'!$C:$N,11,0)","v":"00:00:00"},{"$f":"VLOOKUP(B33,'5-PMS'!$C:$N,12,0)","v":"00:00:00"},0]

{"sheet":"7- S-Curve Chart","index":7,"n_rows":10,"n_cols":7,"rows_kept":10,"cut":false,"hidden":false,"merged":[[4,3,4,4],[4,5,4,8],[0,3,0,4],[0,5,2,8],[1,3,2,4],[3,3,3,4],[3,5,3,8],[41,4,41,7],[41,0,41,2],[5,3,5,4],[5,6,5,8],[9,3,9,4]]}
[null,null,null,{"$f":"'1-COVER SHEET'!F1","v":"Tabriz Petrochemical Company"},null,"Contractor/Vendor Logo"]
[null,null,null,{"$f":"'1-COVER SHEET'!F3","v":"310 KTPA HDPE Plant"}]
[]
[null,null,null,"DOCUMENT TITLE:",null,"Vendor Name :"]
[null,null,null,"Monthly/Weekly Progress Report",null,{"$f":"'1-COVER SHEET'!L6","v":"XXXXX Co."}]
[null,null,null,"Project Progress Chart",null,"PO. No.:",{"$f":"'1-COVER SHEET'!M7","v":"XXXXXX"}]
[]
[]
[]
[null,null,null,"Project Progress Chart"]

{"sheet":"8-Document Status Report (MDR)","index":8,"n_rows":611,"n_cols":17,"rows_kept":611,"cut":false,"hidden":false,"merged":[[9,6,10,6],[9,0,10,1],[9,2,10,3],[9,4,10,4],[0,2,1,16],[2,2,3,16],[4,2,4,16],[5,2,5,16],[6,2,6,16],[7,0,8,0],[7,1,8,1],[7,2,8,2],[7,3,8,3],[9,5,10,5],[7,4,8,4],[9,10,9,14],[10,10,10,14],[7,10,7,14],[7,16,8,16],[9,7,10,7],[9,8,10,8]]}
[null,null,{"$f":"'1-COVER SHEET'!F1","v":"Tabriz Petrochemical Company"}]
[]
[null,null,{"$f":"'1-COVER SHEET'!F3","v":"310 KTPA HDPE Plant"}]
[]
[null,null,"DOCUMENT TITLE:"]
[null,null,"Monthly/Weekly Progress Report"]
[null,null,"Master Document Register (MDR)"]
["Purchaser Doc No.","Document Title","POI","Doc Type","Weight Factor (100%)","Planned  Dates (Baseline)",null,"Actual  Dates (Baseline)",null,null,"Last Progress Status",null,null,null,null,null,"Last Actual % Progress"]
[null,null,null,null,null,"Start Date","Fimish Date","Start Date","Fimish Date",null,"VPIS POI","Revision","Recieved DCC","Comment Date","Comment Type"]
[null,null,"Total Weight",null,{"$f":"SUMIFS(E12:E612,$A12:$A612,\"<>\")","v":1.0000000000000002},{"$f":"_xlfn.MINIFS(F12:F612,F12:F612,\">0\")","v":"2022-04-04T11:43:44.243"},{"$f":"_xlfn.MAXIFS(G12:G612,$A12:$A612,\"<>\",G12:G612,\">0\")","v":"00:00:00"},{"$f":"_xlfn.MINIFS(H12:H612,H12:H612,\">0\")","v":"2022-04-04T11:43:44.243"},{"$f":"_xlfn.MAXIFS(I12:I612,$A12:$A612,\"<>\",I12:I612,\">0\")","v":"2022-04-04T11:43:44.243"}]
[]
["HDPE-16-VD-5002-GN-LST-0001","Vendor Print Index & Schedule (VPIS)","IFA","LIS",1.3653805289933416E-2,"2022-04-04T11:43:44.243",null,"2022-04-04T11:43:44.243","2022-04-04T11:43:44.243",null,{"$f":"IF($A12>0,VLOOKUP($A12,'Last Document Status-HOMA'!$C:$Y,MATCH(K$9,'Last Document Status-HOMA'!$1:$1,0)-2,0),0)","v":"IFA"},{"$f":"IF($A12>0,VLOOKUP($A12,'Last Document Status-HOMA'!$C:$Y,MATCH(L$9,'Last Document Status-HOMA'!$1:$1,0)-2,0),0)","v":"01"},{"$f":"IF($A12>0,VLOOKUP($A12,'Last Document Status-HOMA'!$C:$Y,MATCH(M$9,'Last Document Status-HOMA'!$1:$1,0)-2,0),0)","v":"2022-04-04T14:40:03.067"},{"$f":"IF($A12>0,VLOOKUP($A12,'Last Document Status-HOMA'!$C:$Y,MATCH(\"Outgoing Date\",'Last Document Status-HOMA'!$1:$1,0)-2,0),0)","v":"00:00:00"},{"$f":"IF($A12>0,VLOOKUP($A12,'Last Document Status-HOMA'!$C:$Y,MATCH(O$9,'Last Document Status-HOMA'!$1:$1,0)-2,0),0)","v":0},null,{"$f":"IF(K12=\"IFA\",\"\",IF(AND(K12=\"IFI\",M12>0),1,IF(AND(K12=\"IFR\",M12>0,O12=0),0.5,IF(AND(K12=\"IFR\",L12>0,O12=\"Code5\"),1,IF(AND(K12=\"IFR\",L12>0,O12=\"Code2\"),0.9,IF(AND(K12=\"IFR\",L12>0,O12=\"Code3\"),0.5,IF(AND(K12=\"IFR\",L12>0,O12=\"Code4\"),0,\"\")))))))","v":""}]
["HDPE-16-VD-5002-GN-WBS-0001","Work Breakdown Structure (WBS) for Reactors","IFA","CAL",1.4999999999999999E-2,null,null,null,"2022-04-04T11:43:44.243",null,{"$f":"IF($A13>0,VLOOKUP($A13,'Last Document Status-HOMA'!$C:$Y,MATCH(K$9,'Last Document Status-HOMA'!$1:$1,0)-2,0),0)","v":"IFA"},{"$f":"IF($A13>0,VLOOKUP($A13,'Last Document Status-HOMA'!$C:$Y,MATCH(L$9,'Last Document Status-HOMA'!$1:$1,0)-2,0),0)","v":"01"},{"$f":"IF($A13>0,VLOOKUP($A13,'Last Document Status-HOMA'!$C:$Y,MATCH(M$9,'Last Document Status-HOMA'!$1:$1,0)-2,0),0)","v":"2022-04-04T11:43:44.243"},{"$f":"IF($A13>0,VLOOKUP($A13,'Last Document Status-HOMA'!$C:$Y,MATCH(\"Outgoing Date\",'Last Document Status-HOMA'!$1:$1,0)-2,0),0)","v":"2022-04-04T07:51:32.347"},{"$f":"IF($A13>0,VLOOKUP($A13,'Last Document Status-HOMA'!$C:$Y,MATCH(O$9,'Last Document Status-HOMA'!$1:$1,0)-2,0),0)","v":"Code4"},null,{"$f":"IF(K13=\"IFA\",\"\",IF(AND(K13=\"IFI\",M13>0),1,IF(AND(K13=\"IFR\",M13>0,O13=0),0.5,IF(AND(K13=\"IFR\",L13>0,O13=\"Code5\"),1,IF(AND(K13=\"IFR\",L13>0,O13=\"Code2\"),0.9,IF(AND(K13=\"IFR\",L13>0,O13=\"Code3\"),0.5,IF(AND(K13=\"IFR\",L13>0,O13=\"Code4\"),0,\"\")))))))","v":""}]
["HDPE-16-VD-5002-GN-SCH-0001","PROJECT DETAILED TIME SCHEDULE for REACTORS","IFA","CAL",1.865380344377908E-2,null,null,null,"2022-04-04T11:43:44.243",null,{"$f":"IF($A14>0,VLOOKUP($A14,'Last Document Status-HOMA'!$C:$Y,MATCH(K$9,'Last Document Status-HOMA'!$1:$1,0)-2,0),0)","v":"IFA"},{"$f":"IF($A14>0,VLOOKUP($A14,'Last Document Status-HOMA'!$C:$Y,MATCH(L$9,'Last Document Status-HOMA'!$1:$1,0)-2,0),0)","v":"00"},{"$f":"IF($A14>0,VLOOKUP($A14,'Last Document Status-HOMA'!$C:$Y,MATCH(M$9,'Last Document Status-HOMA'!$1:$1,0)-2,0),0)","v":"2022-03-07T14:10:59.500"},{"$f":"IF($A14>0,VLOOKUP($A14,'Last Document Status-HOMA'!$C:$Y,MATCH(\"Outgoing Date\",'Last Document Status-HOMA'!$1:$1,0)-2,0),0)","v":"2022-04-04T07:51:32.347"},{"$f":"IF($A14>0,VLOOKUP($A14,'Last Document Status-HOMA'!$C:$Y,MATCH(O$9,'Last Document Status-HOMA'!$1:$1,0)-2,0),0)","v":"Code2"},null,""]
["HDPE-16-VD-5002-ME-DWG-0031","General Arrangement Drawing for 16-R-111","IFR","CAL",1.865380344377908E-2,null,null,null,"2022-04-04T11:43:44.243",null,{"$f":"IF($A15>0,VLOOKUP($A15,'Last Document Status-HOMA'!$C:$Y,MATCH(K$9,'Last Document Status-HOMA'!$1:$1,0)-2,0),0)","v":"IFR"},{"$f":"IF($A15>0,VLOOKUP($A15,'Last Document Status-HOMA'!$C:$Y,MATCH(L$9,'Last Document Status-HOMA'!$1:$1,0)-2,0),0)","v":"00"},{"$f":"IF($A15>0,VLOOKUP($A15,'Last Document Status-HOMA'!$C:$Y,MATCH(M$9,'Last Document Status-HOMA'!$1:$1,0)-2,0),0)","v":"2022-03-07T11:58:57.487"},{"$f":"IF($A15>0,VLOOKUP($A15,'Last Document Status-HOMA'!$C:$Y,MATCH(\"Outgoing Date\",'Last Document Status-HOMA'!$1:$1,0)-2,0),0)","v":"2022-04-04T07:49:51.030"},{"$f":"IF($A15>0,VLOOKUP($A15,'Last Document Status-HOMA'!$C:$Y,MATCH(O$9,'Last Document Status-HOMA'!$1:$1,0)-2,0),0)","v":"Code1"},null,""]
["HDPE-16-VD-5002-ME-DWG-0043","General Arrangement Drawing for 16-R-121","IFR","CAL",1.865380344377908E-2,null,null,null,"2022-04-04T11:43:44.243",null,{"$f":"IF($A16>0,VLOOKUP($A16,'Last Document Status-HOMA'!$C:$Y,MATCH(K$9,'Last Document Status-HOMA'!$1:$1,0)-2,0),0)","v":"IFR"},{"$f":"IF($A16>0,VLOOKUP($A16,'Last Document Status-HOMA'!$C:$Y,MATCH(L$9,'Last Document Status-HOMA'!$1:$1,0)-2,0),0)","v":"00"},{"$f":"IF($A16>0,VLOOKUP($A16,'Last Document Status-HOMA'!$C:$Y,MATCH(M$9,'Last Document Status-HOMA'!$1:$1,0)-2,0),0)","v":"2022-03-08T14:11:00"},{"$f":"IF($A16>0,VLOOKUP($A16,'Last Document Status-HOMA'!$C:$Y,MATCH(\"Outgoing Date\",'Last Document Status-HOMA'!$1:$1,0)-2,0),0)","v":"2022-04-04T07:51:32.347"},"Code3",null,0.5]
["HDPE-16-VD-5002-ME-CAL-0030","Mechanical Calculations for 16-R-111","IFR","DWG",3.0000005538462531E-2,null,null,null,"2022-04-04T11:43:44.243",null,{"$f":"IF($A17>0,VLOOKUP($A17,'Last Document Status-HOMA'!$C:$Y,MATCH(K$9,'Last Document Status-HOMA'!$1:$1,0)-2,0),0)","v":"IFR"},{"$f":"IF($A17>0,VLOOKUP($A17,'Last Document Status-HOMA'!$C:$Y,MATCH(L$9,'Last Document Status-HOMA'!$1:$1,0)-2,0),0)","v":"00"},{"$f":"IF($A17>0,VLOOKUP($A17,'Last Document Status-HOMA'!$C:$Y,MATCH(M$9,'Last Document Status-HOMA'!$1:$1,0)-2,0),0)","v":"00:00:00"},{"$f":"IF($A17>0,VLOOKUP($A17,'Last Document Status-HOMA'!$C:$Y,MATCH(\"Outgoing Date\",'Last Document Status-HOMA'!$1:$1,0)-2,0),0)","v":"2022-04-04T08:03:37.450"},{"$f":"IF($A17>0,VLOOKUP($A17,'Last Document Status-HOMA'!$C:$Y,MATCH(O$9,'Last Document Status-HOMA'!$1:$1,0)-2,0),0)","v":"Code5"},null,1]
["HDPE-16-VD-5002-ME-CAL-0037","Shipping & Lifting Calculation for 16-R-111","IFI","DWG",3.0000005538462531E-2,null,null,null,"2022-04-04T11:43:44.243",null,{"$f":"IF($A18>0,VLOOKUP($A18,'Last Document Status-HOMA'!$C:$Y,MATCH(K$9,'Last Document Status-HOMA'!$1:$1,0)-2,0),0)","v":"IFI"},{"$f":"IF($A18>0,VLOOKUP($A18,'Last Document Status-HOMA'!$C:$Y,MATCH(L$9,'Last Document Status-HOMA'!$1:$1,0)-2,0),0)","v":"00"},{"$f":"IF($A18>0,VLOOKUP($A18,'Last Document Status-HOMA'!$C:$Y,MATCH(M$9,'Last Document Status-HOMA'!$1:$1,0)-2,0),0)","v":"2022-03-08T14:11:00"},{"$f":"IF($A18>0,VLOOKUP($A18,'Last Document Status-HOMA'!$C:$Y,MATCH(\"Outgoing Date\",'Last Document Status-HOMA'!$1:$1,0)-2,0),0)","v":"2022-04-04T07:51:32.347"},{"$f":"IF($A18>0,VLOOKUP($A18,'Last Document Status-HOMA'!$C:$Y,MATCH(O$9,'Last Document Status-HOMA'!$1:$1,0)-2,0),0)","v":"Code5"},null,1]
["HDPE-16-VD-5002-ME-CAL-0040","Pipe Support Clip Calculation for 16-R-111 ( IF ANY )","IFR","DWG",3.0000005538462531E-2,null,null,null,"2022-04-04T11:43:44.243",null,{"$f":"IF($A19>0,VLOOKUP($A19,'Last Document Status-HOMA'!$C:$Y,MATCH(K$9,'Last Document Status-HOMA'!$1:$1,0)-2,0),0)","v":"IFR"},{"$f":"IF($A19>0,VLOOKUP($A19,'Last Document Status-HOMA'!$C:$Y,MATCH(L$9,'Last Document Status-HOMA'!$1:$1,0)-2,0),0)","v":"00"},{"$f":"IF($A19>0,VLOOKUP($A19,'Last Document Status-HOMA'!$C:$Y,MATCH(M$9,'Last Document Status-HOMA'!$1:$1,0)-2,0),0)","v":"2022-03-08T14:11:00"},{"$f":"IF($A19>0,VLOOKUP($A19,'Last Document Status-HOMA'!$C:$Y,MATCH(\"Outgoing Date\",'Last Document Status-HOMA'!$1:$1,0)-2,0),0)","v":"00:00:00"},{"$f":"IF($A19>0,VLOOKUP($A19,'Last Document Status-HOMA'!$C:$Y,MATCH(O$9,'Last Document Status-HOMA'!$1:$1,0)-2,0),0)","v":0},null,0.5]
["HDPE-16-VD-5002-ME-CAL-0041","FEA Calculation for 16-R-111 ( IF ANY )","IFR","DWG",3.0000005538462531E-2,null,null,null,null,null,{"$f":"IF($A20>0,VLOOKUP($A20,'Last Document Status-HOMA'!$C:$Y,MATCH(K$9,'Last Document Status-HOMA'!$1:$1,0)-2,0),0)","v":"IFR"},{"$f":"IF($A20>0,VLOOKUP($A20,'Last Document Status-HOMA'!$C:$Y,MATCH(L$9,'Last Document Status-HOMA'!$1:$1,0)-2,0),0)","v":"00"},{"$f":"IF($A20>0,VLOOKUP($A20,'Last Document Status-HOMA'!$C:$Y,MATCH(M$9,'Last Document Status-HOMA'!$1:$1,0)-2,0),0)","v":"2022-03-08T14:11:00"},{"$f":"IF($A20>0,VLOOKUP($A20,'Last Document Status-HOMA'!$C:$Y,MATCH(\"Outgoing Date\",'Last Document Status-HOMA'!$1:$1,0)-2,0),0)","v":"00:00:00"},{"$f":"IF($A20>0,VLOOKUP($A20,'Last Document Status-HOMA'!$C:$Y,MATCH(O$9,'Last Document Status-HOMA'!$1:$1,0)-2,0),0)","v":0},null,0.5]
["HDPE-16-VD-5002-ME-CAL-0042","Mechanical Calculations for 16-R-121","IFR","DWG",1.5000002769231266E-2,null,null,null,null,null,{"$f":"IF($A21>0,VLOOKUP($A21,'Last Document Status-HOMA'!$C:$Y,MATCH(K$9,'Last Document Status-HOMA'!$1:$1,0)-2,0),0)","v":"IFR"},{"$f":"IF($A21>0,VLOOKUP($A21,'Last Document Status-HOMA'!$C:$Y,MATCH(L$9,'Last Document Status-HOMA'!$1:$1,0)-2,0),0)","v":0},{"$f":"IF($A21>0,VLOOKUP($A21,'Last Document Status-HOMA'!$C:$Y,MATCH(M$9,'Last Document Status-HOMA'!$1:$1,0)-2,0),0)","v":"2022-03-08T14:11:00"},{"$f":"IF($A21>0,VLOOKUP($A21,'Last Document Status-HOMA'!$C:$Y,MATCH(\"Outgoing Date\",'Last Document Status-HOMA'!$1:$1,0)-2,0),0)","v":"00:00:00"},{"$f":"IF($A21>0,VLOOKUP($A21,'Last Document Status-HOMA'!$C:$Y,MATCH(O$9,'Last Document Status-HOMA'!$1:$1,0)-2,0),0)","v":0},null,0.5]
["HDPE-16-VD-5002-ME-CAL-0049","Shipping & Lifting Calculation for 16-R-121","IFR","DWG",1.5000002769231266E-2,null,null,null,null,null,{"$f":"IF($A22>0,VLOOKUP($A22,'Last Document Status-HOMA'!$C:$Y,MATCH(K$9,'Last Document Status-HOMA'!$1:$1,0)-2,0),0)","v":"IFR"},{"$f":"IF($A22>0,VLOOKUP($A22,'Last Document Status-HOMA'!$C:$Y,MATCH(L$9,'Last Document Status-HOMA'!$1:$1,0)-2,0),0)","v":0},{"$f":"IF($A22>0,VLOOKUP($A22,'Last Document Status-HOMA'!$C:$Y,MATCH(M$9,'Last Document Status-HOMA'!$1:$1,0)-2,0),0)","v":"00:00:00"},{"$f":"IF($A22>0,VLOOKUP($A22,'Last Document Status-HOMA'!$C:$Y,MATCH(\"Outgoing Date\",'Last Document Status-HOMA'!$1:$1,0)-2,0),0)","v":"00:00:00"},{"$f":"IF($A22>0,VLOOKUP($A22,'Last Document Status-HOMA'!$C:$Y,MATCH(O$9,'Last Document Status-HOMA'!$1:$1,0)-2,0),0)","v":0},null,""]
["HDPE-16-VD-5002-ME-CAL-0053","Pipe Support Clip Calculation for 16-R-121 ( IF ANY )","IFR","DWG",1.5000002769231266E-2,null,null,null,null,null,{"$f":"IF($A23>0,VLOOKUP($A23,'Last Document Status-HOMA'!$C:$Y,MATCH(K$9,'Last Document Status-HOMA'!$1:$1,0)-2,0),0)","v":"IFR"},{"$f":"IF($A23>0,VLOOKUP($A23,'Last Document Status-HOMA'!$C:$Y,MATCH(L$9,'Last Document Status-HOMA'!$1:$1,0)-2,0),0)","v":0},{"$f":"IF($A23>0,VLOOKUP($A23,'Last Document Status-HOMA'!$C:$Y,MATCH(M$9,'Last Document Status-HOMA'!$1:$1,0)-2,0),0)","v":"00:00:00"},{"$f":"IF($A23>0,VLOOKUP($A23,'Last Document Status-HOMA'!$C:$Y,MATCH(\"Outgoing Date\",'Last Document Status-HOMA'!$1:$1,0)-2,0),0)","v":"00:00:00"},{"$f":"IF($A23>0,VLOOKUP($A23,'Last Document Status-HOMA'!$C:$Y,MATCH(O$9,'Last Document Status-HOMA'!$1:$1,0)-2,0),0)","v":0},null,""]
["HDPE-16-VD-5002-ME-CAL-0054","FEA Calculation for 16-R-121 ( IF ANY )","IFR","DWG",1.5000002769231266E-2,null,null,null,null,null,{"$f":"IF($A24>0,VLOOKUP($A24,'Last Document Status-HOMA'!$C:$Y,MATCH(K$9,'Last Document Status-HOMA'!$1:$1,0)-2,0),0)","v":"IFR"},{"$f":"IF($A24>0,VLOOKUP($A24,'Last Document Status-HOMA'!$C:$Y,MATCH(L$9,'Last Document Status-HOMA'!$1:$1,0)-2,0),0)","v":0},{"$f":"IF($A24>0,VLOOKUP($A24,'Last Document Status-HOMA'!$C:$Y,MATCH(M$9,'Last Document Status-HOMA'!$1:$1,0)-2,0),0)","v":"00:00:00"},{"$f":"IF($A24>0,VLOOKUP($A24,'Last Document Status-HOMA'!$C:$Y,MATCH(\"Outgoing Date\",'Last Document Status-HOMA'!$1:$1,0)-2,0),0)","v":"00:00:00"},{"$f":"IF($A24>0,VLOOKUP($A24,'Last Document Status-HOMA'!$C:$Y,MATCH(O$9,'Last Document Status-HOMA'!$1:$1,0)-2,0),0)","v":0},null,""]
["HDPE-16-VD-5002-ME-CAL-0055","Mechanical Calculations for 16-R-122","IFR","DWG",1.5000002769231266E-2,null,null,null,null,null,{"$f":"IF($A25>0,VLOOKUP($A25,'Last Document Status-HOMA'!$C:$Y,MATCH(K$9,'Last Document Status-HOMA'!$1:$1,0)-2,0),0)","v":"IFR"},{"$f":"IF($A25>0,VLOOKUP($A25,'Last Document Status-HOMA'!$C:$Y,MATCH(L$9,'Last Document Status-HOMA'!$1:$1,0)-2,0),0)","v":0},{"$f":"IF($A25>0,VLOOKUP($A25,'Last Document Status-HOMA'!$C:$Y,MATCH(M$9,'Last Document Status-HOMA'!$1:$1,0)-2,0),0)","v":"00:00:00"},{"$f":"IF($A25>0,VLOOKUP($A25,'Last Document Status-HOMA'!$C:$Y,MATCH(\"Outgoing Date\",'Last Document Status-HOMA'!$1:$1,0)-2,0),0)","v":"00:00:00"},{"$f":"IF($A25>0,VLOOKUP($A25,'Last Document Status-HOMA'!$C:$Y,MATCH(O$9,'Last Document Status-HOMA'!$1:$1,0)-2,0),0)","v":0},null,""]
["HDPE-16-VD-5002-ME-CAL-0062","Shipping & Lifting Calculation for 16-R-122","IFR","DWG",1.5000002769231266E-2,null,null,null,null,null,{"$f":"IF($A26>0,VLOOKUP($A26,'Last Document Status-HOMA'!$C:$Y,MATCH(K$9,'Last Document Status-HOMA'!$1:$1,0)-2,0),0)","v":"IFR"},{"$f":"IF($A26>0,VLOOKUP($A26,'Last Document Status-HOMA'!$C:$Y,MATCH(L$9,'Last Document Status-HOMA'!$1:$1,0)-2,0),0)","v":0},{"$f":"IF($A26>0,VLOOKUP($A26,'Last Document Status-HOMA'!$C:$Y,MATCH(M$9,'Last Document Status-HOMA'!$1:$1,0)-2,0),0)","v":"00:00:00"},{"$f":"IF($A26>0,VLOOKUP($A26,'Last Document Status-HOMA'!$C:$Y,MATCH(\"Outgoing Date\",'Last Document Status-HOMA'!$1:$1,0)-2,0),0)","v":"00:00:00"},{"$f":"IF($A26>0,VLOOKUP($A26,'Last Document Status-HOMA'!$C:$Y,MATCH(O$9,'Last Document Status-HOMA'!$1:$1,0)-2,0),0)","v":0},null,""]
["HDPE-16-VD-5002-ME-CAL-0066","Pipe Support Clip Calculation for 16-R-122 ( IF ANY )","IFR","DWG",1.5000002769231266E-2,null,null,null,null,null,{"$f":"IF($A27>0,VLOOKUP($A27,'Last Document Status-HOMA'!$C:$Y,MATCH(K$9,'Last Document Status-HOMA'!$1:$1,0)-2,0),0)","v":"IFR"},{"$f":"IF($A27>0,VLOOKUP($A27,'Last Document Status-HOMA'!$C:$Y,MATCH(L$9,'Last Document Status-HOMA'!$1:$1,0)-2,0),0)","v":0},{"$f":"IF($A27>0,VLOOKUP($A27,'Last Document Status-HOMA'!$C:$Y,MATCH(M$9,'Last Document Status-HOMA'!$1:$1,0)-2,0),0)","v":"00:00:00"},{"$f":"IF($A27>0,VLOOKUP($A27,'Last Document Status-HOMA'!$C:$Y,MATCH(\"Outgoing Date\",'Last Document Status-HOMA'!$1:$1,0)-2,0),0)","v":"00:00:00"},{"$f":"IF($A27>0,VLOOKUP($A27,'Last Document Status-HOMA'!$C:$Y,MATCH(O$9,'Last Document Status-HOMA'!$1:$1,0)-2,0),0)","v":0},null,""]
["HDPE-16-VD-5002-ME-CAL-0067","FEA Calculation for 16-R-122 ( IF ANY )","IFR","DWG",1.5000002769231266E-2,null,null,null,null,null,{"$f":"IF($A28>0,VLOOKUP($A28,'Last Document Status-HOMA'!$C:$Y,MATCH(K$9,'Last Document Status-HOMA'!$1:$1,0)-2,0),0)","v":"IFR"},{"$f":"IF($A28>0,VLOOKUP($A28,'Last Document Status-HOMA'!$C:$Y,MATCH(L$9,'Last Document Status-HOMA'!$1:$1,0)-2,0),0)","v":0},{"$f":"IF($A28>0,VLOOKUP($A28,'Last Document Status-HOMA'!$C:$Y,MATCH(M$9,'Last Document Status-HOMA'!$1:$1,0)-2,0),0)","v":"00:00:00"},{"$f":"IF($A28>0,VLOOKUP($A28,'Last Document Status-HOMA'!$C:$Y,MATCH(\"Outgoing Date\",'Last Document Status-HOMA'!$1:$1,0)-2,0),0)","v":"00:00:00"},{"$f":"IF($A28>0,VLOOKUP($A28,'Last Document Status-HOMA'!$C:$Y,MATCH(O$9,'Last Document Status-HOMA'!$1:$1,0)-2,0),0)","v":0},null,""]
["HDPE-16-VD-5002-ME-CAL-0068","Mechanical Calculations for 16-R-123","IFR","DWG",1.9230772781065726E-2,null,null,null,null,null,{"$f":"IF($A29>0,VLOOKUP($A29,'Last Document Status-HOMA'!$C:$Y,MATCH(K$9,'Last Document Status-HOMA'!$1:$1,0)-2,0),0)","v":"IFR"},{"$f":"IF($A29>0,VLOOKUP($A29,'Last Document Status-HOMA'!$C:$Y,MATCH(L$9,'Last Document Status-HOMA'!$1:$1,0)-2,0),0)","v":0},{"$f":"IF($A29>0,VLOOKUP($A29,'Last Document Status-HOMA'!$C:$Y,MATCH(M$9,'Last Document Status-HOMA'!$1:$1,0)-2,0),0)","v":"00:00:00"},{"$f":"IF($A29>0,VLOOKUP($A29,'Last Document Status-HOMA'!$C:$Y,MATCH(\"Outgoing Date\",'Last Document Status-HOMA'!$1:$1,0)-2,0),0)","v":"00:00:00"},{"$f":"IF($A29>0,VLOOKUP($A29,'Last Document Status-HOMA'!$C:$Y,MATCH(O$9,'Last Document Status-HOMA'!$1:$1,0)-2,0),0)","v":0},null,""]
["HDPE-16-VD-5002-ME-CAL-0075","Shipping & Lifting Calculation for 16-R-123","IFR","DWG",1.9230772781065726E-2,null,null,null,null,null,{"$f":"IF($A30>0,VLOOKUP($A30,'Last Document Status-HOMA'!$C:$Y,MATCH(K$9,'Last Document Status-HOMA'!$1:$1,0)-2,0),0)","v":"IFR"},{"$f":"IF($A30>0,VLOOKUP($A30,'Last Document Status-HOMA'!$C:$Y,MATCH(L$9,'Last Document Status-HOMA'!$1:$1,0)-2,0),0)","v":"00"},{"$f":"IF($A30>0,VLOOKUP($A30,'Last Document Status-HOMA'!$C:$Y,MATCH(M$9,'Last Document Status-HOMA'!$1:$1,0)-2,0),0)","v":"2022-03-07T11:58:57.487"},{"$f":"IF($A30>0,VLOOKUP($A30,'Last Document Status-HOMA'!$C:$Y,MATCH(\"Outgoing Date\",'Last Document Status-HOMA'!$1:$1,0)-2,0),0)","v":"2022-04-04T07:49:51.030"},{"$f":"IF($A30>0,VLOOKUP($A30,'Last Document Status-HOMA'!$C:$Y,MATCH(O$9,'Last Document Status-HOMA'!$1:$1,0)-2,0),0)","v":"Code3"},null,0.5]
["HDPE-16-VD-5002-ME-CAL-0079","Pipe Support Clip Calculation for 16-R-123 ( IF ANY )","IFR","DWG",1.9230772781065726E-2,null,null,null,null,null,{"$f":"IF($A31>0,VLOOKUP($A31,'Last Document Status-HOMA'!$C:$Y,MATCH(K$9,'Last Document Status-HOMA'!$1:$1,0)-2,0),0)","v":"IFR"},{"$f":"IF($A31>0,VLOOKUP($A31,'Last Document Status-HOMA'!$C:$Y,MATCH(L$9,'Last Document Status-HOMA'!$1:$1,0)-2,0),0)","v":0},{"$f":"IF($A31>0,VLOOKUP($A31,'Last Document Status-HOMA'!$C:$Y,MATCH(M$9,'Last Document Status-HOMA'!$1:$1,0)-2,0),0)","v":"00:00:00"},{"$f":"IF($A31>0,VLOOKUP($A31,'Last Document Status-HOMA'!$C:$Y,MATCH(\"Outgoing Date\",'Last Document Status-HOMA'!$1:$1,0)-2,0),0)","v":"00:00:00"},{"$f":"IF($A31>0,VLOOKUP($A31,'Last Document Status-HOMA'!$C:$Y,MATCH(O$9,'Last Document Status-HOMA'!$1:$1,0)-2,0),0)","v":0},null,""]
["HDPE-16-VD-5002-ME-CAL-0080","FEA Calculation for 16-R-123 ( IF ANY )","IFR","DWG",1.9230772781065726E-2,null,null,null,null,null,{"$f":"IF($A32>0,VLOOKUP($A32,'Last Document Status-HOMA'!$C:$Y,MATCH(K$9,'Last Document Status-HOMA'!$1:$1,0)-2,0),0)","v":"IFR"},{"$f":"IF($A32>0,VLOOKUP($A32,'Last Document Status-HOMA'!$C:$Y,MATCH(L$9,'Last Document Status-HOMA'!$1:$1,0)-2,0),0)","v":0},{"$f":"IF($A32>0,VLOOKUP($A32,'Last Document Status-HOMA'!$C:$Y,MATCH(M$9,'Last Document Status-HOMA'!$1:$1,0)-2,0),0)","v":"00:00:00"},{"$f":"IF($A32>0,VLOOKUP($A32,'Last Document Status-HOMA'!$C:$Y,MATCH(\"Outgoing Date\",'Last Document Status-HOMA'!$1:$1,0)-2,0),0)","v":"00:00:00"},{"$f":"IF($A32>0,VLOOKUP($A32,'Last Document Status-HOMA'!$C:$Y,MATCH(O$9,'Last Document Status-HOMA'!$1:$1,0)-2,0),0)","v":0},null,""]
["HDPE-16-VD-5002-ME-CAT-0009","Catalogues for Reactors","IFI","DWG",1.9230772781065726E-2,null,null,null,null,null,{"$f":"IF($A33>0,VLOOKUP($A33,'Last Document Status-HOMA'!$C:$Y,MATCH(K$9,'Last Document Status-HOMA'!$1:$1,0)-2,0),0)","v":"IFI"},{"$f":"IF($A33>0,VLOOKUP($A33,'Last Document Status-HOMA'!$C:$Y,MATCH(L$9,'Last Document Status-HOMA'!$1:$1,0)-2,0),0)","v":0},{"$f":"IF($A33>0,VLOOKUP($A33,'Last Document Status-HOMA'!$C:$Y,MATCH(M$9,'Last Document Status-HOMA'!$1:$1,0)-2,0),0)","v":"00:00:00"},{"$f":"IF($A33>0,VLOOKUP($A33,'Last Document Status-HOMA'!$C:$Y,MATCH(\"Outgoing Date\",'Last Document Status-HOMA'!$1:$1,0)-2,0),0)","v":"00:00:00"},{"$f":"IF($A33>0,VLOOKUP($A33,'Last Document Status-HOMA'!$C:$Y,MATCH(O$9,'Last Document Status-HOMA'!$1:$1,0)-2,0),0)","v":0},null,""]
["HDPE-16-VD-5002-ME-CER-0012","NDT Personal Qualification Certificate for Reactors","IFI","DWG",1.9230772781065726E-2,null,null,null,null,null,{"$f":"IF($A34>0,VLOOKUP($A34,'Last Document Status-HOMA'!$C:$Y,MATCH(K$9,'Last Document Status-HOMA'!$1:$1,0)-2,0),0)","v":"IFI"},{"$f":"IF($A34>0,VLOOKUP($A34,'Last Document Status-HOMA'!$C:$Y,MATCH(L$9,'Last Document Status-HOMA'!$1:$1,0)-2,0),0)","v":0},{"$f":"IF($A34>0,VLOOKUP($A34,'Last Document Status-HOMA'!$C:$Y,MATCH(M$9,'Last Document Status-HOMA'!$1:$1,0)-2,0),0)","v":"00:00:00"},{"$f":"IF($A34>0,VLOOKUP($A34,'Last Document Status-HOMA'!$C:$Y,MATCH(\"Outgoing Date\",'Last Document Status-HOMA'!$1:$1,0)-2,0),0)","v":"00:00:00"},{"$f":"IF($A34>0,VLOOKUP($A34,'Last Document Status-HOMA'!$C:$Y,MATCH(O$9,'Last Document Status-HOMA'!$1:$1,0)-2,0),0)","v":0},null,""]
["HDPE-16-VD-5002-ME-CER-0014","Welders Qualification Certificates for Reactors","IFI","DWG",1.9230772781065726E-2,null,null,null,null,null,{"$f":"IF($A35>0,VLOOKUP($A35,'Last Document Status-HOMA'!$C:$Y,MATCH(K$9,'Last Document Status-HOMA'!$1:$1,0)-2,0),0)","v":"IFI"},{"$f":"IF($A35>0,VLOOKUP($A35,'Last Document Status-HOMA'!$C:$Y,MATCH(L$9,'Last Document Status-HOMA'!$1:$1,0)-2,0),0)","v":0},{"$f":"IF($A35>0,VLOOKUP($A35,'Last Document Status-HOMA'!$C:$Y,MATCH(M$9,'Last Document Status-HOMA'!$1:$1,0)-2,0),0)","v":"00:00:00"},{"$f":"IF($A35>0,VLOOKUP($A35,'Last Document Status-HOMA'!$C:$Y,MATCH(\"Outgoing Date\",'Last Document Status-HOMA'!$1:$1,0)-2,0),0)","v":"00:00:00"},{"$f":"IF($A35>0,VLOOKUP($A35,'Last Document Status-HOMA'!$C:$Y,MATCH(O$9,'Last Document Status-HOMA'!$1:$1,0)-2,0),0)","v":0},null,""]
["HDPE-16-VD-5002-ME-DWG-0010","NDT Map For Reactors","IFR","DWG",1.9230772781065726E-2,null,null,null,null,null,{"$f":"IF($A36>0,VLOOKUP($A36,'Last Document Status-HOMA'!$C:$Y,MATCH(K$9,'Last Document Status-HOMA'!$1:$1,0)-2,0),0)","v":"IFR"},{"$f":"IF($A36>0,VLOOKUP($A36,'Last Document Status-HOMA'!$C:$Y,MATCH(L$9,'Last Document Status-HOMA'!$1:$1,0)-2,0),0)","v":0},{"$f":"IF($A36>0,VLOOKUP($A36,'Last Document Status-HOMA'!$C:$Y,MATCH(M$9,'Last Document Status-HOMA'!$1:$1,0)-2,0),0)","v":"00:00:00"},{"$f":"IF($A36>0,VLOOKUP($A36,'Last Document Status-HOMA'!$C:$Y,MATCH(\"Outgoing Date\",'Last Document Status-HOMA'!$1:$1,0)-2,0),0)","v":"00:00:00"},{"$f":"IF($A36>0,VLOOKUP($A36,'Last Document Status-HOMA'!$C:$Y,MATCH(O$9,'Last Document Status-HOMA'!$1:$1,0)-2,0),0)","v":0},null,""]
["HDPE-16-VD-5002-ME-DWG-0013","WPS/ PQR / Welding Map for Reactors","IFR","DWG",1.9230772781065726E-2,null,null,null,null,null,{"$f":"IF($A37>0,VLOOKUP($A37,'Last Document Status-HOMA'!$C:$Y,MATCH(K$9,'Last Document Status-HOMA'!$1:$1,0)-2,0),0)","v":"IFR"},{"$f":"IF($A37>0,VLOOKUP($A37,'Last Document Status-HOMA'!$C:$Y,MATCH(L$9,'Last Document Status-HOMA'!$1:$1,0)-2,0),0)","v":0},{"$f":"IF($A37>0,VLOOKUP($A37,'Last Document Status-HOMA'!$C:$Y,MATCH(M$9,'Last Document Status-HOMA'!$1:$1,0)-2,0),0)","v":"00:00:00"},{"$f":"IF($A37>0,VLOOKUP($A37,'Last Document Status-HOMA'!$C:$Y,MATCH(\"Outgoing Date\",'Last Document Status-HOMA'!$1:$1,0)-2,0),0)","v":"00:00:00"},{"$f":"IF($A37>0,VLOOKUP($A37,'Last Document Status-HOMA'!$C:$Y,MATCH(O$9,'Last Document Status-HOMA'!$1:$1,0)-2,0),0)","v":0},null,""]
["HDPE-16-VD-5002-ME-DWG-0032","Body Detail Drawing for 16-R-111","IFR","DWG",1.9230772781065726E-2,null,null,null,null,null,{"$f":"IF($A38>0,VLOOKUP($A38,'Last Document Status-HOMA'!$C:$Y,MATCH(K$9,'Last Document Status-HOMA'!$1:$1,0)-2,0),0)","v":"IFR"},{"$f":"IF($A38>0,VLOOKUP($A38,'Last Document Status-HOMA'!$C:$Y,MATCH(L$9,'Last Document Status-HOMA'!$1:$1,0)-2,0),0)","v":0},{"$f":"IF($A38>0,VLOOKUP($A38,'Last Document Status-HOMA'!$C:$Y,MATCH(M$9,'Last Document Status-HOMA'!$1:$1,0)-2,0),0)","v":"00:00:00"},{"$f":"IF($A38>0,VLOOKUP($A38,'Last Document Status-HOMA'!$C:$Y,MATCH(\"Outgoing Date\",'Last Document Status-HOMA'!$1:$1,0)-2,0),0)","v":"00:00:00"},{"$f":"IF($A38>0,VLOOKUP($A38,'Last Document Status-HOMA'!$C:$Y,MATCH(O$9,'Last Document Status-HOMA'!$1:$1,0)-2,0),0)","v":0},null,""]
["HDPE-16-VD-5002-ME-DWG-0033","External Drawing for 16-R-111","IFI","DWG",1.9230772781065726E-2,null,null,null,null,null,{"$f":"IF($A39>0,VLOOKUP($A39,'Last Document Status-HOMA'!$C:$Y,MATCH(K$9,'Last Document Status-HOMA'!$1:$1,0)-2,0),0)","v":"IFI"},{"$f":"IF($A39>0,VLOOKUP($A39,'Last Document Status-HOMA'!$C:$Y,MATCH(L$9,'Last Document Status-HOMA'!$1:$1,0)-2,0),0)","v":0},{"$f":"IF($A39>0,VLOOKUP($A39,'Last Document Status-HOMA'!$C:$Y,MATCH(M$9,'Last Document Status-HOMA'!$1:$1,0)-2,0),0)","v":"00:00:00"},{"$f":"IF($A39>0,VLOOKUP($A39,'Last Document Status-HOMA'!$C:$Y,MATCH(\"Outgoing Date\",'Last Document Status-HOMA'!$1:$1,0)-2,0),0)","v":"00:00:00"},{"$f":"IF($A39>0,VLOOKUP($A39,'Last Document Status-HOMA'!$C:$Y,MATCH(O$9,'Last Document Status-HOMA'!$1:$1,0)-2,0),0)","v":0},null,""]
["HDPE-16-VD-5002-ME-DWG-0034","Nozzle & Manhole Drawing for 16-R-111","IFI","DWG",1.9230772781065726E-2,null,null,null,null,null,{"$f":"IF($A40>0,VLOOKUP($A40,'Last Document Status-HOMA'!$C:$Y,MATCH(K$9,'Last Document Status-HOMA'!$1:$1,0)-2,0),0)","v":"IFI"},{"$f":"IF($A40>0,VLOOKUP($A40,'Last Document Status-HOMA'!$C:$Y,MATCH(L$9,'Last Document Status-HOMA'!$1:$1,0)-2,0),0)","v":0},{"$f":"IF($A40>0,VLOOKUP($A40,'Last Document Status-HOMA'!$C:$Y,MATCH(M$9,'Last Document Status-HOMA'!$1:$1,0)-2,0),0)","v":"00:00:00"},{"$f":"IF($A40>0,VLOOKUP($A40,'Last Document Status-HOMA'!$C:$Y,MATCH(\"Outgoing Date\",'Last Document Status-HOMA'!$1:$1,0)-2,0),0)","v":"00:00:00"},{"$f":"IF($A40>0,VLOOKUP($A40,'Last Document Status-HOMA'!$C:$Y,MATCH(O$9,'Last Document Status-HOMA'!$1:$1,0)-2,0),0)","v":0},null,""]
["HDPE-16-VD-5002-ME-DWG-0035","Nameplate Drawing for 16-R-111","IFI","DWG",1.9230772781065726E-2,null,null,null,null,null,{"$f":"IF($A41>0,VLOOKUP($A41,'Last Document Status-HOMA'!$C:$Y,MATCH(K$9,'Last Document Status-HOMA'!$1:$1,0)-2,0),0)","v":"IFI"},{"$f":"IF($A41>0,VLOOKUP($A41,'Last Document Status-HOMA'!$C:$Y,MATCH(L$9,'Last Document Status-HOMA'!$1:$1,0)-2,0),0)","v":0},{"$f":"IF($A41>0,VLOOKUP($A41,'Last Document Status-HOMA'!$C:$Y,MATCH(M$9,'Last Document Status-HOMA'!$1:$1,0)-2,0),0)","v":"00:00:00"},{"$f":"IF($A41>0,VLOOKUP($A41,'Last Document Status-HOMA'!$C:$Y,MATCH(\"Outgoing Date\",'Last Document Status-HOMA'!$1:$1,0)-2,0),0)","v":"00:00:00"},{"$f":"IF($A41>0,VLOOKUP($A41,'Last Document Status-HOMA'!$C:$Y,MATCH(O$9,'Last Document Status-HOMA'!$1:$1,0)-2,0),0)","v":0},null,""]
["HDPE-16-VD-5002-ME-DWG-0036","Shipping & Lifting Detail Drawing for 16-R-111","IFR","DWG",1.9230772781065726E-2,null,null,null,null,null,{"$f":"IF($A42>0,VLOOKUP($A42,'Last Document Status-HOMA'!$C:$Y,MATCH(K$9,'Last Document Status-HOMA'!$1:$1,0)-2,0),0)","v":"IFR"},{"$f":"IF($A42>0,VLOOKUP($A42,'Last Document Status-HOMA'!$C:$Y,MATCH(L$9,'Last Document Status-HOMA'!$1:$1,0)-2,0),0)","v":0},{"$f":"IF($A42>0,VLOOKUP($A42,'Last Document Status-HOMA'!$C:$Y,MATCH(M$9,'Last Document Status-HOMA'!$1:$1,0)-2,0),0)","v":"00:00:00"},{"$f":"IF($A42>0,VLOOKUP($A42,'Last Document Status-HOMA'!$C:$Y,MATCH(\"Outgoing Date\",'Last Document Status-HOMA'!$1:$1,0)-2,0),0)","v":"00:00:00"},{"$f":"IF($A42>0,VLOOKUP($A42,'Last Document Status-HOMA'!$C:$Y,MATCH(O$9,'Last Document Status-HOMA'!$1:$1,0)-2,0),0)","v":0},null,""]
["HDPE-16-VD-5002-ME-DWG-0038","Ladder & Platform Detail Drawing for 16-R-111","IFR","DWG",1.9230772781065726E-2,null,null,null,null,null,{"$f":"IF($A43>0,VLOOKUP($A43,'Last Document Status-HOMA'!$C:$Y,MATCH(K$9,'Last Document Status-HOMA'!$1:$1,0)-2,0),0)","v":"IFR"},{"$f":"IF($A43>0,VLOOKUP($A43,'Last Document Status-HOMA'!$C:$Y,MATCH(L$9,'Last Document Status-HOMA'!$1:$1,0)-2,0),0)","v":0},{"$f":"IF($A43>0,VLOOKUP($A43,'Last Document Status-HOMA'!$C:$Y,MATCH(M$9,'Last Document Status-HOMA'!$1:$1,0)-2,0),0)","v":"00:00:00"},{"$f":"IF($A43>0,VLOOKUP($A43,'Last Document Status-HOMA'!$C:$Y,MATCH(\"Outgoing Date\",'Last Document Status-HOMA'!$1:$1,0)-2,0),0)","v":"00:00:00"},{"$f":"IF($A43>0,VLOOKUP($A43,'Last Document Status-HOMA'!$C:$Y,MATCH(O$9,'Last Document Status-HOMA'!$1:$1,0)-2,0),0)","v":0},null,""]
["HDPE-16-VD-5002-ME-DWG-0039","Pipe Support Clip Detail Drawing for 16-R-111 ( IF ANY )","IFR","DWG",1.9230772781065726E-2,null,null,null,null,null,{"$f":"IF($A44>0,VLOOKUP($A44,'Last Document Status-HOMA'!$C:$Y,MATCH(K$9,'Last Document Status-HOMA'!$1:$1,0)-2,0),0)","v":"IFR"},{"$f":"IF($A44>0,VLOOKUP($A44,'Last Document Status-HOMA'!$C:$Y,MATCH(L$9,'Last Document Status-HOMA'!$1:$1,0)-2,0),0)","v":0},{"$f":"IF($A44>0,VLOOKUP($A44,'Last Document Status-HOMA'!$C:$Y,MATCH(M$9,'Last Document Status-HOMA'!$1:$1,0)-2,0),0)","v":"00:00:00"},{"$f":"IF($A44>0,VLOOKUP($A44,'Last Document Status-HOMA'!$C:$Y,MATCH(\"Outgoing Date\",'Last Document Status-HOMA'!$1:$1,0)-2,0),0)","v":"00:00:00"},{"$f":"IF($A44>0,VLOOKUP($A44,'Last Document Status-HOMA'!$C:$Y,MATCH(O$9,'Last Document Status-HOMA'!$1:$1,0)-2,0),0)","v":0},null,""]
["HDPE-16-VD-5002-ME-DWG-0044","Body Detail Drawing for 16-R-121","IFR","DIG",1.9230772781065726E-2,null,null,null,null,null,{"$f":"IF($A45>0,VLOOKUP($A45,'Last Document Status-HOMA'!$C:$Y,MATCH(K$9,'Last Document Status-HOMA'!$1:$1,0)-2,0),0)","v":"IFR"},{"$f":"IF($A45>0,VLOOKUP($A45,'Last Document Status-HOMA'!$C:$Y,MATCH(L$9,'Last Document Status-HOMA'!$1:$1,0)-2,0),0)","v":0},{"$f":"IF($A45>0,VLOOKUP($A45,'Last Document Status-HOMA'!$C:$Y,MATCH(M$9,'Last Document Status-HOMA'!$1:$1,0)-2,0),0)","v":"00:00:00"},{"$f":"IF($A45>0,VLOOKUP($A45,'Last Document Status-HOMA'!$C:$Y,MATCH(\"Outgoing Date\",'Last Document Status-HOMA'!$1:$1,0)-2,0),0)","v":"00:00:00"},{"$f":"IF($A45>0,VLOOKUP($A45,'Last Document Status-HOMA'!$C:$Y,MATCH(O$9,'Last Document Status-HOMA'!$1:$1,0)-2,0),0)","v":0},null,""]
["HDPE-16-VD-5002-ME-DWG-0045","External Drawing for 16-R-121","IFR","DIG",1.9230772781065726E-2,null,null,null,null,null,{"$f":"IF($A46>0,VLOOKUP($A46,'Last Document Status-HOMA'!$C:$Y,MATCH(K$9,'Last Document Status-HOMA'!$1:$1,0)-2,0),0)","v":"IFR"},{"$f":"IF($A46>0,VLOOKUP($A46,'Last Document Status-HOMA'!$C:$Y,MATCH(L$9,'Last Document Status-HOMA'!$1:$1,0)-2,0),0)","v":0},{"$f":"IF($A46>0,VLOOKUP($A46,'Last Document Status-HOMA'!$C:$Y,MATCH(M$9,'Last Document Status-HOMA'!$1:$1,0)-2,0),0)","v":"00:00:00"},{"$f":"IF($A46>0,VLOOKUP($A46,'Last Document Status-HOMA'!$C:$Y,MATCH(\"Outgoing Date\",'Last Document Status-HOMA'!$1:$1,0)-2,0),0)","v":"00:00:00"},{"$f":"IF($A46>0,VLOOKUP($A46,'Last Document Status-HOMA'!$C:$Y,MATCH(O$9,'Last Document Status-HOMA'!$1:$1,0)-2,0),0)","v":0},null,""]
["HDPE-16-VD-5002-ME-DWG-0046","Nozzle & Manhole Drawing for 16-R-121","IFI","DIG",1.9230772781065726E-2,null,null,null,null,null,{"$f":"IF($A47>0,VLOOKUP($A47,'Last Document Status-HOMA'!$C:$Y,MATCH(K$9,'Last Document Status-HOMA'!$1:$1,0)-2,0),0)","v":"IFI"},{"$f":"IF($A47>0,VLOOKUP($A47,'Last Document Status-HOMA'!$C:$Y,MATCH(L$9,'Last Document Status-HOMA'!$1:$1,0)-2,0),0)","v":0},{"$f":"IF($A47>0,VLOOKUP($A47,'Last Document Status-HOMA'!$C:$Y,MATCH(M$9,'Last Document Status-HOMA'!$1:$1,0)-2,0),0)","v":"00:00:00"},{"$f":"IF($A47>0,VLOOKUP($A47,'Last Document Status-HOMA'!$C:$Y,MATCH(\"Outgoing Date\",'Last Document Status-HOMA'!$1:$1,0)-2,0),0)","v":"00:00:00"},{"$f":"IF($A47>0,VLOOKUP($A47,'Last Document Status-HOMA'!$C:$Y,MATCH(O$9,'Last Document Status-HOMA'!$1:$1,0)-2,0),0)","v":0},null,""]
["HDPE-16-VD-5002-ME-DWG-0047","Nameplate Drawing for 16-R-121","IFI","DIG",1.9230772781065726E-2,null,null,null,null,null,{"$f":"IF($A48>0,VLOOKUP($A48,'Last Document Status-HOMA'!$C:$Y,MATCH(K$9,'Last Document Status-HOMA'!$1:$1,0)-2,0),0)","v":"IFI"},{"$f":"IF($A48>0,VLOOKUP($A48,'Last Document Status-HOMA'!$C:$Y,MATCH(L$9,'Last Document Status-HOMA'!$1:$1,0)-2,0),0)","v":0},{"$f":"IF($A48>0,VLOOKUP($A48,'Last Document Status-HOMA'!$C:$Y,MATCH(M$9,'Last Document Status-HOMA'!$1:$1,0)-2,0),0)","v":"00:00:00"},{"$f":"IF($A48>0,VLOOKUP($A48,'Last Document Status-HOMA'!$C:$Y,MATCH(\"Outgoing Date\",'Last Document Status-HOMA'!$1:$1,0)-2,0),0)","v":"00:00:00"},{"$f":"IF($A48>0,VLOOKUP($A48,'Last Document Status-HOMA'!$C:$Y,MATCH(O$9,'Last Document Status-HOMA'!$1:$1,0)-2,0),0)","v":0},null,""]
["HDPE-16-VD-5002-ME-DWG-0048","Shipping & Lifting Detail Drawing for 16-R-121","IFI","PRC",2.0000003692308355E-2,null,null,null,null,null,{"$f":"IF($A49>0,VLOOKUP($A49,'Last Document Status-HOMA'!$C:$Y,MATCH(K$9,'Last Document Status-HOMA'!$1:$1,0)-2,0),0)","v":"IFI"},{"$f":"IF($A49>0,VLOOKUP($A49,'Last Document Status-HOMA'!$C:$Y,MATCH(L$9,'Last Document Status-HOMA'!$1:$1,0)-2,0),0)","v":0},{"$f":"IF($A49>0,VLOOKUP($A49,'Last Document Status-HOMA'!$C:$Y,MATCH(M$9,'Last Document Status-HOMA'!$1:$1,0)-2,0),0)","v":"00:00:00"},{"$f":"IF($A49>0,VLOOKUP($A49,'Last Document Status-HOMA'!$C:$Y,MATCH(\"Outgoing Date\",'Last Document Status-HOMA'!$1:$1,0)-2,0),0)","v":"00:00:00"},{"$f":"IF($A49>0,VLOOKUP($A49,'Last Document Status-HOMA'!$C:$Y,MATCH(O$9,'Last Document Status-HOMA'!$1:$1,0)-2,0),0)","v":0},null,""]
["HDPE-16-VD-5002-ME-DWG-0050","Ladder & Platform Detail Drawing for 16-R-121","IFR","PRC",2.0000003692308355E-2,null,null,null,null,null,{"$f":"IF($A50>0,VLOOKUP($A50,'Last Document Status-HOMA'!$C:$Y,MATCH(K$9,'Last Document Status-HOMA'!$1:$1,0)-2,0),0)","v":"IFR"},{"$f":"IF($A50>0,VLOOKUP($A50,'Last Document Status-HOMA'!$C:$Y,MATCH(L$9,'Last Document Status-HOMA'!$1:$1,0)-2,0),0)","v":0},{"$f":"IF($A50>0,VLOOKUP($A50,'Last Document Status-HOMA'!$C:$Y,MATCH(M$9,'Last Document Status-HOMA'!$1:$1,0)-2,0),0)","v":"00:00:00"},{"$f":"IF($A50>0,VLOOKUP($A50,'Last Document Status-HOMA'!$C:$Y,MATCH(\"Outgoing Date\",'Last Document Status-HOMA'!$1:$1,0)-2,0),0)","v":"00:00:00"},{"$f":"IF($A50>0,VLOOKUP($A50,'Last Document Status-HOMA'!$C:$Y,MATCH(O$9,'Last Document Status-HOMA'!$1:$1,0)-2,0),0)","v":0},null,""]
["HDPE-16-VD-5002-ME-DWG-0051","Template Detail Drawing for 16-R-121","IFR","ITP",2.0000003692308355E-2,null,null,null,null,null,{"$f":"IF($A51>0,VLOOKUP($A51,'Last Document Status-HOMA'!$C:$Y,MATCH(K$9,'Last Document Status-HOMA'!$1:$1,0)-2,0),0)","v":"IFR"},{"$f":"IF($A51>0,VLOOKUP($A51,'Last Document Status-HOMA'!$C:$Y,MATCH(L$9,'Last Document Status-HOMA'!$1:$1,0)-2,0),0)","v":0},{"$f":"IF($A51>0,VLOOKUP($A51,'Last Document Status-HOMA'!$C:$Y,MATCH(M$9,'Last Document Status-HOMA'!$1:$1,0)-2,0),0)","v":"00:00:00"},{"$f":"IF($A51>0,VLOOKUP($A51,'Last Document Status-HOMA'!$C:$Y,MATCH(\"Outgoing Date\",'Last Document Status-HOMA'!$1:$1,0)-2,0),0)","v":"00:00:00"},{"$f":"IF($A51>0,VLOOKUP($A51,'Last Document Status-HOMA'!$C:$Y,MATCH(O$9,'Last Document Status-HOMA'!$1:$1,0)-2,0),0)","v":0},null,""]
["HDPE-16-VD-5002-ME-DWG-0052","Pipe Support Clip Detail Drawing for 16-R-121 ( IF ANY )","IFR","PRC",1.9230772781065726E-2,null,null,null,null,null,{"$f":"IF($A52>0,VLOOKUP($A52,'Last Document Status-HOMA'!$C:$Y,MATCH(K$9,'Last Document Status-HOMA'!$1:$1,0)-2,0),0)","v":"IFR"},{"$f":"IF($A52>0,VLOOKUP($A52,'Last Document Status-HOMA'!$C:$Y,MATCH(L$9,'Last Document Status-HOMA'!$1:$1,0)-2,0),0)","v":0},{"$f":"IF($A52>0,VLOOKUP($A52,'Last Document Status-HOMA'!$C:$Y,MATCH(M$9,'Last Document Status-HOMA'!$1:$1,0)-2,0),0)","v":"00:00:00"},{"$f":"IF($A52>0,VLOOKUP($A52,'Last Document Status-HOMA'!$C:$Y,MATCH(\"Outgoing Date\",'Last Document Status-HOMA'!$1:$1,0)-2,0),0)","v":"00:00:00"},{"$f":"IF($A52>0,VLOOKUP($A52,'Last Document Status-HOMA'!$C:$Y,MATCH(O$9,'Last Document Status-HOMA'!$1:$1,0)-2,0),0)","v":0},null,""]
["HDPE-16-VD-5002-ME-DWG-0056","General Arrangement Drawing for 16-R-122","IFR","PRC",1.9230772781065726E-2,null,null,null,null,null,{"$f":"IF($A53>0,VLOOKUP($A53,'Last Document Status-HOMA'!$C:$Y,MATCH(K$9,'Last Document Status-HOMA'!$1:$1,0)-2,0),0)","v":"IFR"},{"$f":"IF($A53>0,VLOOKUP($A53,'Last Document Status-HOMA'!$C:$Y,MATCH(L$9,'Last Document Status-HOMA'!$1:$1,0)-2,0),0)","v":0},{"$f":"IF($A53>0,VLOOKUP($A53,'Last Document Status-HOMA'!$C:$Y,MATCH(M$9,'Last Document Status-HOMA'!$1:$1,0)-2,0),0)","v":"00:00:00"},{"$f":"IF($A53>0,VLOOKUP($A53,'Last Document Status-HOMA'!$C:$Y,MATCH(\"Outgoing Date\",'Last Document Status-HOMA'!$1:$1,0)-2,0),0)","v":"00:00:00"},{"$f":"IF($A53>0,VLOOKUP($A53,'Last Document Status-HOMA'!$C:$Y,MATCH(O$9,'Last Document Status-HOMA'!$1:$1,0)-2,0),0)","v":0},null,""]
["HDPE-16-VD-5002-ME-DWG-0057","Body Detail Drawing for 16-R-122","IFR","PRC",1.9230772781065726E-2,null,null,null,null,null,{"$f":"IF($A54>0,VLOOKUP($A54,'Last Document Status-HOMA'!$C:$Y,MATCH(K$9,'Last Document Status-HOMA'!$1:$1,0)-2,0),0)","v":"IFR"},{"$f":"IF($A54>0,VLOOKUP($A54,'Last Document Status-HOMA'!$C:$Y,MATCH(L$9,'Last Document Status-HOMA'!$1:$1,0)-2,0),0)","v":0},{"$f":"IF($A54>0,VLOOKUP($A54,'Last Document Status-HOMA'!$C:$Y,MATCH(M$9,'Last Document Status-HOMA'!$1:$1,0)-2,0),0)","v":"00:00:00"},{"$f":"IF($A54>0,VLOOKUP($A54,'Last Document Status-HOMA'!$C:$Y,MATCH(\"Outgoing Date\",'Last Document Status-HOMA'!$1:$1,0)-2,0),0)","v":"00:00:00"},{"$f":"IF($A54>0,VLOOKUP($A54,'Last Document Status-HOMA'!$C:$Y,MATCH(O$9,'Last Document Status-HOMA'!$1:$1,0)-2,0),0)","v":0},null,""]
["HDPE-16-VD-5002-ME-DWG-0058","External Drawing for 16-R-122","IFR","PRC",1.9230772781065726E-2,null,null,null,null,null,{"$f":"IF($A55>0,VLOOKUP($A55,'Last Document Status-HOMA'!$C:$Y,MATCH(K$9,'Last Document Status-HOMA'!$1:$1,0)-2,0),0)","v":"IFR"},{"$f":"IF($A55>0,VLOOKUP($A55,'Last Document Status-HOMA'!$C:$Y,MATCH(L$9,'Last Document Status-HOMA'!$1:$1,0)-2,0),0)","v":0},{"$f":"IF($A55>0,VLOOKUP($A55,'Last Document Status-HOMA'!$C:$Y,MATCH(M$9,'Last Document Status-HOMA'!$1:$1,0)-2,0),0)","v":"00:00:00"},{"$f":"IF($A55>0,VLOOKUP($A55,'Last Document Status-HOMA'!$C:$Y,MATCH(\"Outgoing Date\",'Last Document Status-HOMA'!$1:$1,0)-2,0),0)","v":"00:00:00"},{"$f":"IF($A55>0,VLOOKUP($A55,'Last Document Status-HOMA'!$C:$Y,MATCH(O$9,'Last Document Status-HOMA'!$1:$1,0)-2,0),0)","v":0},null,""]
["HDPE-16-VD-5002-ME-DWG-0059","Nozzle & Manhole Drawing for 16-R-122","IFI","PRC",1.9230772781065726E-2,null,null,null,null,null,{"$f":"IF($A56>0,VLOOKUP($A56,'Last Document Status-HOMA'!$C:$Y,MATCH(K$9,'Last Document Status-HOMA'!$1:$1,0)-2,0),0)","v":"IFI"},{"$f":"IF($A56>0,VLOOKUP($A56,'Last Document Status-HOMA'!$C:$Y,MATCH(L$9,'Last Document Status-HOMA'!$1:$1,0)-2,0),0)","v":0},{"$f":"IF($A56>0,VLOOKUP($A56,'Last Document Status-HOMA'!$C:$Y,MATCH(M$9,'Last Document Status-HOMA'!$1:$1,0)-2,0),0)","v":"00:00:00"},{"$f":"IF($A56>0,VLOOKUP($A56,'Last Document Status-HOMA'!$C:$Y,MATCH(\"Outgoing Date\",'Last Document Status-HOMA'!$1:$1,0)-2,0),0)","v":"00:00:00"},{"$f":"IF($A56>0,VLOOKUP($A56,'Last Document Status-HOMA'!$C:$Y,MATCH(O$9,'Last Document Status-HOMA'!$1:$1,0)-2,0),0)","v":0},null,""]
["HDPE-16-VD-5002-ME-DWG-0060","Nameplate Drawing for 16-R-122","IFI","PRC",1.9230772781065726E-2,null,null,null,null,null,{"$f":"IF($A57>0,VLOOKUP($A57,'Last Document Status-HOMA'!$C:$Y,MATCH(K$9,'Last Document Status-HOMA'!$1:$1,0)-2,0),0)","v":"IFI"},{"$f":"IF($A57>0,VLOOKUP($A57,'Last Document Status-HOMA'!$C:$Y,MATCH(L$9,'Last Document Status-HOMA'!$1:$1,0)-2,0),0)","v":0},{"$f":"IF($A57>0,VLOOKUP($A57,'Last Document Status-HOMA'!$C:$Y,MATCH(M$9,'Last Document Status-HOMA'!$1:$1,0)-2,0),0)","v":"00:00:00"},{"$f":"IF($A57>0,VLOOKUP($A57,'Last Document Status-HOMA'!$C:$Y,MATCH(\"Outgoing Date\",'Last Document Status-HOMA'!$1:$1,0)-2,0),0)","v":"00:00:00"},{"$f":"IF($A57>0,VLOOKUP($A57,'Last Document Status-HOMA'!$C:$Y,MATCH(O$9,'Last Document Status-HOMA'!$1:$1,0)-2,0),0)","v":0},null,""]
["HDPE-16-VD-5002-ME-DWG-0061","Shipping & Lifting Detail Drawing for 16-R-122","IFI","PRC",1.9230772781065726E-2,null,null,null,null,null,{"$f":"IF($A58>0,VLOOKUP($A58,'Last Document Status-HOMA'!$C:$Y,MATCH(K$9,'Last Document Status-HOMA'!$1:$1,0)-2,0),0)","v":"IFI"},{"$f":"IF($A58>0,VLOOKUP($A58,'Last Document Status-HOMA'!$C:$Y,MATCH(L$9,'Last Document Status-HOMA'!$1:$1,0)-2,0),0)","v":0},{"$f":"IF($A58>0,VLOOKUP($A58,'Last Document Status-HOMA'!$C:$Y,MATCH(M$9,'Last Document Status-HOMA'!$1:$1,0)-2,0),0)","v":"00:00:00"},{"$f":"IF($A58>0,VLOOKUP($A58,'Last Document Status-HOMA'!$C:$Y,MATCH(\"Outgoing Date\",'Last Document Status-HOMA'!$1:$1,0)-2,0),0)","v":"00:00:00"},{"$f":"IF($A58>0,VLOOKUP($A58,'Last Document Status-HOMA'!$C:$Y,MATCH(O$9,'Last Document Status-HOMA'!$1:$1,0)-2,0),0)","v":0},null,""]
["HDPE-16-VD-5002-ME-DWG-0063","Ladder & Platform Detail Drawing for 16-R-122","IFR","PRC",1.9230772781065726E-2,null,null,null,null,null,{"$f":"IF($A59>0,VLOOKUP($A59,'Last Document Status-HOMA'!$C:$Y,MATCH(K$9,'Last Document Status-HOMA'!$1:$1,0)-2,0),0)","v":"IFR"},{"$f":"IF($A59>0,VLOOKUP($A59,'Last Document Status-HOMA'!$C:$Y,MATCH(L$9,'Last Document Status-HOMA'!$1:$1,0)-2,0),0)","v":0},{"$f":"IF($A59>0,VLOOKUP($A59,'Last Document Status-HOMA'!$C:$Y,MATCH(M$9,'Last Document Status-HOMA'!$1:$1,0)-2,0),0)","v":"00:00:00"},{"$f":"IF($A59>0,VLOOKUP($A59,'Last Document Status-HOMA'!$C:$Y,MATCH(\"Outgoing Date\",'Last Document Status-HOMA'!$1:$1,0)-2,0),0)","v":"00:00:00"},{"$f":"IF($A59>0,VLOOKUP($A59,'Last Document Status-HOMA'!$C:$Y,MATCH(O$9,'Last Document Status-HOMA'!$1:$1,0)-2,0),0)","v":0},null,""]
["HDPE-16-VD-5002-ME-DWG-0064","Template Detail Drawing for 16-R-122","IFR","PRC",1.9230772781065726E-2,null,null,null,null,null,{"$f":"IF($A60>0,VLOOKUP($A60,'Last Document Status-HOMA'!$C:$Y,MATCH(K$9,'Last Document Status-HOMA'!$1:$1,0)-2,0),0)","v":"IFR"},{"$f":"IF($A60>0,VLOOKUP($A60,'Last Document Status-HOMA'!$C:$Y,MATCH(L$9,'Last Document Status-HOMA'!$1:$1,0)-2,0),0)","v":0},{"$f":"IF($A60>0,VLOOKUP($A60,'Last Document Status-HOMA'!$C:$Y,MATCH(M$9,'Last Document Status-HOMA'!$1:$1,0)-2,0),0)","v":"00:00:00"},{"$f":"IF($A60>0,VLOOKUP($A60,'Last Document Status-HOMA'!$C:$Y,MATCH(\"Outgoing Date\",'Last Document Status-HOMA'!$1:$1,0)-2,0),0)","v":"00:00:00"},{"$f":"IF($A60>0,VLOOKUP($A60,'Last Document Status-HOMA'!$C:$Y,MATCH(O$9,'Last Document Status-HOMA'!$1:$1,0)-2,0),0)","v":0},null,""]
["HDPE-16-VD-5002-ME-DWG-0065","Pipe Support Clip Detail Drawing for 16-R-122 ( IF ANY )","IFR","LIS",1.9230772781065726E-2,null,null,null,null,null,{"$f":"IF($A61>0,VLOOKUP($A61,'Last Document Status-HOMA'!$C:$Y,MATCH(K$9,'Last Document Status-HOMA'!$1:$1,0)-2,0),0)","v":"IFR"},{"$f":"IF($A61>0,VLOOKUP($A61,'Last Document Status-HOMA'!$C:$Y,MATCH(L$9,'Last Document Status-HOMA'!$1:$1,0)-2,0),0)","v":0},{"$f":"IF($A61>0,VLOOKUP($A61,'Last Document Status-HOMA'!$C:$Y,MATCH(M$9,'Last Document Status-HOMA'!$1:$1,0)-2,0),0)","v":"00:00:00"},{"$f":"IF($A61>0,VLOOKUP($A61,'Last Document Status-HOMA'!$C:$Y,MATCH(\"Outgoing Date\",'Last Document Status-HOMA'!$1:$1,0)-2,0),0)","v":"00:00:00"},{"$f":"IF($A61>0,VLOOKUP($A61,'Last Document Status-HOMA'!$C:$Y,MATCH(O$9,'Last Document Status-HOMA'!$1:$1,0)-2,0),0)","v":0},null,""]
["HDPE-16-VD-5002-ME-DWG-0069","General Arrangement Drawing for 16-R-123","IFR","LIS",1.9230772781065726E-2,null,null,null,null,null,{"$f":"IF($A62>0,VLOOKUP($A62,'Last Document Status-HOMA'!$C:$Y,MATCH(K$9,'Last Document Status-HOMA'!$1:$1,0)-2,0),0)","v":"IFR"},{"$f":"IF($A62>0,VLOOKUP($A62,'Last Document Status-HOMA'!$C:$Y,MATCH(L$9,'Last Document Status-HOMA'!$1:$1,0)-2,0),0)","v":0},{"$f":"IF($A62>0,VLOOKUP($A62,'Last Document Status-HOMA'!$C:$Y,MATCH(M$9,'Last Document Status-HOMA'!$1:$1,0)-2,0),0)","v":"00:00:00"},{"$f":"IF($A62>0,VLOOKUP($A62,'Last Document Status-HOMA'!$C:$Y,MATCH(\"Outgoing Date\",'Last Document Status-HOMA'!$1:$1,0)-2,0),0)","v":"00:00:00"},{"$f":"IF($A62>0,VLOOKUP($A62,'Last Document Status-HOMA'!$C:$Y,MATCH(O$9,'Last Document Status-HOMA'!$1:$1,0)-2,0),0)","v":0},null,""]
["HDPE-16-VD-5002-ME-DWG-0070","Body Detail Drawing for 16-R-123","IFR","IND",1.9230772781065726E-2,null,null,null,null,null,{"$f":"IF($A63>0,VLOOKUP($A63,'Last Document Status-HOMA'!$C:$Y,MATCH(K$9,'Last Document Status-HOMA'!$1:$1,0)-2,0),0)","v":"IFR"},{"$f":"IF($A63>0,VLOOKUP($A63,'Last Document Status-HOMA'!$C:$Y,MATCH(L$9,'Last Document Status-HOMA'!$1:$1,0)-2,0),0)","v":0},{"$f":"IF($A63>0,VLOOKUP($A63,'Last Document Status-HOMA'!$C:$Y,MATCH(M$9,'Last Document Status-HOMA'!$1:$1,0)-2,0),0)","v":"00:00:00"},{"$f":"IF($A63>0,VLOOKUP($A63,'Last Document Status-HOMA'!$C:$Y,MATCH(\"Outgoing Date\",'Last Document Status-HOMA'!$1:$1,0)-2,0),0)","v":"00:00:00"},{"$f":"IF($A63>0,VLOOKUP($A63,'Last Document Status-HOMA'!$C:$Y,MATCH(O$9,'Last Document Status-HOMA'!$1:$1,0)-2,0),0)","v":0},null,""]
["HDPE-16-VD-5002-ME-DWG-0071","External Drawing for 16-R-123","IFR",null,null,null,null,null,null,null,{"$f":"IF($A64>0,VLOOKUP($A64,'Last Document Status-HOMA'!$C:$Y,MATCH(K$9,'Last Document Status-HOMA'!$1:$1,0)-2,0),0)","v":"IFR"},{"$f":"IF($A64>0,VLOOKUP($A64,'Last Document Status-HOMA'!$C:$Y,MATCH(L$9,'Last Document Status-HOMA'!$1:$1,0)-2,0),0)","v":0},{"$f":"IF($A64>0,VLOOKUP($A64,'Last Document Status-HOMA'!$C:$Y,MATCH(M$9,'Last Document Status-HOMA'!$1:$1,0)-2,0),0)","v":"00:00:00"},{"$f":"IF($A64>0,VLOOKUP($A64,'Last Document Status-HOMA'!$C:$Y,MATCH(\"Outgoing Date\",'Last Document Status-HOMA'!$1:$1,0)-2,0),0)","v":"00:00:00"},{"$f":"IF($A64>0,VLOOKUP($A64,'Last Document Status-HOMA'!$C:$Y,MATCH(O$9,'Last Document Status-HOMA'!$1:$1,0)-2,0),0)","v":0},null,""]
["HDPE-16-VD-5002-ME-DWG-0072","Nozzle & Manhole Drawing for 16-R-123","IFI",null,null,null,null,null,null,null,{"$f":"IF($A65>0,VLOOKUP($A65,'Last Document Status-HOMA'!$C:$Y,MATCH(K$9,'Last Document Status-HOMA'!$1:$1,0)-2,0),0)","v":"IFI"},{"$f":"IF($A65>0,VLOOKUP($A65,'Last Document Status-HOMA'!$C:$Y,MATCH(L$9,'Last Document Status-HOMA'!$1:$1,0)-2,0),0)","v":0},{"$f":"IF($A65>0,VLOOKUP($A65,'Last Document Status-HOMA'!$C:$Y,MATCH(M$9,'Last Document Status-HOMA'!$1:$1,0)-2,0),0)","v":"00:00:00"},{"$f":"IF($A65>0,VLOOKUP($A65,'Last Document Status-HOMA'!$C:$Y,MATCH(\"Outgoing Date\",'Last Document Status-HOMA'!$1:$1,0)-2,0),0)","v":"00:00:00"},{"$f":"IF($A65>0,VLOOKUP($A65,'Last Document Status-HOMA'!$C:$Y,MATCH(O$9,'Last Document Status-HOMA'!$1:$1,0)-2,0),0)","v":0},null,""]
["HDPE-16-VD-5002-ME-DWG-0073","Nameplate Drawing for 16-R-123","IFI",null,null,null,null,null,null,null,{"$f":"IF($A66>0,VLOOKUP($A66,'Last Document Status-HOMA'!$C:$Y,MATCH(K$9,'Last Document Status-HOMA'!$1:$1,0)-2,0),0)","v":"IFI"},{"$f":"IF($A66>0,VLOOKUP($A66,'Last Document Status-HOMA'!$C:$Y,MATCH(L$9,'Last Document Status-HOMA'!$1:$1,0)-2,0),0)","v":0},{"$f":"IF($A66>0,VLOOKUP($A66,'Last Document Status-HOMA'!$C:$Y,MATCH(M$9,'Last Document Status-HOMA'!$1:$1,0)-2,0),0)","v":"00:00:00"},{"$f":"IF($A66>0,VLOOKUP($A66,'Last Document Status-HOMA'!$C:$Y,MATCH(\"Outgoing Date\",'Last Document Status-HOMA'!$1:$1,0)-2,0),0)","v":"00:00:00"},{"$f":"IF($A66>0,VLOOKUP($A66,'Last Document Status-HOMA'!$C:$Y,MATCH(O$9,'Last Document Status-HOMA'!$1:$1,0)-2,0),0)","v":0},null,""]
["HDPE-16-VD-5002-ME-DWG-0074","Shipping & Lifting Detail Drawing for 16-R-123","IFI",null,null,null,null,null,null,null,{"$f":"IF($A67>0,VLOOKUP($A67,'Last Document Status-HOMA'!$C:$Y,MATCH(K$9,'Last Document Status-HOMA'!$1:$1,0)-2,0),0)","v":"IFI"},{"$f":"IF($A67>0,VLOOKUP($A67,'Last Document Status-HOMA'!$C:$Y,MATCH(L$9,'Last Document Status-HOMA'!$1:$1,0)-2,0),0)","v":0},{"$f":"IF($A67>0,VLOOKUP($A67,'Last Document Status-HOMA'!$C:$Y,MATCH(M$9,'Last Document Status-HOMA'!$1:$1,0)-2,0),0)","v":"00:00:00"},{"$f":"IF($A67>0,VLOOKUP($A67,'Last Document Status-HOMA'!$C:$Y,MATCH(\"Outgoing Date\",'Last Document Status-HOMA'!$1:$1,0)-2,0),0)","v":"00:00:00"},{"$f":"IF($A67>0,VLOOKUP($A67,'Last Document Status-HOMA'!$C:$Y,MATCH(O$9,'Last Document Status-HOMA'!$1:$1,0)-2,0),0)","v":0},null,""]
["HDPE-16-VD-5002-ME-DWG-0076","Ladder & Platform Detail Drawing for 16-R-123","IFR",null,null,null,null,null,null,null,{"$f":"IF($A68>0,VLOOKUP($A68,'Last Document Status-HOMA'!$C:$Y,MATCH(K$9,'Last Document Status-HOMA'!$1:$1,0)-2,0),0)","v":"IFR"},{"$f":"IF($A68>0,VLOOKUP($A68,'Last Document Status-HOMA'!$C:$Y,MATCH(L$9,'Last Document Status-HOMA'!$1:$1,0)-2,0),0)","v":0},{"$f":"IF($A68>0,VLOOKUP($A68,'Last Document Status-HOMA'!$C:$Y,MATCH(M$9,'Last Document Status-HOMA'!$1:$1,0)-2,0),0)","v":"00:00:00"},{"$f":"IF($A68>0,VLOOKUP($A68,'Last Document Status-HOMA'!$C:$Y,MATCH(\"Outgoing Date\",'Last Document Status-HOMA'!$1:$1,0)-2,0),0)","v":"00:00:00"},{"$f":"IF($A68>0,VLOOKUP($A68,'Last Document Status-HOMA'!$C:$Y,MATCH(O$9,'Last Document Status-HOMA'!$1:$1,0)-2,0),0)","v":0},null,""]
["HDPE-16-VD-5002-ME-DWG-0077","Template Detail Drawing for 16-R-123","IFR",null,null,null,null,null,null,null,{"$f":"IF($A69>0,VLOOKUP($A69,'Last Document Status-HOMA'!$C:$Y,MATCH(K$9,'Last Document Status-HOMA'!$1:$1,0)-2,0),0)","v":"IFR"},{"$f":"IF($A69>0,VLOOKUP($A69,'Last Document Status-HOMA'!$C:$Y,MATCH(L$9,'Last Document Status-HOMA'!$1:$1,0)-2,0),0)","v":0},{"$f":"IF($A69>0,VLOOKUP($A69,'Last Document Status-HOMA'!$C:$Y,MATCH(M$9,'Last Document Status-HOMA'!$1:$1,0)-2,0),0)","v":"00:00:00"},{"$f":"IF($A69>0,VLOOKUP($A69,'Last Document Status-HOMA'!$C:$Y,MATCH(\"Outgoing Date\",'Last Document Status-HOMA'!$1:$1,0)-2,0),0)","v":"00:00:00"},{"$f":"IF($A69>0,VLOOKUP($A69,'Last Document Status-HOMA'!$C:$Y,MATCH(O$9,'Last Document Status-HOMA'!$1:$1,0)-2,0),0)","v":0},null,""]
["HDPE-16-VD-5002-ME-DWG-0078","Pipe Support Clip Detail Drawing for 16-R-123 ( IF ANY )","IFR",null,null,null,null,null,null,null,{"$f":"IF($A70>0,VLOOKUP($A70,'Last Document Status-HOMA'!$C:$Y,MATCH(K$9,'Last Document Status-HOMA'!$1:$1,0)-2,0),0)","v":"IFR"},{"$f":"IF($A70>0,VLOOKUP($A70,'Last Document Status-HOMA'!$C:$Y,MATCH(L$9,'Last Document Status-HOMA'!$1:$1,0)-2,0),0)","v":0},{"$f":"IF($A70>0,VLOOKUP($A70,'Last Document Status-HOMA'!$C:$Y,MATCH(M$9,'Last Document Status-HOMA'!$1:$1,0)-2,0),0)","v":"00:00:00"},{"$f":"IF($A70>0,VLOOKUP($A70,'Last Document Status-HOMA'!$C:$Y,MATCH(\"Outgoing Date\",'Last Document Status-HOMA'!$1:$1,0)-2,0),0)","v":"00:00:00"},{"$f":"IF($A70>0,VLOOKUP($A70,'Last Document Status-HOMA'!$C:$Y,MATCH(O$9,'Last Document Status-HOMA'!$1:$1,0)-2,0),0)","v":0},null,""]
["HDPE-16-VD-5002-ME-ITP-0005","Inspection & Test Plan for Reactors","IFR",null,null,null,null,null,null,null,{"$f":"IF($A71>0,VLOOKUP($A71,'Last Document Status-HOMA'!$C:$Y,MATCH(K$9,'Last Document Status-HOMA'!$1:$1,0)-2,0),0)","v":"IFR"},{"$f":"IF($A71>0,VLOOKUP($A71,'Last Document Status-HOMA'!$C:$Y,MATCH(L$9,'Last Document Status-HOMA'!$1:$1,0)-2,0),0)","v":0},{"$f":"IF($A71>0,VLOOKUP($A71,'Last Document Status-HOMA'!$C:$Y,MATCH(M$9,'Last Document Status-HOMA'!$1:$1,0)-2,0),0)","v":"00:00:00"},{"$f":"IF($A71>0,VLOOKUP($A71,'Last Document Status-HOMA'!$C:$Y,MATCH(\"Outgoing Date\",'Last Document Status-HOMA'!$1:$1,0)-2,0),0)","v":"00:00:00"},{"$f":"IF($A71>0,VLOOKUP($A71,'Last Document Status-HOMA'!$C:$Y,MATCH(O$9,'Last Document Status-HOMA'!$1:$1,0)-2,0),0)","v":0},null,""]
["HDPE-16-VD-5002-ME-LST-0007","Two Years Spare Part List for Reactors","IFR",null,null,null,null,null,null,null,{"$f":"IF($A72>0,VLOOKUP($A72,'Last Document Status-HOMA'!$C:$Y,MATCH(K$9,'Last Document Status-HOMA'!$1:$1,0)-2,0),0)","v":"IFR"},{"$f":"IF($A72>0,VLOOKUP($A72,'Last Document Status-HOMA'!$C:$Y,MATCH(L$9,'Last Document Status-HOMA'!$1:$1,0)-2,0),0)","v":0},{"$f":"IF($A72>0,VLOOKUP($A72,'Last Document Status-HOMA'!$C:$Y,MATCH(M$9,'Last Document Status-HOMA'!$1:$1,0)-2,0),0)","v":"00:00:00"},{"$f":"IF($A72>0,VLOOKUP($A72,'Last Document Status-HOMA'!$C:$Y,MATCH(\"Outgoing Date\",'Last Document Status-HOMA'!$1:$1,0)-2,0),0)","v":"00:00:00"},{"$f":"IF($A72>0,VLOOKUP($A72,'Last Document Status-HOMA'!$C:$Y,MATCH(O$9,'Last Document Status-HOMA'!$1:$1,0)-2,0),0)","v":0},null,""]
["HDPE-16-VD-5002-ME-LST-0008","Pre-commissioning, Commissioning & Start-Up Spare Part for Reactors","IFR",null,null,null,null,null,null,null,{"$f":"IF($A73>0,VLOOKUP($A73,'Last Document Status-HOMA'!$C:$Y,MATCH(K$9,'Last Document Status-HOMA'!$1:$1,0)-2,0),0)","v":"IFR"},{"$f":"IF($A73>0,VLOOKUP($A73,'Last Document Status-HOMA'!$C:$Y,MATCH(L$9,'Last Document Status-HOMA'!$1:$1,0)-2,0),0)","v":0},{"$f":"IF($A73>0,VLOOKUP($A73,'Last Document Status-HOMA'!$C:$Y,MATCH(M$9,'Last Document Status-HOMA'!$1:$1,0)-2,0),0)","v":"00:00:00"},{"$f":"IF($A73>0,VLOOKUP($A73,'Last Document Status-HOMA'!$C:$Y,MATCH(\"Outgoing Date\",'Last Document Status-HOMA'!$1:$1,0)-2,0),0)","v":"00:00:00"},{"$f":"IF($A73>0,VLOOKUP($A73,'Last Document Status-HOMA'!$C:$Y,MATCH(O$9,'Last Document Status-HOMA'!$1:$1,0)-2,0),0)","v":0},null,""]
["HDPE-16-VD-5002-ME-MNL-0027","Installation & Maintenance Manual Procedure for Reactors","IFR",null,null,null,null,null,null,null,{"$f":"IF($A74>0,VLOOKUP($A74,'Last Document Status-HOMA'!$C:$Y,MATCH(K$9,'Last Document Status-HOMA'!$1:$1,0)-2,0),0)","v":"IFR"},{"$f":"IF($A74>0,VLOOKUP($A74,'Last Document Status-HOMA'!$C:$Y,MATCH(L$9,'Last Document Status-HOMA'!$1:$1,0)-2,0),0)","v":0},{"$f":"IF($A74>0,VLOOKUP($A74,'Last Document Status-HOMA'!$C:$Y,MATCH(M$9,'Last Document Status-HOMA'!$1:$1,0)-2,0),0)","v":"00:00:00"},{"$f":"IF($A74>0,VLOOKUP($A74,'Last Document Status-HOMA'!$C:$Y,MATCH(\"Outgoing Date\",'Last Document Status-HOMA'!$1:$1,0)-2,0),0)","v":"00:00:00"},{"$f":"IF($A74>0,VLOOKUP($A74,'Last Document Status-HOMA'!$C:$Y,MATCH(O$9,'Last Document Status-HOMA'!$1:$1,0)-2,0),0)","v":0},null,{"$f":"IF(K74=\"IFA\",\"\",IF(AND(K74=\"IFI\",M74>0),1,IF(AND(K74=\"IFR\",M74>0),0.5,IF(AND(K74=\"IFR\",L74>0,O74=\"Code5\"),1,IF(AND(K74=\"IFR\",L74>0,O74=\"Code2\"),0.9,IF(AND(K74=\"IFR\",L74>0,O74=\"Code3\"),0.5,IF(AND(K74=\"IFR\",L74>0,O74=\"Code4\"),0,\"\")))))))","v":""}]
["HDPE-16-VD-5002-ME-PRC-0011","NDT Procedure for Reactors","IFR",null,null,null,null,null,null,null,{"$f":"IF($A75>0,VLOOKUP($A75,'Last Document Status-HOMA'!$C:$Y,MATCH(K$9,'Last Document Status-HOMA'!$1:$1,0)-2,0),0)","v":"IFR"},{"$f":"IF($A75>0,VLOOKUP($A75,'Last Document Status-HOMA'!$C:$Y,MATCH(L$9,'Last Document Status-HOMA'!$1:$1,0)-2,0),0)","v":0},{"$f":"IF($A75>0,VLOOKUP($A75,'Last Document Status-HOMA'!$C:$Y,MATCH(M$9,'Last Document Status-HOMA'!$1:$1,0)-2,0),0)","v":"00:00:00"},{"$f":"IF($A75>0,VLOOKUP($A75,'Last Document Status-HOMA'!$C:$Y,MATCH(\"Outgoing Date\",'Last Document Status-HOMA'!$1:$1,0)-2,0),0)","v":"00:00:00"},{"$f":"IF($A75>0,VLOOKUP($A75,'Last Document Status-HOMA'!$C:$Y,MATCH(O$9,'Last Document Status-HOMA'!$1:$1,0)-2,0),0)","v":0},null,""]
["HDPE-16-VD-5002-ME-PRC-0015","General Repair Procedure for Reactors","IFI",null,null,null,null,null,null,null,{"$f":"IF($A76>0,VLOOKUP($A76,'Last Document Status-HOMA'!$C:$Y,MATCH(K$9,'Last Document Status-HOMA'!$1:$1,0)-2,0),0)","v":"IFI"},{"$f":"IF($A76>0,VLOOKUP($A76,'Last Document Status-HOMA'!$C:$Y,MATCH(L$9,'Last Document Status-HOMA'!$1:$1,0)-2,0),0)","v":0},{"$f":"IF($A76>0,VLOOKUP($A76,'Last Document Status-HOMA'!$C:$Y,MATCH(M$9,'Last Document Status-HOMA'!$1:$1,0)-2,0),0)","v":"00:00:00"},{"$f":"IF($A76>0,VLOOKUP($A76,'Last Document Status-HOMA'!$C:$Y,MATCH(\"Outgoing Date\",'Last Document Status-HOMA'!$1:$1,0)-2,0),0)","v":"00:00:00"},{"$f":"IF($A76>0,VLOOKUP($A76,'Last Document Status-HOMA'!$C:$Y,MATCH(O$9,'Last Document Status-HOMA'!$1:$1,0)-2,0),0)","v":0},null,""]
["HDPE-16-VD-5002-ME-PRC-0016","Hydrostatic & Pneumatic Test Procedures for Reactors","IFI",null,null,null,null,null,null,null,{"$f":"IF($A77>0,VLOOKUP($A77,'Last Document Status-HOMA'!$C:$Y,MATCH(K$9,'Last Document Status-HOMA'!$1:$1,0)-2,0),0)","v":"IFI"},{"$f":"IF($A77>0,VLOOKUP($A77,'Last Document Status-HOMA'!$C:$Y,MATCH(L$9,'Last Document Status-HOMA'!$1:$1,0)-2,0),0)","v":0},{"$f":"IF($A77>0,VLOOKUP($A77,'Last Document Status-HOMA'!$C:$Y,MATCH(M$9,'Last Document Status-HOMA'!$1:$1,0)-2,0),0)","v":"00:00:00"},{"$f":"IF($A77>0,VLOOKUP($A77,'Last Document Status-HOMA'!$C:$Y,MATCH(\"Outgoing Date\",'Last Document Status-HOMA'!$1:$1,0)-2,0),0)","v":"00:00:00"},{"$f":"IF($A77>0,VLOOKUP($A77,'Last Document Status-HOMA'!$C:$Y,MATCH(O$9,'Last Document Status-HOMA'!$1:$1,0)-2,0),0)","v":0},null,{"$f":"IF(K77=\"IFA\",\"\",IF(AND(K77=\"IFI\",M77>0),1,IF(AND(K77=\"IFR\",M77>0),0.5,IF(AND(K77=\"IFR\",L77>0,O77=\"Code5\"),1,IF(AND(K77=\"IFR\",L77>0,O77=\"Code2\"),0.9,IF(AND(K77=\"IFR\",L77>0,O77=\"Code3\"),0.5,IF(AND(K77=\"IFR\",L77>0,O77=\"Code4\"),0,\"\")))))))","v":""}]
["HDPE-16-VD-5002-ME-PRC-0017","PWHT & Hardness test Procedure for Reactors","IFR",null,null,null,null,null,null,null,{"$f":"IF($A78>0,VLOOKUP($A78,'Last Document Status-HOMA'!$C:$Y,MATCH(K$9,'Last Document Status-HOMA'!$1:$1,0)-2,0),0)","v":"IFR"},{"$f":"IF($A78>0,VLOOKUP($A78,'Last Document Status-HOMA'!$C:$Y,MATCH(L$9,'Last Document Status-HOMA'!$1:$1,0)-2,0),0)","v":0},{"$f":"IF($A78>0,VLOOKUP($A78,'Last Document Status-HOMA'!$C:$Y,MATCH(M$9,'Last Document Status-HOMA'!$1:$1,0)-2,0),0)","v":"00:00:00"},{"$f":"IF($A78>0,VLOOKUP($A78,'Last Document Status-HOMA'!$C:$Y,MATCH(\"Outgoing Date\",'Last Document Status-HOMA'!$1:$1,0)-2,0),0)","v":"00:00:00"},{"$f":"IF($A78>0,VLOOKUP($A78,'Last Document Status-HOMA'!$C:$Y,MATCH(O$9,'Last Document Status-HOMA'!$1:$1,0)-2,0),0)","v":0},null,""]
["HDPE-16-VD-5002-ME-PRC-0018","Surface Preparation Procedure (including Mechanical Polishing) for Reactors","IFR",null,null,null,null,null,null,null,{"$f":"IF($A79>0,VLOOKUP($A79,'Last Document Status-HOMA'!$C:$Y,MATCH(K$9,'Last Document Status-HOMA'!$1:$1,0)-2,0),0)","v":"IFR"},{"$f":"IF($A79>0,VLOOKUP($A79,'Last Document Status-HOMA'!$C:$Y,MATCH(L$9,'Last Document Status-HOMA'!$1:$1,0)-2,0),0)","v":0},{"$f":"IF($A79>0,VLOOKUP($A79,'Last Document Status-HOMA'!$C:$Y,MATCH(M$9,'Last Document Status-HOMA'!$1:$1,0)-2,0),0)","v":"00:00:00"},{"$f":"IF($A79>0,VLOOKUP($A79,'Last Document Status-HOMA'!$C:$Y,MATCH(\"Outgoing Date\",'Last Document Status-HOMA'!$1:$1,0)-2,0),0)","v":"00:00:00"},{"$f":"IF($A79>0,VLOOKUP($A79,'Last Document Status-HOMA'!$C:$Y,MATCH(O$9,'Last Document Status-HOMA'!$1:$1,0)-2,0),0)","v":0},null,""]
["HDPE-16-VD-5002-ME-PRC-0019","Painting Procedure for Reactors","IFR",null,null,null,null,null,null,null,{"$f":"IF($A80>0,VLOOKUP($A80,'Last Document Status-HOMA'!$C:$Y,MATCH(K$9,'Last Document Status-HOMA'!$1:$1,0)-2,0),0)","v":"IFR"},{"$f":"IF($A80>0,VLOOKUP($A80,'Last Document Status-HOMA'!$C:$Y,MATCH(L$9,'Last Document Status-HOMA'!$1:$1,0)-2,0),0)","v":0},{"$f":"IF($A80>0,VLOOKUP($A80,'Last Document Status-HOMA'!$C:$Y,MATCH(M$9,'Last Document Status-HOMA'!$1:$1,0)-2,0),0)","v":"00:00:00"},{"$f":"IF($A80>0,VLOOKUP($A80,'Last Document Status-HOMA'!$C:$Y,MATCH(\"Outgoing Date\",'Last Document Status-HOMA'!$1:$1,0)-2,0),0)","v":"00:00:00"},{"$f":"IF($A80>0,VLOOKUP($A80,'Last Document Status-HOMA'!$C:$Y,MATCH(O$9,'Last Document Status-HOMA'!$1:$1,0)-2,0),0)","v":0},null,""]
["HDPE-16-VD-5002-ME-PRC-0020","Packing, Marking & Shipping Procedure for Reactors","IFR",null,null,null,null,null,null,null,{"$f":"IF($A81>0,VLOOKUP($A81,'Last Document Status-HOMA'!$C:$Y,MATCH(K$9,'Last Document Status-HOMA'!$1:$1,0)-2,0),0)","v":"IFR"},{"$f":"IF($A81>0,VLOOKUP($A81,'Last Document Status-HOMA'!$C:$Y,MATCH(L$9,'Last Document Status-HOMA'!$1:$1,0)-2,0),0)","v":0},{"$f":"IF($A81>0,VLOOKUP($A81,'Last Document Status-HOMA'!$C:$Y,MATCH(M$9,'Last Document Status-HOMA'!$1:$1,0)-2,0),0)","v":"00:00:00"},{"$f":"IF($A81>0,VLOOKUP($A81,'Last Document Status-HOMA'!$C:$Y,MATCH(\"Outgoing Date\",'Last Document Status-HOMA'!$1:$1,0)-2,0),0)","v":"00:00:00"},{"$f":"IF($A81>0,VLOOKUP($A81,'Last Document Status-HOMA'!$C:$Y,MATCH(O$9,'Last Document Status-HOMA'!$1:$1,0)-2,0),0)","v":0},null,""]
["HDPE-16-VD-5002-ME-PRC-0021","Material Identification & Traceability Procedure for Reactors","IFR",null,null,null,null,null,null,null,{"$f":"IF($A82>0,VLOOKUP($A82,'Last Document Status-HOMA'!$C:$Y,MATCH(K$9,'Last Document Status-HOMA'!$1:$1,0)-2,0),0)","v":"IFR"},{"$f":"IF($A82>0,VLOOKUP($A82,'Last Document Status-HOMA'!$C:$Y,MATCH(L$9,'Last Document Status-HOMA'!$1:$1,0)-2,0),0)","v":0},{"$f":"IF($A82>0,VLOOKUP($A82,'Last Document Status-HOMA'!$C:$Y,MATCH(M$9,'Last Document Status-HOMA'!$1:$1,0)-2,0),0)","v":"00:00:00"},{"$f":"IF($A82>0,VLOOKUP($A82,'Last Document Status-HOMA'!$C:$Y,MATCH(\"Outgoing Date\",'Last Document Status-HOMA'!$1:$1,0)-2,0),0)","v":"00:00:00"},{"$f":"IF($A82>0,VLOOKUP($A82,'Last Document Status-HOMA'!$C:$Y,MATCH(O$9,'Last Document Status-HOMA'!$1:$1,0)-2,0),0)","v":0},null,""]
["HDPE-16-VD-5002-ME-PRC-0022","Protection & Preservation Procedure for Reactors","IFR",null,null,null,null,null,null,null,{"$f":"IF($A83>0,VLOOKUP($A83,'Last Document Status-HOMA'!$C:$Y,MATCH(K$9,'Last Document Status-HOMA'!$1:$1,0)-2,0),0)","v":"IFR"},{"$f":"IF($A83>0,VLOOKUP($A83,'Last Document Status-HOMA'!$C:$Y,MATCH(L$9,'Last Document Status-HOMA'!$1:$1,0)-2,0),0)","v":0},{"$f":"IF($A83>0,VLOOKUP($A83,'Last Document Status-HOMA'!$C:$Y,MATCH(M$9,'Last Document Status-HOMA'!$1:$1,0)-2,0),0)","v":"00:00:00"},{"$f":"IF($A83>0,VLOOKUP($A83,'Last Document Status-HOMA'!$C:$Y,MATCH(\"Outgoing Date\",'Last Document Status-HOMA'!$1:$1,0)-2,0),0)","v":"00:00:00"},{"$f":"IF($A83>0,VLOOKUP($A83,'Last Document Status-HOMA'!$C:$Y,MATCH(O$9,'Last Document Status-HOMA'!$1:$1,0)-2,0),0)","v":0},null,""]
["HDPE-16-VD-5002-ME-PRC-0023","Pickling & Passivation Procedure for Reactors","IFI",null,null,null,null,null,null,null,{"$f":"IF($A84>0,VLOOKUP($A84,'Last Document Status-HOMA'!$C:$Y,MATCH(K$9,'Last Document Status-HOMA'!$1:$1,0)-2,0),0)","v":"IFI"},{"$f":"IF($A84>0,VLOOKUP($A84,'Last Document Status-HOMA'!$C:$Y,MATCH(L$9,'Last Document Status-HOMA'!$1:$1,0)-2,0),0)","v":0},{"$f":"IF($A84>0,VLOOKUP($A84,'Last Document Status-HOMA'!$C:$Y,MATCH(M$9,'Last Document Status-HOMA'!$1:$1,0)-2,0),0)","v":"00:00:00"},{"$f":"IF($A84>0,VLOOKUP($A84,'Last Document Status-HOMA'!$C:$Y,MATCH(\"Outgoing Date\",'Last Document Status-HOMA'!$1:$1,0)-2,0),0)","v":"00:00:00"},{"$f":"IF($A84>0,VLOOKUP($A84,'Last Document Status-HOMA'!$C:$Y,MATCH(O$9,'Last Document Status-HOMA'!$1:$1,0)-2,0),0)","v":0},null,""]
["HDPE-16-VD-5002-ME-PRC-0024","PMI Procedure for Reactors","IFI",null,null,null,null,null,null,null,{"$f":"IF($A85>0,VLOOKUP($A85,'Last Document Status-HOMA'!$C:$Y,MATCH(K$9,'Last Document Status-HOMA'!$1:$1,0)-2,0),0)","v":"IFI"},{"$f":"IF($A85>0,VLOOKUP($A85,'Last Document Status-HOMA'!$C:$Y,MATCH(L$9,'Last Document Status-HOMA'!$1:$1,0)-2,0),0)","v":0},{"$f":"IF($A85>0,VLOOKUP($A85,'Last Document Status-HOMA'!$C:$Y,MATCH(M$9,'Last Document Status-HOMA'!$1:$1,0)-2,0),0)","v":"00:00:00"},{"$f":"IF($A85>0,VLOOKUP($A85,'Last Document Status-HOMA'!$C:$Y,MATCH(\"Outgoing Date\",'Last Document Status-HOMA'!$1:$1,0)-2,0),0)","v":"00:00:00"},{"$f":"IF($A85>0,VLOOKUP($A85,'Last Document Status-HOMA'!$C:$Y,MATCH(O$9,'Last Document Status-HOMA'!$1:$1,0)-2,0),0)","v":0},null,""]
["HDPE-16-VD-5002-ME-PRC-0025","Fabrication Procedure for Reactors","IFI",null,null,null,null,null,null,null,{"$f":"IF($A86>0,VLOOKUP($A86,'Last Document Status-HOMA'!$C:$Y,MATCH(K$9,'Last Document Status-HOMA'!$1:$1,0)-2,0),0)","v":"IFI"},{"$f":"IF($A86>0,VLOOKUP($A86,'Last Document Status-HOMA'!$C:$Y,MATCH(L$9,'Last Document Status-HOMA'!$1:$1,0)-2,0),0)","v":0},{"$f":"IF($A86>0,VLOOKUP($A86,'Last Document Status-HOMA'!$C:$Y,MATCH(M$9,'Last Document Status-HOMA'!$1:$1,0)-2,0),0)","v":"00:00:00"},{"$f":"IF($A86>0,VLOOKUP($A86,'Last Document Status-HOMA'!$C:$Y,MATCH(\"Outgoing Date\",'Last Document Status-HOMA'!$1:$1,0)-2,0),0)","v":"00:00:00"},{"$f":"IF($A86>0,VLOOKUP($A86,'Last Document Status-HOMA'!$C:$Y,MATCH(O$9,'Last Document Status-HOMA'!$1:$1,0)-2,0),0)","v":0},null,""]
["HDPE-16-VD-5002-ME-PRC-0026","Transportation Procedure for Reactors","IFR",null,null,null,null,null,null,null,{"$f":"IF($A87>0,VLOOKUP($A87,'Last Document Status-HOMA'!$C:$Y,MATCH(K$9,'Last Document Status-HOMA'!$1:$1,0)-2,0),0)","v":"IFR"},{"$f":"IF($A87>0,VLOOKUP($A87,'Last Document Status-HOMA'!$C:$Y,MATCH(L$9,'Last Document Status-HOMA'!$1:$1,0)-2,0),0)","v":0},{"$f":"IF($A87>0,VLOOKUP($A87,'Last Document Status-HOMA'!$C:$Y,MATCH(M$9,'Last Document Status-HOMA'!$1:$1,0)-2,0),0)","v":"00:00:00"},{"$f":"IF($A87>0,VLOOKUP($A87,'Last Document Status-HOMA'!$C:$Y,MATCH(\"Outgoing Date\",'Last Document Status-HOMA'!$1:$1,0)-2,0),0)","v":"00:00:00"},{"$f":"IF($A87>0,VLOOKUP($A87,'Last Document Status-HOMA'!$C:$Y,MATCH(O$9,'Last Document Status-HOMA'!$1:$1,0)-2,0),0)","v":0},null,""]
["HDPE-16-VD-5002-ME-QCP-0006","Vendor's Quality Control Plan for Reactors","IFI",null,null,null,null,null,null,null,{"$f":"IF($A88>0,VLOOKUP($A88,'Last Document Status-HOMA'!$C:$Y,MATCH(K$9,'Last Document Status-HOMA'!$1:$1,0)-2,0),0)","v":"IFI"},{"$f":"IF($A88>0,VLOOKUP($A88,'Last Document Status-HOMA'!$C:$Y,MATCH(L$9,'Last Document Status-HOMA'!$1:$1,0)-2,0),0)","v":0},{"$f":"IF($A88>0,VLOOKUP($A88,'Last Document Status-HOMA'!$C:$Y,MATCH(M$9,'Last Document Status-HOMA'!$1:$1,0)-2,0),0)","v":"00:00:00"},{"$f":"IF($A88>0,VLOOKUP($A88,'Last Document Status-HOMA'!$C:$Y,MATCH(\"Outgoing Date\",'Last Document Status-HOMA'!$1:$1,0)-2,0),0)","v":"00:00:00"},{"$f":"IF($A88>0,VLOOKUP($A88,'Last Document Status-HOMA'!$C:$Y,MATCH(O$9,'Last Document Status-HOMA'!$1:$1,0)-2,0),0)","v":0},null,""]
[null,null,null,null,null,null,null,null,null,null,{"$f":"IF($A89>0,VLOOKUP($A89,'Last Document Status-HOMA'!$C:$Y,MATCH(K$9,'Last Document Status-HOMA'!$1:$1,0)-2,0),0)","v":0},{"$f":"IF($A89>0,VLOOKUP($A89,'Last Document Status-HOMA'!$C:$Y,MATCH(L$9,'Last Document Status-HOMA'!$1:$1,0)-2,0),0)","v":0},{"$f":"IF($A89>0,VLOOKUP($A89,'Last Document Status-HOMA'!$C:$Y,MATCH(M$9,'Last Document Status-HOMA'!$1:$1,0)-2,0),0)","v":"00:00:00"},{"$f":"IF($A89>0,VLOOKUP($A89,'Last Document Status-HOMA'!$C:$Y,MATCH(\"Outgoing Date\",'Last Document Status-HOMA'!$1:$1,0)-2,0),0)","v":"00:00:00"},{"$f":"IF($A89>0,VLOOKUP($A89,'Last Document Status-HOMA'!$C:$Y,MATCH(O$9,'Last Document Status-HOMA'!$1:$1,0)-2,0),0)","v":0},null,""]
[null,null,null,null,null,null,null,null,null,null,{"$f":"IF($A90>0,VLOOKUP($A90,'Last Document Status-HOMA'!$C:$Y,MATCH(K$9,'Last Document Status-HOMA'!$1:$1,0)-2,0),0)","v":0},{"$f":"IF($A90>0,VLOOKUP($A90,'Last Document Status-HOMA'!$C:$Y,MATCH(L$9,'Last Document Status-HOMA'!$1:$1,0)-2,0),0)","v":0},{"$f":"IF($A90>0,VLOOKUP($A90,'Last Document Status-HOMA'!$C:$Y,MATCH(M$9,'Last Document Status-HOMA'!$1:$1,0)-2,0),0)","v":"00:00:00"},{"$f":"IF($A90>0,VLOOKUP($A90,'Last Document Status-HOMA'!$C:$Y,MATCH(\"Outgoing Date\",'Last Document Status-HOMA'!$1:$1,0)-2,0),0)","v":"00:00:00"},{"$f":"IF($A90>0,VLOOKUP($A90,'Last Document Status-HOMA'!$C:$Y,MATCH(O$9,'Last Document Status-HOMA'!$1:$1,0)-2,0),0)","v":0},null,""]
[null,null,null,null,null,null,null,null,null,null,{"$f":"IF($A91>0,VLOOKUP($A91,'Last Document Status-HOMA'!$C:$Y,MATCH(K$9,'Last Document Status-HOMA'!$1:$1,0)-2,0),0)","v":0},{"$f":"IF($A91>0,VLOOKUP($A91,'Last Document Status-HOMA'!$C:$Y,MATCH(L$9,'Last Document Status-HOMA'!$1:$1,0)-2,0),0)","v":0},{"$f":"IF($A91>0,VLOOKUP($A91,'Last Document Status-HOMA'!$C:$Y,MATCH(M$9,'Last Document Status-HOMA'!$1:$1,0)-2,0),0)","v":"00:00:00"},{"$f":"IF($A91>0,VLOOKUP($A91,'Last Document Status-HOMA'!$C:$Y,MATCH(\"Outgoing Date\",'Last Document Status-HOMA'!$1:$1,0)-2,0),0)","v":"00:00:00"},{"$f":"IF($A91>0,VLOOKUP($A91,'Last Document Status-HOMA'!$C:$Y,MATCH(O$9,'Last Document Status-HOMA'!$1:$1,0)-2,0),0)","v":0},null,""]
[null,null,null,null,null,null,null,null,null,null,{"$f":"IF($A92>0,VLOOKUP($A92,'Last Document Status-HOMA'!$C:$Y,MATCH(K$9,'Last Document Status-HOMA'!$1:$1,0)-2,0),0)","v":0},{"$f":"IF($A92>0,VLOOKUP($A92,'Last Document Status-HOMA'!$C:$Y,MATCH(L$9,'Last Document Status-HOMA'!$1:$1,0)-2,0),0)","v":0},{"$f":"IF($A92>0,VLOOKUP($A92,'Last Document Status-HOMA'!$C:$Y,MATCH(M$9,'Last Document Status-HOMA'!$1:$1,0)-2,0),0)","v":"00:00:00"},{"$f":"IF($A92>0,VLOOKUP($A92,'Last Document Status-HOMA'!$C:$Y,MATCH(\"Outgoing Date\",'Last Document Status-HOMA'!$1:$1,0)-2,0),0)","v":"00:00:00"},{"$f":"IF($A92>0,VLOOKUP($A92,'Last Document Status-HOMA'!$C:$Y,MATCH(O$9,'Last Document Status-HOMA'!$1:$1,0)-2,0),0)","v":0},null,""]
[null,null,null,null,null,null,null,null,null,null,{"$f":"IF($A93>0,VLOOKUP($A93,'Last Document Status-HOMA'!$C:$Y,MATCH(K$9,'Last Document Status-HOMA'!$1:$1,0)-2,0),0)","v":0},{"$f":"IF($A93>0,VLOOKUP($A93,'Last Document Status-HOMA'!$C:$Y,MATCH(L$9,'Last Document Status-HOMA'!$1:$1,0)-2,0),0)","v":0},{"$f":"IF($A93>0,VLOOKUP($A93,'Last Document Status-HOMA'!$C:$Y,MATCH(M$9,'Last Document Status-HOMA'!$1:$1,0)-2,0),0)","v":"00:00:00"},{"$f":"IF($A93>0,VLOOKUP($A93,'Last Document Status-HOMA'!$C:$Y,MATCH(\"Outgoing Date\",'Last Document Status-HOMA'!$1:$1,0)-2,0),0)","v":"00:00:00"},{"$f":"IF($A93>0,VLOOKUP($A93,'Last Document Status-HOMA'!$C:$Y,MATCH(O$9,'Last Document Status-HOMA'!$1:$1,0)-2,0),0)","v":0},null,""]
[null,null,null,null,null,null,null,null,null,null,{"$f":"IF($A94>0,VLOOKUP($A94,'Last Document Status-HOMA'!$C:$Y,MATCH(K$9,'Last Document Status-HOMA'!$1:$1,0)-2,0),0)","v":0},{"$f":"IF($A94>0,VLOOKUP($A94,'Last Document Status-HOMA'!$C:$Y,MATCH(L$9,'Last Document Status-HOMA'!$1:$1,0)-2,0),0)","v":0},{"$f":"IF($A94>0,VLOOKUP($A94,'Last Document Status-HOMA'!$C:$Y,MATCH(M$9,'Last Document Status-HOMA'!$1:$1,0)-2,0),0)","v":"00:00:00"},{"$f":"IF($A94>0,VLOOKUP($A94,'Last Document Status-HOMA'!$C:$Y,MATCH(\"Outgoing Date\",'Last Document Status-HOMA'!$1:$1,0)-2,0),0)","v":"00:00:00"},{"$f":"IF($A94>0,VLOOKUP($A94,'Last Document Status-HOMA'!$C:$Y,MATCH(O$9,'Last Document Status-HOMA'!$1:$1,0)-2,0),0)","v":0},null,""]
[null,null,null,null,null,null,null,null,null,null,{"$f":"IF($A95>0,VLOOKUP($A95,'Last Document Status-HOMA'!$C:$Y,MATCH(K$9,'Last Document Status-HOMA'!$1:$1,0)-2,0),0)","v":0},{"$f":"IF($A95>0,VLOOKUP($A95,'Last Document Status-HOMA'!$C:$Y,MATCH(L$9,'Last Document Status-HOMA'!$1:$1,0)-2,0),0)","v":0},{"$f":"IF($A95>0,VLOOKUP($A95,'Last Document Status-HOMA'!$C:$Y,MATCH(M$9,'Last Document Status-HOMA'!$1:$1,0)-2,0),0)","v":"00:00:00"},{"$f":"IF($A95>0,VLOOKUP($A95,'Last Document Status-HOMA'!$C:$Y,MATCH(\"Outgoing Date\",'Last Document Status-HOMA'!$1:$1,0)-2,0),0)","v":"00:00:00"},{"$f":"IF($A95>0,VLOOKUP($A95,'Last Document Status-HOMA'!$C:$Y,MATCH(O$9,'Last Document Status-HOMA'!$1:$1,0)-2,0),0)","v":0},null,""]
[null,null,null,null,null,null,null,null,null,null,{"$f":"IF($A96>0,VLOOKUP($A96,'Last Document Status-HOMA'!$C:$Y,MATCH(K$9,'Last Document Status-HOMA'!$1:$1,0)-2,0),0)","v":0},{"$f":"IF($A96>0,VLOOKUP($A96,'Last Document Status-HOMA'!$C:$Y,MATCH(L$9,'Last Document Status-HOMA'!$1:$1,0)-2,0),0)","v":0},{"$f":"IF($A96>0,VLOOKUP($A96,'Last Document Status-HOMA'!$C:$Y,MATCH(M$9,'Last Document Status-HOMA'!$1:$1,0)-2,0),0)","v":"00:00:00"},{"$f":"IF($A96>0,VLOOKUP($A96,'Last Document Status-HOMA'!$C:$Y,MATCH(\"Outgoing Date\",'Last Document Status-HOMA'!$1:$1,0)-2,0),0)","v":"00:00:00"},{"$f":"IF($A96>0,VLOOKUP($A96,'Last Document Status-HOMA'!$C:$Y,MATCH(O$9,'Last Document Status-HOMA'!$1:$1,0)-2,0),0)","v":0},null,""]
[null,null,null,null,null,null,null,null,null,null,{"$f":"IF($A97>0,VLOOKUP($A97,'Last Document Status-HOMA'!$C:$Y,MATCH(K$9,'Last Document Status-HOMA'!$1:$1,0)-2,0),0)","v":0},{"$f":"IF($A97>0,VLOOKUP($A97,'Last Document Status-HOMA'!$C:$Y,MATCH(L$9,'Last Document Status-HOMA'!$1:$1,0)-2,0),0)","v":0},{"$f":"IF($A97>0,VLOOKUP($A97,'Last Document Status-HOMA'!$C:$Y,MATCH(M$9,'Last Document Status-HOMA'!$1:$1,0)-2,0),0)","v":"00:00:00"},{"$f":"IF($A97>0,VLOOKUP($A97,'Last Document Status-HOMA'!$C:$Y,MATCH(\"Outgoing Date\",'Last Document Status-HOMA'!$1:$1,0)-2,0),0)","v":"00:00:00"},{"$f":"IF($A97>0,VLOOKUP($A97,'Last Document Status-HOMA'!$C:$Y,MATCH(O$9,'Last Document Status-HOMA'!$1:$1,0)-2,0),0)","v":0},null,""]
[null,null,null,null,null,null,null,null,null,null,{"$f":"IF($A98>0,VLOOKUP($A98,'Last Document Status-HOMA'!$C:$Y,MATCH(K$9,'Last Document Status-HOMA'!$1:$1,0)-2,0),0)","v":0},{"$f":"IF($A98>0,VLOOKUP($A98,'Last Document Status-HOMA'!$C:$Y,MATCH(L$9,'Last Document Status-HOMA'!$1:$1,0)-2,0),0)","v":0},{"$f":"IF($A98>0,VLOOKUP($A98,'Last Document Status-HOMA'!$C:$Y,MATCH(M$9,'Last Document Status-HOMA'!$1:$1,0)-2,0),0)","v":"00:00:00"},{"$f":"IF($A98>0,VLOOKUP($A98,'Last Document Status-HOMA'!$C:$Y,MATCH(\"Outgoing Date\",'Last Document Status-HOMA'!$1:$1,0)-2,0),0)","v":"00:00:00"},{"$f":"IF($A98>0,VLOOKUP($A98,'Last Document Status-HOMA'!$C:$Y,MATCH(O$9,'Last Document Status-HOMA'!$1:$1,0)-2,0),0)","v":0},null,""]
[null,null,null,null,null,null,null,null,null,null,{"$f":"IF($A99>0,VLOOKUP($A99,'Last Document Status-HOMA'!$C:$Y,MATCH(K$9,'Last Document Status-HOMA'!$1:$1,0)-2,0),0)","v":0},{"$f":"IF($A99>0,VLOOKUP($A99,'Last Document Status-HOMA'!$C:$Y,MATCH(L$9,'Last Document Status-HOMA'!$1:$1,0)-2,0),0)","v":0},{"$f":"IF($A99>0,VLOOKUP($A99,'Last Document Status-HOMA'!$C:$Y,MATCH(M$9,'Last Document Status-HOMA'!$1:$1,0)-2,0),0)","v":"00:00:00"},{"$f":"IF($A99>0,VLOOKUP($A99,'Last Document Status-HOMA'!$C:$Y,MATCH(\"Outgoing Date\",'Last Document Status-HOMA'!$1:$1,0)-2,0),0)","v":"00:00:00"},{"$f":"IF($A99>0,VLOOKUP($A99,'Last Document Status-HOMA'!$C:$Y,MATCH(O$9,'Last Document Status-HOMA'!$1:$1,0)-2,0),0)","v":0},null,""]
[null,null,null,null,null,null,null,null,null,null,{"$f":"IF($A100>0,VLOOKUP($A100,'Last Document Status-HOMA'!$C:$Y,MATCH(K$9,'Last Document Status-HOMA'!$1:$1,0)-2,0),0)","v":0},{"$f":"IF($A100>0,VLOOKUP($A100,'Last Document Status-HOMA'!$C:$Y,MATCH(L$9,'Last Document Status-HOMA'!$1:$1,0)-2,0),0)","v":0},{"$f":"IF($A100>0,VLOOKUP($A100,'Last Document Status-HOMA'!$C:$Y,MATCH(M$9,'Last Document Status-HOMA'!$1:$1,0)-2,0),0)","v":"00:00:00"},{"$f":"IF($A100>0,VLOOKUP($A100,'Last Document Status-HOMA'!$C:$Y,MATCH(\"Outgoing Date\",'Last Document Status-HOMA'!$1:$1,0)-2,0),0)","v":"00:00:00"},{"$f":"IF($A100>0,VLOOKUP($A100,'Last Document Status-HOMA'!$C:$Y,MATCH(O$9,'Last Document Status-HOMA'!$1:$1,0)-2,0),0)","v":0},null,""]
[null,null,null,null,null,null,null,null,null,null,{"$f":"IF($A101>0,VLOOKUP($A101,'Last Document Status-HOMA'!$C:$Y,MATCH(K$9,'Last Document Status-HOMA'!$1:$1,0)-2,0),0)","v":0},{"$f":"IF($A101>0,VLOOKUP($A101,'Last Document Status-HOMA'!$C:$Y,MATCH(L$9,'Last Document Status-HOMA'!$1:$1,0)-2,0),0)","v":0},{"$f":"IF($A101>0,VLOOKUP($A101,'Last Document Status-HOMA'!$C:$Y,MATCH(M$9,'Last Document Status-HOMA'!$1:$1,0)-2,0),0)","v":"00:00:00"},{"$f":"IF($A101>0,VLOOKUP($A101,'Last Document Status-HOMA'!$C:$Y,MATCH(\"Outgoing Date\",'Last Document Status-HOMA'!$1:$1,0)-2,0),0)","v":"00:00:00"},{"$f":"IF($A101>0,VLOOKUP($A101,'Last Document Status-HOMA'!$C:$Y,MATCH(O$9,'Last Document Status-HOMA'!$1:$1,0)-2,0),0)","v":0},null,""]
[null,null,null,null,null,null,null,null,null,null,{"$f":"IF($A102>0,VLOOKUP($A102,'Last Document Status-HOMA'!$C:$Y,MATCH(K$9,'Last Document Status-HOMA'!$1:$1,0)-2,0),0)","v":0},{"$f":"IF($A102>0,VLOOKUP($A102,'Last Document Status-HOMA'!$C:$Y,MATCH(L$9,'Last Document Status-HOMA'!$1:$1,0)-2,0),0)","v":0},{"$f":"IF($A102>0,VLOOKUP($A102,'Last Document Status-HOMA'!$C:$Y,MATCH(M$9,'Last Document Status-HOMA'!$1:$1,0)-2,0),0)","v":"00:00:00"},{"$f":"IF($A102>0,VLOOKUP($A102,'Last Document Status-HOMA'!$C:$Y,MATCH(\"Outgoing Date\",'Last Document Status-HOMA'!$1:$1,0)-2,0),0)","v":"00:00:00"},{"$f":"IF($A102>0,VLOOKUP($A102,'Last Document Status-HOMA'!$C:$Y,MATCH(O$9,'Last Document Status-HOMA'!$1:$1,0)-2,0),0)","v":0},null,""]
[null,null,null,null,null,null,null,null,null,null,{"$f":"IF($A103>0,VLOOKUP($A103,'Last Document Status-HOMA'!$C:$Y,MATCH(K$9,'Last Document Status-HOMA'!$1:$1,0)-2,0),0)","v":0},{"$f":"IF($A103>0,VLOOKUP($A103,'Last Document Status-HOMA'!$C:$Y,MATCH(L$9,'Last Document Status-HOMA'!$1:$1,0)-2,0),0)","v":0},{"$f":"IF($A103>0,VLOOKUP($A103,'Last Document Status-HOMA'!$C:$Y,MATCH(M$9,'Last Document Status-HOMA'!$1:$1,0)-2,0),0)","v":"00:00:00"},{"$f":"IF($A103>0,VLOOKUP($A103,'Last Document Status-HOMA'!$C:$Y,MATCH(\"Outgoing Date\",'Last Document Status-HOMA'!$1:$1,0)-2,0),0)","v":"00:00:00"},{"$f":"IF($A103>0,VLOOKUP($A103,'Last Document Status-HOMA'!$C:$Y,MATCH(O$9,'Last Document Status-HOMA'!$1:$1,0)-2,0),0)","v":0},null,""]
[null,null,null,null,null,null,null,null,null,null,{"$f":"IF($A104>0,VLOOKUP($A104,'Last Document Status-HOMA'!$C:$Y,MATCH(K$9,'Last Document Status-HOMA'!$1:$1,0)-2,0),0)","v":0},{"$f":"IF($A104>0,VLOOKUP($A104,'Last Document Status-HOMA'!$C:$Y,MATCH(L$9,'Last Document Status-HOMA'!$1:$1,0)-2,0),0)","v":0},{"$f":"IF($A104>0,VLOOKUP($A104,'Last Document Status-HOMA'!$C:$Y,MATCH(M$9,'Last Document Status-HOMA'!$1:$1,0)-2,0),0)","v":"00:00:00"},{"$f":"IF($A104>0,VLOOKUP($A104,'Last Document Status-HOMA'!$C:$Y,MATCH(\"Outgoing Date\",'Last Document Status-HOMA'!$1:$1,0)-2,0),0)","v":"00:00:00"},{"$f":"IF($A104>0,VLOOKUP($A104,'Last Document Status-HOMA'!$C:$Y,MATCH(O$9,'Last Document Status-HOMA'!$1:$1,0)-2,0),0)","v":0},null,""]
[null,null,null,null,null,null,null,null,null,null,{"$f":"IF($A105>0,VLOOKUP($A105,'Last Document Status-HOMA'!$C:$Y,MATCH(K$9,'Last Document Status-HOMA'!$1:$1,0)-2,0),0)","v":0},{"$f":"IF($A105>0,VLOOKUP($A105,'Last Document Status-HOMA'!$C:$Y,MATCH(L$9,'Last Document Status-HOMA'!$1:$1,0)-2,0),0)","v":0},{"$f":"IF($A105>0,VLOOKUP($A105,'Last Document Status-HOMA'!$C:$Y,MATCH(M$9,'Last Document Status-HOMA'!$1:$1,0)-2,0),0)","v":"00:00:00"},{"$f":"IF($A105>0,VLOOKUP($A105,'Last Document Status-HOMA'!$C:$Y,MATCH(\"Outgoing Date\",'Last Document Status-HOMA'!$1:$1,0)-2,0),0)","v":"00:00:00"},{"$f":"IF($A105>0,VLOOKUP($A105,'Last Document Status-HOMA'!$C:$Y,MATCH(O$9,'Last Document Status-HOMA'!$1:$1,0)-2,0),0)","v":0},null,""]
[null,null,null,null,null,null,null,null,null,null,{"$f":"IF($A106>0,VLOOKUP($A106,'Last Document Status-HOMA'!$C:$Y,MATCH(K$9,'Last Document Status-HOMA'!$1:$1,0)-2,0),0)","v":0},{"$f":"IF($A106>0,VLOOKUP($A106,'Last Document Status-HOMA'!$C:$Y,MATCH(L$9,'Last Document Status-HOMA'!$1:$1,0)-2,0),0)","v":0},{"$f":"IF($A106>0,VLOOKUP($A106,'Last Document Status-HOMA'!$C:$Y,MATCH(M$9,'Last Document Status-HOMA'!$1:$1,0)-2,0),0)","v":"00:00:00"},{"$f":"IF($A106>0,VLOOKUP($A106,'Last Document Status-HOMA'!$C:$Y,MATCH(\"Outgoing Date\",'Last Document Status-HOMA'!$1:$1,0)-2,0),0)","v":"00:00:00"},{"$f":"IF($A106>0,VLOOKUP($A106,'Last Document Status-HOMA'!$C:$Y,MATCH(O$9,'Last Document Status-HOMA'!$1:$1,0)-2,0),0)","v":0},null,""]
[null,null,null,null,null,null,null,null,null,null,{"$f":"IF($A107>0,VLOOKUP($A107,'Last Document Status-HOMA'!$C:$Y,MATCH(K$9,'Last Document Status-HOMA'!$1:$1,0)-2,0),0)","v":0},{"$f":"IF($A107>0,VLOOKUP($A107,'Last Document Status-HOMA'!$C:$Y,MATCH(L$9,'Last Document Status-HOMA'!$1:$1,0)-2,0),0)","v":0},{"$f":"IF($A107>0,VLOOKUP($A107,'Last Document Status-HOMA'!$C:$Y,MATCH(M$9,'Last Document Status-HOMA'!$1:$1,0)-2,0),0)","v":"00:00:00"},{"$f":"IF($A107>0,VLOOKUP($A107,'Last Document Status-HOMA'!$C:$Y,MATCH(\"Outgoing Date\",'Last Document Status-HOMA'!$1:$1,0)-2,0),0)","v":"00:00:00"},{"$f":"IF($A107>0,VLOOKUP($A107,'Last Document Status-HOMA'!$C:$Y,MATCH(O$9,'Last Document Status-HOMA'!$1:$1,0)-2,0),0)","v":0},null,""]
[null,null,null,null,null,null,null,null,null,null,{"$f":"IF($A108>0,VLOOKUP($A108,'Last Document Status-HOMA'!$C:$Y,MATCH(K$9,'Last Document Status-HOMA'!$1:$1,0)-2,0),0)","v":0},{"$f":"IF($A108>0,VLOOKUP($A108,'Last Document Status-HOMA'!$C:$Y,MATCH(L$9,'Last Document Status-HOMA'!$1:$1,0)-2,0),0)","v":0},{"$f":"IF($A108>0,VLOOKUP($A108,'Last Document Status-HOMA'!$C:$Y,MATCH(M$9,'Last Document Status-HOMA'!$1:$1,0)-2,0),0)","v":"00:00:00"},{"$f":"IF($A108>0,VLOOKUP($A108,'Last Document Status-HOMA'!$C:$Y,MATCH(\"Outgoing Date\",'Last Document Status-HOMA'!$1:$1,0)-2,0),0)","v":"00:00:00"},{"$f":"IF($A108>0,VLOOKUP($A108,'Last Document Status-HOMA'!$C:$Y,MATCH(O$9,'Last Document Status-HOMA'!$1:$1,0)-2,0),0)","v":0},null,""]
[null,null,null,null,null,null,null,null,null,null,{"$f":"IF($A109>0,VLOOKUP($A109,'Last Document Status-HOMA'!$C:$Y,MATCH(K$9,'Last Document Status-HOMA'!$1:$1,0)-2,0),0)","v":0},{"$f":"IF($A109>0,VLOOKUP($A109,'Last Document Status-HOMA'!$C:$Y,MATCH(L$9,'Last Document Status-HOMA'!$1:$1,0)-2,0),0)","v":0},{"$f":"IF($A109>0,VLOOKUP($A109,'Last Document Status-HOMA'!$C:$Y,MATCH(M$9,'Last Document Status-HOMA'!$1:$1,0)-2,0),0)","v":"00:00:00"},{"$f":"IF($A109>0,VLOOKUP($A109,'Last Document Status-HOMA'!$C:$Y,MATCH(\"Outgoing Date\",'Last Document Status-HOMA'!$1:$1,0)-2,0),0)","v":"00:00:00"},{"$f":"IF($A109>0,VLOOKUP($A109,'Last Document Status-HOMA'!$C:$Y,MATCH(O$9,'Last Document Status-HOMA'!$1:$1,0)-2,0),0)","v":0},null,""]
[null,null,null,null,null,null,null,null,null,null,{"$f":"IF($A110>0,VLOOKUP($A110,'Last Document Status-HOMA'!$C:$Y,MATCH(K$9,'Last Document Status-HOMA'!$1:$1,0)-2,0),0)","v":0},{"$f":"IF($A110>0,VLOOKUP($A110,'Last Document Status-HOMA'!$C:$Y,MATCH(L$9,'Last Document Status-HOMA'!$1:$1,0)-2,0),0)","v":0},{"$f":"IF($A110>0,VLOOKUP($A110,'Last Document Status-HOMA'!$C:$Y,MATCH(M$9,'Last Document Status-HOMA'!$1:$1,0)-2,0),0)","v":"00:00:00"},{"$f":"IF($A110>0,VLOOKUP($A110,'Last Document Status-HOMA'!$C:$Y,MATCH(\"Outgoing Date\",'Last Document Status-HOMA'!$1:$1,0)-2,0),0)","v":"00:00:00"},{"$f":"IF($A110>0,VLOOKUP($A110,'Last Document Status-HOMA'!$C:$Y,MATCH(O$9,'Last Document Status-HOMA'!$1:$1,0)-2,0),0)","v":0},null,""]
[null,null,null,null,null,null,null,null,null,null,{"$f":"IF($A111>0,VLOOKUP($A111,'Last Document Status-HOMA'!$C:$Y,MATCH(K$9,'Last Document Status-HOMA'!$1:$1,0)-2,0),0)","v":0},{"$f":"IF($A111>0,VLOOKUP($A111,'Last Document Status-HOMA'!$C:$Y,MATCH(L$9,'Last Document Status-HOMA'!$1:$1,0)-2,0),0)","v":0},{"$f":"IF($A111>0,VLOOKUP($A111,'Last Document Status-HOMA'!$C:$Y,MATCH(M$9,'Last Document Status-HOMA'!$1:$1,0)-2,0),0)","v":"00:00:00"},{"$f":"IF($A111>0,VLOOKUP($A111,'Last Document Status-HOMA'!$C:$Y,MATCH(\"Outgoing Date\",'Last Document Status-HOMA'!$1:$1,0)-2,0),0)","v":"00:00:00"},{"$f":"IF($A111>0,VLOOKUP($A111,'Last Document Status-HOMA'!$C:$Y,MATCH(O$9,'Last Document Status-HOMA'!$1:$1,0)-2,0),0)","v":0},null,""]
[null,null,null,null,null,null,null,null,null,null,{"$f":"IF($A112>0,VLOOKUP($A112,'Last Document Status-HOMA'!$C:$Y,MATCH(K$9,'Last Document Status-HOMA'!$1:$1,0)-2,0),0)","v":0},{"$f":"IF($A112>0,VLOOKUP($A112,'Last Document Status-HOMA'!$C:$Y,MATCH(L$9,'Last Document Status-HOMA'!$1:$1,0)-2,0),0)","v":0},{"$f":"IF($A112>0,VLOOKUP($A112,'Last Document Status-HOMA'!$C:$Y,MATCH(M$9,'Last Document Status-HOMA'!$1:$1,0)-2,0),0)","v":"00:00:00"},{"$f":"IF($A112>0,VLOOKUP($A112,'Last Document Status-HOMA'!$C:$Y,MATCH(\"Outgoing Date\",'Last Document Status-HOMA'!$1:$1,0)-2,0),0)","v":"00:00:00"},{"$f":"IF($A112>0,VLOOKUP($A112,'Last Document Status-HOMA'!$C:$Y,MATCH(O$9,'Last Document Status-HOMA'!$1:$1,0)-2,0),0)","v":0},null,""]
[null,null,null,null,null,null,null,null,null,null,{"$f":"IF($A113>0,VLOOKUP($A113,'Last Document Status-HOMA'!$C:$Y,MATCH(K$9,'Last Document Status-HOMA'!$1:$1,0)-2,0),0)","v":0},{"$f":"IF($A113>0,VLOOKUP($A113,'Last Document Status-HOMA'!$C:$Y,MATCH(L$9,'Last Document Status-HOMA'!$1:$1,0)-2,0),0)","v":0},{"$f":"IF($A113>0,VLOOKUP($A113,'Last Document Status-HOMA'!$C:$Y,MATCH(M$9,'Last Document Status-HOMA'!$1:$1,0)-2,0),0)","v":"00:00:00"},{"$f":"IF($A113>0,VLOOKUP($A113,'Last Document Status-HOMA'!$C:$Y,MATCH(\"Outgoing Date\",'Last Document Status-HOMA'!$1:$1,0)-2,0),0)","v":"00:00:00"},{"$f":"IF($A113>0,VLOOKUP($A113,'Last Document Status-HOMA'!$C:$Y,MATCH(O$9,'Last Document Status-HOMA'!$1:$1,0)-2,0),0)","v":0},null,""]
[null,null,null,null,null,null,null,null,null,null,{"$f":"IF($A114>0,VLOOKUP($A114,'Last Document Status-HOMA'!$C:$Y,MATCH(K$9,'Last Document Status-HOMA'!$1:$1,0)-2,0),0)","v":0},{"$f":"IF($A114>0,VLOOKUP($A114,'Last Document Status-HOMA'!$C:$Y,MATCH(L$9,'Last Document Status-HOMA'!$1:$1,0)-2,0),0)","v":0},{"$f":"IF($A114>0,VLOOKUP($A114,'Last Document Status-HOMA'!$C:$Y,MATCH(M$9,'Last Document Status-HOMA'!$1:$1,0)-2,0),0)","v":"00:00:00"},{"$f":"IF($A114>0,VLOOKUP($A114,'Last Document Status-HOMA'!$C:$Y,MATCH(\"Outgoing Date\",'Last Document Status-HOMA'!$1:$1,0)-2,0),0)","v":"00:00:00"},{"$f":"IF($A114>0,VLOOKUP($A114,'Last Document Status-HOMA'!$C:$Y,MATCH(O$9,'Last Document Status-HOMA'!$1:$1,0)-2,0),0)","v":0},null,""]
[null,null,null,null,null,null,null,null,null,null,{"$f":"IF($A115>0,VLOOKUP($A115,'Last Document Status-HOMA'!$C:$Y,MATCH(K$9,'Last Document Status-HOMA'!$1:$1,0)-2,0),0)","v":0},{"$f":"IF($A115>0,VLOOKUP($A115,'Last Document Status-HOMA'!$C:$Y,MATCH(L$9,'Last Document Status-HOMA'!$1:$1,0)-2,0),0)","v":0},{"$f":"IF($A115>0,VLOOKUP($A115,'Last Document Status-HOMA'!$C:$Y,MATCH(M$9,'Last Document Status-HOMA'!$1:$1,0)-2,0),0)","v":"00:00:00"},{"$f":"IF($A115>0,VLOOKUP($A115,'Last Document Status-HOMA'!$C:$Y,MATCH(\"Outgoing Date\",'Last Document Status-HOMA'!$1:$1,0)-2,0),0)","v":"00:00:00"},{"$f":"IF($A115>0,VLOOKUP($A115,'Last Document Status-HOMA'!$C:$Y,MATCH(O$9,'Last Document Status-HOMA'!$1:$1,0)-2,0),0)","v":0},null,""]
[null,null,null,null,null,null,null,null,null,null,{"$f":"IF($A116>0,VLOOKUP($A116,'Last Document Status-HOMA'!$C:$Y,MATCH(K$9,'Last Document Status-HOMA'!$1:$1,0)-2,0),0)","v":0},{"$f":"IF($A116>0,VLOOKUP($A116,'Last Document Status-HOMA'!$C:$Y,MATCH(L$9,'Last Document Status-HOMA'!$1:$1,0)-2,0),0)","v":0},{"$f":"IF($A116>0,VLOOKUP($A116,'Last Document Status-HOMA'!$C:$Y,MATCH(M$9,'Last Document Status-HOMA'!$1:$1,0)-2,0),0)","v":"00:00:00"},{"$f":"IF($A116>0,VLOOKUP($A116,'Last Document Status-HOMA'!$C:$Y,MATCH(\"Outgoing Date\",'Last Document Status-HOMA'!$1:$1,0)-2,0),0)","v":"00:00:00"},{"$f":"IF($A116>0,VLOOKUP($A116,'Last Document Status-HOMA'!$C:$Y,MATCH(O$9,'Last Document Status-HOMA'!$1:$1,0)-2,0),0)","v":0},null,""]
[null,null,null,null,null,null,null,null,null,null,{"$f":"IF($A117>0,VLOOKUP($A117,'Last Document Status-HOMA'!$C:$Y,MATCH(K$9,'Last Document Status-HOMA'!$1:$1,0)-2,0),0)","v":0},{"$f":"IF($A117>0,VLOOKUP($A117,'Last Document Status-HOMA'!$C:$Y,MATCH(L$9,'Last Document Status-HOMA'!$1:$1,0)-2,0),0)","v":0},{"$f":"IF($A117>0,VLOOKUP($A117,'Last Document Status-HOMA'!$C:$Y,MATCH(M$9,'Last Document Status-HOMA'!$1:$1,0)-2,0),0)","v":"00:00:00"},{"$f":"IF($A117>0,VLOOKUP($A117,'Last Document Status-HOMA'!$C:$Y,MATCH(\"Outgoing Date\",'Last Document Status-HOMA'!$1:$1,0)-2,0),0)","v":"00:00:00"},{"$f":"IF($A117>0,VLOOKUP($A117,'Last Document Status-HOMA'!$C:$Y,MATCH(O$9,'Last Document Status-HOMA'!$1:$1,0)-2,0),0)","v":0},null,""]
[null,null,null,null,null,null,null,null,null,null,{"$f":"IF($A118>0,VLOOKUP($A118,'Last Document Status-HOMA'!$C:$Y,MATCH(K$9,'Last Document Status-HOMA'!$1:$1,0)-2,0),0)","v":0},{"$f":"IF($A118>0,VLOOKUP($A118,'Last Document Status-HOMA'!$C:$Y,MATCH(L$9,'Last Document Status-HOMA'!$1:$1,0)-2,0),0)","v":0},{"$f":"IF($A118>0,VLOOKUP($A118,'Last Document Status-HOMA'!$C:$Y,MATCH(M$9,'Last Document Status-HOMA'!$1:$1,0)-2,0),0)","v":"00:00:00"},{"$f":"IF($A118>0,VLOOKUP($A118,'Last Document Status-HOMA'!$C:$Y,MATCH(\"Outgoing Date\",'Last Document Status-HOMA'!$1:$1,0)-2,0),0)","v":"00:00:00"},{"$f":"IF($A118>0,VLOOKUP($A118,'Last Document Status-HOMA'!$C:$Y,MATCH(O$9,'Last Document Status-HOMA'!$1:$1,0)-2,0),0)","v":0},null,""]
[null,null,null,null,null,null,null,null,null,null,{"$f":"IF($A119>0,VLOOKUP($A119,'Last Document Status-HOMA'!$C:$Y,MATCH(K$9,'Last Document Status-HOMA'!$1:$1,0)-2,0),0)","v":0},{"$f":"IF($A119>0,VLOOKUP($A119,'Last Document Status-HOMA'!$C:$Y,MATCH(L$9,'Last Document Status-HOMA'!$1:$1,0)-2,0),0)","v":0},{"$f":"IF($A119>0,VLOOKUP($A119,'Last Document Status-HOMA'!$C:$Y,MATCH(M$9,'Last Document Status-HOMA'!$1:$1,0)-2,0),0)","v":"00:00:00"},{"$f":"IF($A119>0,VLOOKUP($A119,'Last Document Status-HOMA'!$C:$Y,MATCH(\"Outgoing Date\",'Last Document Status-HOMA'!$1:$1,0)-2,0),0)","v":"00:00:00"},{"$f":"IF($A119>0,VLOOKUP($A119,'Last Document Status-HOMA'!$C:$Y,MATCH(O$9,'Last Document Status-HOMA'!$1:$1,0)-2,0),0)","v":0},null,""]
[null,null,null,null,null,null,null,null,null,null,{"$f":"IF($A120>0,VLOOKUP($A120,'Last Document Status-HOMA'!$C:$Y,MATCH(K$9,'Last Document Status-HOMA'!$1:$1,0)-2,0),0)","v":0},{"$f":"IF($A120>0,VLOOKUP($A120,'Last Document Status-HOMA'!$C:$Y,MATCH(L$9,'Last Document Status-HOMA'!$1:$1,0)-2,0),0)","v":0},{"$f":"IF($A120>0,VLOOKUP($A120,'Last Document Status-HOMA'!$C:$Y,MATCH(M$9,'Last Document Status-HOMA'!$1:$1,0)-2,0),0)","v":"00:00:00"},{"$f":"IF($A120>0,VLOOKUP($A120,'Last Document Status-HOMA'!$C:$Y,MATCH(\"Outgoing Date\",'Last Document Status-HOMA'!$1:$1,0)-2,0),0)","v":"00:00:00"},{"$f":"IF($A120>0,VLOOKUP($A120,'Last Document Status-HOMA'!$C:$Y,MATCH(O$9,'Last Document Status-HOMA'!$1:$1,0)-2,0),0)","v":0},null,""]
[null,null,null,null,null,null,null,null,null,null,{"$f":"IF($A121>0,VLOOKUP($A121,'Last Document Status-HOMA'!$C:$Y,MATCH(K$9,'Last Document Status-HOMA'!$1:$1,0)-2,0),0)","v":0},{"$f":"IF($A121>0,VLOOKUP($A121,'Last Document Status-HOMA'!$C:$Y,MATCH(L$9,'Last Document Status-HOMA'!$1:$1,0)-2,0),0)","v":0},{"$f":"IF($A121>0,VLOOKUP($A121,'Last Document Status-HOMA'!$C:$Y,MATCH(M$9,'Last Document Status-HOMA'!$1:$1,0)-2,0),0)","v":"00:00:00"},{"$f":"IF($A121>0,VLOOKUP($A121,'Last Document Status-HOMA'!$C:$Y,MATCH(\"Outgoing Date\",'Last Document Status-HOMA'!$1:$1,0)-2,0),0)","v":"00:00:00"},{"$f":"IF($A121>0,VLOOKUP($A121,'Last Document Status-HOMA'!$C:$Y,MATCH(O$9,'Last Document Status-HOMA'!$1:$1,0)-2,0),0)","v":0},null,""]
[null,null,null,null,null,null,null,null,null,null,{"$f":"IF($A122>0,VLOOKUP($A122,'Last Document Status-HOMA'!$C:$Y,MATCH(K$9,'Last Document Status-HOMA'!$1:$1,0)-2,0),0)","v":0},{"$f":"IF($A122>0,VLOOKUP($A122,'Last Document Status-HOMA'!$C:$Y,MATCH(L$9,'Last Document Status-HOMA'!$1:$1,0)-2,0),0)","v":0},{"$f":"IF($A122>0,VLOOKUP($A122,'Last Document Status-HOMA'!$C:$Y,MATCH(M$9,'Last Document Status-HOMA'!$1:$1,0)-2,0),0)","v":"00:00:00"},{"$f":"IF($A122>0,VLOOKUP($A122,'Last Document Status-HOMA'!$C:$Y,MATCH(\"Outgoing Date\",'Last Document Status-HOMA'!$1:$1,0)-2,0),0)","v":"00:00:00"},{"$f":"IF($A122>0,VLOOKUP($A122,'Last Document Status-HOMA'!$C:$Y,MATCH(O$9,'Last Document Status-HOMA'!$1:$1,0)-2,0),0)","v":0},null,""]
[null,null,null,null,null,null,null,null,null,null,{"$f":"IF($A123>0,VLOOKUP($A123,'Last Document Status-HOMA'!$C:$Y,MATCH(K$9,'Last Document Status-HOMA'!$1:$1,0)-2,0),0)","v":0},{"$f":"IF($A123>0,VLOOKUP($A123,'Last Document Status-HOMA'!$C:$Y,MATCH(L$9,'Last Document Status-HOMA'!$1:$1,0)-2,0),0)","v":0},{"$f":"IF($A123>0,VLOOKUP($A123,'Last Document Status-HOMA'!$C:$Y,MATCH(M$9,'Last Document Status-HOMA'!$1:$1,0)-2,0),0)","v":"00:00:00"},{"$f":"IF($A123>0,VLOOKUP($A123,'Last Document Status-HOMA'!$C:$Y,MATCH(\"Outgoing Date\",'Last Document Status-HOMA'!$1:$1,0)-2,0),0)","v":"00:00:00"},{"$f":"IF($A123>0,VLOOKUP($A123,'Last Document Status-HOMA'!$C:$Y,MATCH(O$9,'Last Document Status-HOMA'!$1:$1,0)-2,0),0)","v":0},null,""]
[null,null,null,null,null,null,null,null,null,null,{"$f":"IF($A124>0,VLOOKUP($A124,'Last Document Status-HOMA'!$C:$Y,MATCH(K$9,'Last Document Status-HOMA'!$1:$1,0)-2,0),0)","v":0},{"$f":"IF($A124>0,VLOOKUP($A124,'Last Document Status-HOMA'!$C:$Y,MATCH(L$9,'Last Document Status-HOMA'!$1:$1,0)-2,0),0)","v":0},{"$f":"IF($A124>0,VLOOKUP($A124,'Last Document Status-HOMA'!$C:$Y,MATCH(M$9,'Last Document Status-HOMA'!$1:$1,0)-2,0),0)","v":"00:00:00"},{"$f":"IF($A124>0,VLOOKUP($A124,'Last Document Status-HOMA'!$C:$Y,MATCH(\"Outgoing Date\",'Last Document Status-HOMA'!$1:$1,0)-2,0),0)","v":"00:00:00"},{"$f":"IF($A124>0,VLOOKUP($A124,'Last Document Status-HOMA'!$C:$Y,MATCH(O$9,'Last Document Status-HOMA'!$1:$1,0)-2,0),0)","v":0},null,""]
[null,null,null,null,null,null,null,null,null,null,{"$f":"IF($A125>0,VLOOKUP($A125,'Last Document Status-HOMA'!$C:$Y,MATCH(K$9,'Last Document Status-HOMA'!$1:$1,0)-2,0),0)","v":0},{"$f":"IF($A125>0,VLOOKUP($A125,'Last Document Status-HOMA'!$C:$Y,MATCH(L$9,'Last Document Status-HOMA'!$1:$1,0)-2,0),0)","v":0},{"$f":"IF($A125>0,VLOOKUP($A125,'Last Document Status-HOMA'!$C:$Y,MATCH(M$9,'Last Document Status-HOMA'!$1:$1,0)-2,0),0)","v":"00:00:00"},{"$f":"IF($A125>0,VLOOKUP($A125,'Last Document Status-HOMA'!$C:$Y,MATCH(\"Outgoing Date\",'Last Document Status-HOMA'!$1:$1,0)-2,0),0)","v":"00:00:00"},{"$f":"IF($A125>0,VLOOKUP($A125,'Last Document Status-HOMA'!$C:$Y,MATCH(O$9,'Last Document Status-HOMA'!$1:$1,0)-2,0),0)","v":0},null,""]
[null,null,null,null,null,null,null,null,null,null,{"$f":"IF($A126>0,VLOOKUP($A126,'Last Document Status-HOMA'!$C:$Y,MATCH(K$9,'Last Document Status-HOMA'!$1:$1,0)-2,0),0)","v":0},{"$f":"IF($A126>0,VLOOKUP($A126,'Last Document Status-HOMA'!$C:$Y,MATCH(L$9,'Last Document Status-HOMA'!$1:$1,0)-2,0),0)","v":0},{"$f":"IF($A126>0,VLOOKUP($A126,'Last Document Status-HOMA'!$C:$Y,MATCH(M$9,'Last Document Status-HOMA'!$1:$1,0)-2,0),0)","v":"00:00:00"},{"$f":"IF($A126>0,VLOOKUP($A126,'Last Document Status-HOMA'!$C:$Y,MATCH(\"Outgoing Date\",'Last Document Status-HOMA'!$1:$1,0)-2,0),0)","v":"00:00:00"},{"$f":"IF($A126>0,VLOOKUP($A126,'Last Document Status-HOMA'!$C:$Y,MATCH(O$9,'Last Document Status-HOMA'!$1:$1,0)-2,0),0)","v":0},null,""]
[null,null,null,null,null,null,null,null,null,null,{"$f":"IF($A127>0,VLOOKUP($A127,'Last Document Status-HOMA'!$C:$Y,MATCH(K$9,'Last Document Status-HOMA'!$1:$1,0)-2,0),0)","v":0},{"$f":"IF($A127>0,VLOOKUP($A127,'Last Document Status-HOMA'!$C:$Y,MATCH(L$9,'Last Document Status-HOMA'!$1:$1,0)-2,0),0)","v":0},{"$f":"IF($A127>0,VLOOKUP($A127,'Last Document Status-HOMA'!$C:$Y,MATCH(M$9,'Last Document Status-HOMA'!$1:$1,0)-2,0),0)","v":"00:00:00"},{"$f":"IF($A127>0,VLOOKUP($A127,'Last Document Status-HOMA'!$C:$Y,MATCH(\"Outgoing Date\",'Last Document Status-HOMA'!$1:$1,0)-2,0),0)","v":"00:00:00"},{"$f":"IF($A127>0,VLOOKUP($A127,'Last Document Status-HOMA'!$C:$Y,MATCH(O$9,'Last Document Status-HOMA'!$1:$1,0)-2,0),0)","v":0},null,""]
[null,null,null,null,null,null,null,null,null,null,{"$f":"IF($A128>0,VLOOKUP($A128,'Last Document Status-HOMA'!$C:$Y,MATCH(K$9,'Last Document Status-HOMA'!$1:$1,0)-2,0),0)","v":0},{"$f":"IF($A128>0,VLOOKUP($A128,'Last Document Status-HOMA'!$C:$Y,MATCH(L$9,'Last Document Status-HOMA'!$1:$1,0)-2,0),0)","v":0},{"$f":"IF($A128>0,VLOOKUP($A128,'Last Document Status-HOMA'!$C:$Y,MATCH(M$9,'Last Document Status-HOMA'!$1:$1,0)-2,0),0)","v":"00:00:00"},{"$f":"IF($A128>0,VLOOKUP($A128,'Last Document Status-HOMA'!$C:$Y,MATCH(\"Outgoing Date\",'Last Document Status-HOMA'!$1:$1,0)-2,0),0)","v":"00:00:00"},{"$f":"IF($A128>0,VLOOKUP($A128,'Last Document Status-HOMA'!$C:$Y,MATCH(O$9,'Last Document Status-HOMA'!$1:$1,0)-2,0),0)","v":0}]
[null,null,null,null,null,null,null,null,null,null,{"$f":"IF($A129>0,VLOOKUP($A129,'Last Document Status-HOMA'!$C:$Y,MATCH(K$9,'Last Document Status-HOMA'!$1:$1,0)-2,0),0)","v":0},{"$f":"IF($A129>0,VLOOKUP($A129,'Last Document Status-HOMA'!$C:$Y,MATCH(L$9,'Last Document Status-HOMA'!$1:$1,0)-2,0),0)","v":0},{"$f":"IF($A129>0,VLOOKUP($A129,'Last Document Status-HOMA'!$C:$Y,MATCH(M$9,'Last Document Status-HOMA'!$1:$1,0)-2,0),0)","v":"00:00:00"},{"$f":"IF($A129>0,VLOOKUP($A129,'Last Document Status-HOMA'!$C:$Y,MATCH(\"Outgoing Date\",'Last Document Status-HOMA'!$1:$1,0)-2,0),0)","v":"00:00:00"},{"$f":"IF($A129>0,VLOOKUP($A129,'Last Document Status-HOMA'!$C:$Y,MATCH(O$9,'Last Document Status-HOMA'!$1:$1,0)-2,0),0)","v":0}]
[null,null,null,null,null,null,null,null,null,null,{"$f":"IF($A130>0,VLOOKUP($A130,'Last Document Status-HOMA'!$C:$Y,MATCH(K$9,'Last Document Status-HOMA'!$1:$1,0)-2,0),0)","v":0},{"$f":"IF($A130>0,VLOOKUP($A130,'Last Document Status-HOMA'!$C:$Y,MATCH(L$9,'Last Document Status-HOMA'!$1:$1,0)-2,0),0)","v":0},{"$f":"IF($A130>0,VLOOKUP($A130,'Last Document Status-HOMA'!$C:$Y,MATCH(M$9,'Last Document Status-HOMA'!$1:$1,0)-2,0),0)","v":"00:00:00"},{"$f":"IF($A130>0,VLOOKUP($A130,'Last Document Status-HOMA'!$C:$Y,MATCH(\"Outgoing Date\",'Last Document Status-HOMA'!$1:$1,0)-2,0),0)","v":"00:00:00"},{"$f":"IF($A130>0,VLOOKUP($A130,'Last Document Status-HOMA'!$C:$Y,MATCH(O$9,'Last Document Status-HOMA'!$1:$1,0)-2,0),0)","v":0}]
[null,null,null,null,null,null,null,null,null,null,{"$f":"IF($A131>0,VLOOKUP($A131,'Last Document Status-HOMA'!$C:$Y,MATCH(K$9,'Last Document Status-HOMA'!$1:$1,0)-2,0),0)","v":0},{"$f":"IF($A131>0,VLOOKUP($A131,'Last Document Status-HOMA'!$C:$Y,MATCH(L$9,'Last Document Status-HOMA'!$1:$1,0)-2,0),0)","v":0},{"$f":"IF($A131>0,VLOOKUP($A131,'Last Document Status-HOMA'!$C:$Y,MATCH(M$9,'Last Document Status-HOMA'!$1:$1,0)-2,0),0)","v":"00:00:00"},{"$f":"IF($A131>0,VLOOKUP($A131,'Last Document Status-HOMA'!$C:$Y,MATCH(\"Outgoing Date\",'Last Document Status-HOMA'!$1:$1,0)-2,0),0)","v":"00:00:00"},{"$f":"IF($A131>0,VLOOKUP($A131,'Last Document Status-HOMA'!$C:$Y,MATCH(O$9,'Last Document Status-HOMA'!$1:$1,0)-2,0),0)","v":0}]
[null,null,null,null,null,null,null,null,null,null,{"$f":"IF($A132>0,VLOOKUP($A132,'Last Document Status-HOMA'!$C:$Y,MATCH(K$9,'Last Document Status-HOMA'!$1:$1,0)-2,0),0)","v":0},{"$f":"IF($A132>0,VLOOKUP($A132,'Last Document Status-HOMA'!$C:$Y,MATCH(L$9,'Last Document Status-HOMA'!$1:$1,0)-2,0),0)","v":0},{"$f":"IF($A132>0,VLOOKUP($A132,'Last Document Status-HOMA'!$C:$Y,MATCH(M$9,'Last Document Status-HOMA'!$1:$1,0)-2,0),0)","v":"00:00:00"},{"$f":"IF($A132>0,VLOOKUP($A132,'Last Document Status-HOMA'!$C:$Y,MATCH(\"Outgoing Date\",'Last Document Status-HOMA'!$1:$1,0)-2,0),0)","v":"00:00:00"},{"$f":"IF($A132>0,VLOOKUP($A132,'Last Document Status-HOMA'!$C:$Y,MATCH(O$9,'Last Document Status-HOMA'!$1:$1,0)-2,0),0)","v":0}]
[null,null,null,null,null,null,null,null,null,null,{"$f":"IF($A133>0,VLOOKUP($A133,'Last Document Status-HOMA'!$C:$Y,MATCH(K$9,'Last Document Status-HOMA'!$1:$1,0)-2,0),0)","v":0},{"$f":"IF($A133>0,VLOOKUP($A133,'Last Document Status-HOMA'!$C:$Y,MATCH(L$9,'Last Document Status-HOMA'!$1:$1,0)-2,0),0)","v":0},{"$f":"IF($A133>0,VLOOKUP($A133,'Last Document Status-HOMA'!$C:$Y,MATCH(M$9,'Last Document Status-HOMA'!$1:$1,0)-2,0),0)","v":"00:00:00"},{"$f":"IF($A133>0,VLOOKUP($A133,'Last Document Status-HOMA'!$C:$Y,MATCH(\"Outgoing Date\",'Last Document Status-HOMA'!$1:$1,0)-2,0),0)","v":"00:00:00"},{"$f":"IF($A133>0,VLOOKUP($A133,'Last Document Status-HOMA'!$C:$Y,MATCH(O$9,'Last Document Status-HOMA'!$1:$1,0)-2,0),0)","v":0}]
[null,null,null,null,null,null,null,null,null,null,{"$f":"IF($A134>0,VLOOKUP($A134,'Last Document Status-HOMA'!$C:$Y,MATCH(K$9,'Last Document Status-HOMA'!$1:$1,0)-2,0),0)","v":0},{"$f":"IF($A134>0,VLOOKUP($A134,'Last Document Status-HOMA'!$C:$Y,MATCH(L$9,'Last Document Status-HOMA'!$1:$1,0)-2,0),0)","v":0},{"$f":"IF($A134>0,VLOOKUP($A134,'Last Document Status-HOMA'!$C:$Y,MATCH(M$9,'Last Document Status-HOMA'!$1:$1,0)-2,0),0)","v":"00:00:00"},{"$f":"IF($A134>0,VLOOKUP($A134,'Last Document Status-HOMA'!$C:$Y,MATCH(\"Outgoing Date\",'Last Document Status-HOMA'!$1:$1,0)-2,0),0)","v":"00:00:00"},{"$f":"IF($A134>0,VLOOKUP($A134,'Last Document Status-HOMA'!$C:$Y,MATCH(O$9,'Last Document Status-HOMA'!$1:$1,0)-2,0),0)","v":0}]
[null,null,null,null,null,null,null,null,null,null,{"$f":"IF($A135>0,VLOOKUP($A135,'Last Document Status-HOMA'!$C:$Y,MATCH(K$9,'Last Document Status-HOMA'!$1:$1,0)-2,0),0)","v":0},{"$f":"IF($A135>0,VLOOKUP($A135,'Last Document Status-HOMA'!$C:$Y,MATCH(L$9,'Last Document Status-HOMA'!$1:$1,0)-2,0),0)","v":0},{"$f":"IF($A135>0,VLOOKUP($A135,'Last Document Status-HOMA'!$C:$Y,MATCH(M$9,'Last Document Status-HOMA'!$1:$1,0)-2,0),0)","v":"00:00:00"},{"$f":"IF($A135>0,VLOOKUP($A135,'Last Document Status-HOMA'!$C:$Y,MATCH(\"Outgoing Date\",'Last Document Status-HOMA'!$1:$1,0)-2,0),0)","v":"00:00:00"},{"$f":"IF($A135>0,VLOOKUP($A135,'Last Document Status-HOMA'!$C:$Y,MATCH(O$9,'Last Document Status-HOMA'!$1:$1,0)-2,0),0)","v":0}]
[null,null,null,null,null,null,null,null,null,null,{"$f":"IF($A136>0,VLOOKUP($A136,'Last Document Status-HOMA'!$C:$Y,MATCH(K$9,'Last Document Status-HOMA'!$1:$1,0)-2,0),0)","v":0},{"$f":"IF($A136>0,VLOOKUP($A136,'Last Document Status-HOMA'!$C:$Y,MATCH(L$9,'Last Document Status-HOMA'!$1:$1,0)-2,0),0)","v":0},{"$f":"IF($A136>0,VLOOKUP($A136,'Last Document Status-HOMA'!$C:$Y,MATCH(M$9,'Last Document Status-HOMA'!$1:$1,0)-2,0),0)","v":"00:00:00"},{"$f":"IF($A136>0,VLOOKUP($A136,'Last Document Status-HOMA'!$C:$Y,MATCH(\"Outgoing Date\",'Last Document Status-HOMA'!$1:$1,0)-2,0),0)","v":"00:00:00"},{"$f":"IF($A136>0,VLOOKUP($A136,'Last Document Status-HOMA'!$C:$Y,MATCH(O$9,'Last Document Status-HOMA'!$1:$1,0)-2,0),0)","v":0}]
[null,null,null,null,null,null,null,null,null,null,{"$f":"IF($A137>0,VLOOKUP($A137,'Last Document Status-HOMA'!$C:$Y,MATCH(K$9,'Last Document Status-HOMA'!$1:$1,0)-2,0),0)","v":0},{"$f":"IF($A137>0,VLOOKUP($A137,'Last Document Status-HOMA'!$C:$Y,MATCH(L$9,'Last Document Status-HOMA'!$1:$1,0)-2,0),0)","v":0},{"$f":"IF($A137>0,VLOOKUP($A137,'Last Document Status-HOMA'!$C:$Y,MATCH(M$9,'Last Document Status-HOMA'!$1:$1,0)-2,0),0)","v":"00:00:00"},{"$f":"IF($A137>0,VLOOKUP($A137,'Last Document Status-HOMA'!$C:$Y,MATCH(\"Outgoing Date\",'Last Document Status-HOMA'!$1:$1,0)-2,0),0)","v":"00:00:00"},{"$f":"IF($A137>0,VLOOKUP($A137,'Last Document Status-HOMA'!$C:$Y,MATCH(O$9,'Last Document Status-HOMA'!$1:$1,0)-2,0),0)","v":0}]
[null,null,null,null,null,null,null,null,null,null,{"$f":"IF($A138>0,VLOOKUP($A138,'Last Document Status-HOMA'!$C:$Y,MATCH(K$9,'Last Document Status-HOMA'!$1:$1,0)-2,0),0)","v":0},{"$f":"IF($A138>0,VLOOKUP($A138,'Last Document Status-HOMA'!$C:$Y,MATCH(L$9,'Last Document Status-HOMA'!$1:$1,0)-2,0),0)","v":0},{"$f":"IF($A138>0,VLOOKUP($A138,'Last Document Status-HOMA'!$C:$Y,MATCH(M$9,'Last Document Status-HOMA'!$1:$1,0)-2,0),0)","v":"00:00:00"},{"$f":"IF($A138>0,VLOOKUP($A138,'Last Document Status-HOMA'!$C:$Y,MATCH(\"Outgoing Date\",'Last Document Status-HOMA'!$1:$1,0)-2,0),0)","v":"00:00:00"},{"$f":"IF($A138>0,VLOOKUP($A138,'Last Document Status-HOMA'!$C:$Y,MATCH(O$9,'Last Document Status-HOMA'!$1:$1,0)-2,0),0)","v":0}]
[null,null,null,null,null,null,null,null,null,null,{"$f":"IF($A139>0,VLOOKUP($A139,'Last Document Status-HOMA'!$C:$Y,MATCH(K$9,'Last Document Status-HOMA'!$1:$1,0)-2,0),0)","v":0},{"$f":"IF($A139>0,VLOOKUP($A139,'Last Document Status-HOMA'!$C:$Y,MATCH(L$9,'Last Document Status-HOMA'!$1:$1,0)-2,0),0)","v":0},{"$f":"IF($A139>0,VLOOKUP($A139,'Last Document Status-HOMA'!$C:$Y,MATCH(M$9,'Last Document Status-HOMA'!$1:$1,0)-2,0),0)","v":"00:00:00"},{"$f":"IF($A139>0,VLOOKUP($A139,'Last Document Status-HOMA'!$C:$Y,MATCH(\"Outgoing Date\",'Last Document Status-HOMA'!$1:$1,0)-2,0),0)","v":"00:00:00"},{"$f":"IF($A139>0,VLOOKUP($A139,'Last Document Status-HOMA'!$C:$Y,MATCH(O$9,'Last Document Status-HOMA'!$1:$1,0)-2,0),0)","v":0}]
[null,null,null,null,null,null,null,null,null,null,{"$f":"IF($A140>0,VLOOKUP($A140,'Last Document Status-HOMA'!$C:$Y,MATCH(K$9,'Last Document Status-HOMA'!$1:$1,0)-2,0),0)","v":0},{"$f":"IF($A140>0,VLOOKUP($A140,'Last Document Status-HOMA'!$C:$Y,MATCH(L$9,'Last Document Status-HOMA'!$1:$1,0)-2,0),0)","v":0},{"$f":"IF($A140>0,VLOOKUP($A140,'Last Document Status-HOMA'!$C:$Y,MATCH(M$9,'Last Document Status-HOMA'!$1:$1,0)-2,0),0)","v":"00:00:00"},{"$f":"IF($A140>0,VLOOKUP($A140,'Last Document Status-HOMA'!$C:$Y,MATCH(\"Outgoing Date\",'Last Document Status-HOMA'!$1:$1,0)-2,0),0)","v":"00:00:00"},{"$f":"IF($A140>0,VLOOKUP($A140,'Last Document Status-HOMA'!$C:$Y,MATCH(O$9,'Last Document Status-HOMA'!$1:$1,0)-2,0),0)","v":0}]
[null,null,null,null,null,null,null,null,null,null,{"$f":"IF($A141>0,VLOOKUP($A141,'Last Document Status-HOMA'!$C:$Y,MATCH(K$9,'Last Document Status-HOMA'!$1:$1,0)-2,0),0)","v":0},{"$f":"IF($A141>0,VLOOKUP($A141,'Last Document Status-HOMA'!$C:$Y,MATCH(L$9,'Last Document Status-HOMA'!$1:$1,0)-2,0),0)","v":0},{"$f":"IF($A141>0,VLOOKUP($A141,'Last Document Status-HOMA'!$C:$Y,MATCH(M$9,'Last Document Status-HOMA'!$1:$1,0)-2,0),0)","v":"00:00:00"},{"$f":"IF($A141>0,VLOOKUP($A141,'Last Document Status-HOMA'!$C:$Y,MATCH(\"Outgoing Date\",'Last Document Status-HOMA'!$1:$1,0)-2,0),0)","v":"00:00:00"},{"$f":"IF($A141>0,VLOOKUP($A141,'Last Document Status-HOMA'!$C:$Y,MATCH(O$9,'Last Document Status-HOMA'!$1:$1,0)-2,0),0)","v":0}]
[null,null,null,null,null,null,null,null,null,null,{"$f":"IF($A142>0,VLOOKUP($A142,'Last Document Status-HOMA'!$C:$Y,MATCH(K$9,'Last Document Status-HOMA'!$1:$1,0)-2,0),0)","v":0},{"$f":"IF($A142>0,VLOOKUP($A142,'Last Document Status-HOMA'!$C:$Y,MATCH(L$9,'Last Document Status-HOMA'!$1:$1,0)-2,0),0)","v":0},{"$f":"IF($A142>0,VLOOKUP($A142,'Last Document Status-HOMA'!$C:$Y,MATCH(M$9,'Last Document Status-HOMA'!$1:$1,0)-2,0),0)","v":"00:00:00"},{"$f":"IF($A142>0,VLOOKUP($A142,'Last Document Status-HOMA'!$C:$Y,MATCH(\"Outgoing Date\",'Last Document Status-HOMA'!$1:$1,0)-2,0),0)","v":"00:00:00"},{"$f":"IF($A142>0,VLOOKUP($A142,'Last Document Status-HOMA'!$C:$Y,MATCH(O$9,'Last Document Status-HOMA'!$1:$1,0)-2,0),0)","v":0}]
[null,null,null,null,null,null,null,null,null,null,{"$f":"IF($A143>0,VLOOKUP($A143,'Last Document Status-HOMA'!$C:$Y,MATCH(K$9,'Last Document Status-HOMA'!$1:$1,0)-2,0),0)","v":0},{"$f":"IF($A143>0,VLOOKUP($A143,'Last Document Status-HOMA'!$C:$Y,MATCH(L$9,'Last Document Status-HOMA'!$1:$1,0)-2,0),0)","v":0},{"$f":"IF($A143>0,VLOOKUP($A143,'Last Document Status-HOMA'!$C:$Y,MATCH(M$9,'Last Document Status-HOMA'!$1:$1,0)-2,0),0)","v":"00:00:00"},{"$f":"IF($A143>0,VLOOKUP($A143,'Last Document Status-HOMA'!$C:$Y,MATCH(\"Outgoing Date\",'Last Document Status-HOMA'!$1:$1,0)-2,0),0)","v":"00:00:00"},{"$f":"IF($A143>0,VLOOKUP($A143,'Last Document Status-HOMA'!$C:$Y,MATCH(O$9,'Last Document Status-HOMA'!$1:$1,0)-2,0),0)","v":0}]
[null,null,null,null,null,null,null,null,null,null,{"$f":"IF($A144>0,VLOOKUP($A144,'Last Document Status-HOMA'!$C:$Y,MATCH(K$9,'Last Document Status-HOMA'!$1:$1,0)-2,0),0)","v":0},{"$f":"IF($A144>0,VLOOKUP($A144,'Last Document Status-HOMA'!$C:$Y,MATCH(L$9,'Last Document Status-HOMA'!$1:$1,0)-2,0),0)","v":0},{"$f":"IF($A144>0,VLOOKUP($A144,'Last Document Status-HOMA'!$C:$Y,MATCH(M$9,'Last Document Status-HOMA'!$1:$1,0)-2,0),0)","v":"00:00:00"},{"$f":"IF($A144>0,VLOOKUP($A144,'Last Document Status-HOMA'!$C:$Y,MATCH(\"Outgoing Date\",'Last Document Status-HOMA'!$1:$1,0)-2,0),0)","v":"00:00:00"},{"$f":"IF($A144>0,VLOOKUP($A144,'Last Document Status-HOMA'!$C:$Y,MATCH(O$9,'Last Document Status-HOMA'!$1:$1,0)-2,0),0)","v":0}]
[null,null,null,null,null,null,null,null,null,null,{"$f":"IF($A145>0,VLOOKUP($A145,'Last Document Status-HOMA'!$C:$Y,MATCH(K$9,'Last Document Status-HOMA'!$1:$1,0)-2,0),0)","v":0},{"$f":"IF($A145>0,VLOOKUP($A145,'Last Document Status-HOMA'!$C:$Y,MATCH(L$9,'Last Document Status-HOMA'!$1:$1,0)-2,0),0)","v":0},{"$f":"IF($A145>0,VLOOKUP($A145,'Last Document Status-HOMA'!$C:$Y,MATCH(M$9,'Last Document Status-HOMA'!$1:$1,0)-2,0),0)","v":"00:00:00"},{"$f":"IF($A145>0,VLOOKUP($A145,'Last Document Status-HOMA'!$C:$Y,MATCH(\"Outgoing Date\",'Last Document Status-HOMA'!$1:$1,0)-2,0),0)","v":"00:00:00"},{"$f":"IF($A145>0,VLOOKUP($A145,'Last Document Status-HOMA'!$C:$Y,MATCH(O$9,'Last Document Status-HOMA'!$1:$1,0)-2,0),0)","v":0}]
[null,null,null,null,null,{"$f":"IFERROR((VLOOKUP(#REF!,'5-PMS'!$F$14:$N$192,6,FALSE)),\"\")","v":""},null,null,null,null,{"$f":"IF($A146>0,VLOOKUP($A146,'Last Document Status-HOMA'!$C:$Y,MATCH(K$9,'Last Document Status-HOMA'!$1:$1,0)-2,0),0)","v":0},{"$f":"IF($A146>0,VLOOKUP($A146,'Last Document Status-HOMA'!$C:$Y,MATCH(L$9,'Last Document Status-HOMA'!$1:$1,0)-2,0),0)","v":0},{"$f":"IF($A146>0,VLOOKUP($A146,'Last Document Status-HOMA'!$C:$Y,MATCH(M$9,'Last Document Status-HOMA'!$1:$1,0)-2,0),0)","v":"00:00:00"},{"$f":"IF($A146>0,VLOOKUP($A146,'Last Document Status-HOMA'!$C:$Y,MATCH(\"Outgoing Date\",'Last Document Status-HOMA'!$1:$1,0)-2,0),0)","v":"00:00:00"},{"$f":"IF($A146>0,VLOOKUP($A146,'Last Document Status-HOMA'!$C:$Y,MATCH(O$9,'Last Document Status-HOMA'!$1:$1,0)-2,0),0)","v":0}]
[null,null,null,null,null,{"$f":"IFERROR((VLOOKUP(#REF!,'5-PMS'!$F$14:$N$192,6,FALSE)),\"\")","v":""},null,null,null,null,{"$f":"IF($A147>0,VLOOKUP($A147,'Last Document Status-HOMA'!$C:$Y,MATCH(K$9,'Last Document Status-HOMA'!$1:$1,0)-2,0),0)","v":0},{"$f":"IF($A147>0,VLOOKUP($A147,'Last Document Status-HOMA'!$C:$Y,MATCH(L$9,'Last Document Status-HOMA'!$1:$1,0)-2,0),0)","v":0},{"$f":"IF($A147>0,VLOOKUP($A147,'Last Document Status-HOMA'!$C:$Y,MATCH(M$9,'Last Document Status-HOMA'!$1:$1,0)-2,0),0)","v":"00:00:00"},{"$f":"IF($A147>0,VLOOKUP($A147,'Last Document Status-HOMA'!$C:$Y,MATCH(\"Outgoing Date\",'Last Document Status-HOMA'!$1:$1,0)-2,0),0)","v":"00:00:00"},{"$f":"IF($A147>0,VLOOKUP($A147,'Last Document Status-HOMA'!$C:$Y,MATCH(O$9,'Last Document Status-HOMA'!$1:$1,0)-2,0),0)","v":0}]
[null,null,null,null,null,{"$f":"IFERROR((VLOOKUP(#REF!,'5-PMS'!$F$14:$N$192,6,FALSE)),\"\")","v":""},null,null,null,null,{"$f":"IF($A148>0,VLOOKUP($A148,'Last Document Status-HOMA'!$C:$Y,MATCH(K$9,'Last Document Status-HOMA'!$1:$1,0)-2,0),0)","v":0},{"$f":"IF($A148>0,VLOOKUP($A148,'Last Document Status-HOMA'!$C:$Y,MATCH(L$9,'Last Document Status-HOMA'!$1:$1,0)-2,0),0)","v":0},{"$f":"IF($A148>0,VLOOKUP($A148,'Last Document Status-HOMA'!$C:$Y,MATCH(M$9,'Last Document Status-HOMA'!$1:$1,0)-2,0),0)","v":"00:00:00"},{"$f":"IF($A148>0,VLOOKUP($A148,'Last Document Status-HOMA'!$C:$Y,MATCH(\"Outgoing Date\",'Last Document Status-HOMA'!$1:$1,0)-2,0),0)","v":"00:00:00"},{"$f":"IF($A148>0,VLOOKUP($A148,'Last Document Status-HOMA'!$C:$Y,MATCH(O$9,'Last Document Status-HOMA'!$1:$1,0)-2,0),0)","v":0}]
[null,null,null,null,null,{"$f":"IFERROR((VLOOKUP(#REF!,'5-PMS'!$F$14:$N$192,6,FALSE)),\"\")","v":""},null,null,null,null,{"$f":"IF($A149>0,VLOOKUP($A149,'Last Document Status-HOMA'!$C:$Y,MATCH(K$9,'Last Document Status-HOMA'!$1:$1,0)-2,0),0)","v":0},{"$f":"IF($A149>0,VLOOKUP($A149,'Last Document Status-HOMA'!$C:$Y,MATCH(L$9,'Last Document Status-HOMA'!$1:$1,0)-2,0),0)","v":0},{"$f":"IF($A149>0,VLOOKUP($A149,'Last Document Status-HOMA'!$C:$Y,MATCH(M$9,'Last Document Status-HOMA'!$1:$1,0)-2,0),0)","v":"00:00:00"},{"$f":"IF($A149>0,VLOOKUP($A149,'Last Document Status-HOMA'!$C:$Y,MATCH(\"Outgoing Date\",'Last Document Status-HOMA'!$1:$1,0)-2,0),0)","v":"00:00:00"},{"$f":"IF($A149>0,VLOOKUP($A149,'Last Document Status-HOMA'!$C:$Y,MATCH(O$9,'Last Document Status-HOMA'!$1:$1,0)-2,0),0)","v":0}]
[null,null,null,null,null,{"$f":"IFERROR((VLOOKUP(#REF!,'5-PMS'!$F$14:$N$192,6,FALSE)),\"\")","v":""},null,null,null,null,{"$f":"IF($A150>0,VLOOKUP($A150,'Last Document Status-HOMA'!$C:$Y,MATCH(K$9,'Last Document Status-HOMA'!$1:$1,0)-2,0),0)","v":0},{"$f":"IF($A150>0,VLOOKUP($A150,'Last Document Status-HOMA'!$C:$Y,MATCH(L$9,'Last Document Status-HOMA'!$1:$1,0)-2,0),0)","v":0},{"$f":"IF($A150>0,VLOOKUP($A150,'Last Document Status-HOMA'!$C:$Y,MATCH(M$9,'Last Document Status-HOMA'!$1:$1,0)-2,0),0)","v":"00:00:00"},{"$f":"IF($A150>0,VLOOKUP($A150,'Last Document Status-HOMA'!$C:$Y,MATCH(\"Outgoing Date\",'Last Document Status-HOMA'!$1:$1,0)-2,0),0)","v":"00:00:00"},{"$f":"IF($A150>0,VLOOKUP($A150,'Last Document Status-HOMA'!$C:$Y,MATCH(O$9,'Last Document Status-HOMA'!$1:$1,0)-2,0),0)","v":0}]
[null,null,null,null,null,{"$f":"IFERROR((VLOOKUP(#REF!,'5-PMS'!$F$14:$N$192,6,FALSE)),\"\")","v":""},null,null,null,null,{"$f":"IF($A151>0,VLOOKUP($A151,'Last Document Status-HOMA'!$C:$Y,MATCH(K$9,'Last Document Status-HOMA'!$1:$1,0)-2,0),0)","v":0},{"$f":"IF($A151>0,VLOOKUP($A151,'Last Document Status-HOMA'!$C:$Y,MATCH(L$9,'Last Document Status-HOMA'!$1:$1,0)-2,0),0)","v":0},{"$f":"IF($A151>0,VLOOKUP($A151,'Last Document Status-HOMA'!$C:$Y,MATCH(M$9,'Last Document Status-HOMA'!$1:$1,0)-2,0),0)","v":"00:00:00"},{"$f":"IF($A151>0,VLOOKUP($A151,'Last Document Status-HOMA'!$C:$Y,MATCH(\"Outgoing Date\",'Last Document Status-HOMA'!$1:$1,0)-2,0),0)","v":"00:00:00"},{"$f":"IF($A151>0,VLOOKUP($A151,'Last Document Status-HOMA'!$C:$Y,MATCH(O$9,'Last Document Status-HOMA'!$1:$1,0)-2,0),0)","v":0}]
[null,null,null,null,null,{"$f":"IFERROR((VLOOKUP(#REF!,'5-PMS'!$F$14:$N$192,6,FALSE)),\"\")","v":""},null,null,null,null,{"$f":"IF($A152>0,VLOOKUP($A152,'Last Document Status-HOMA'!$C:$Y,MATCH(K$9,'Last Document Status-HOMA'!$1:$1,0)-2,0),0)","v":0},{"$f":"IF($A152>0,VLOOKUP($A152,'Last Document Status-HOMA'!$C:$Y,MATCH(L$9,'Last Document Status-HOMA'!$1:$1,0)-2,0),0)","v":0},{"$f":"IF($A152>0,VLOOKUP($A152,'Last Document Status-HOMA'!$C:$Y,MATCH(M$9,'Last Document Status-HOMA'!$1:$1,0)-2,0),0)","v":"00:00:00"},{"$f":"IF($A152>0,VLOOKUP($A152,'Last Document Status-HOMA'!$C:$Y,MATCH(\"Outgoing Date\",'Last Document Status-HOMA'!$1:$1,0)-2,0),0)","v":"00:00:00"},{"$f":"IF($A152>0,VLOOKUP($A152,'Last Document Status-HOMA'!$C:$Y,MATCH(O$9,'Last Document Status-HOMA'!$1:$1,0)-2,0),0)","v":0}]
[null,null,null,null,null,{"$f":"IFERROR((VLOOKUP(#REF!,'5-PMS'!$F$14:$N$192,6,FALSE)),\"\")","v":""},null,null,null,null,{"$f":"IF($A153>0,VLOOKUP($A153,'Last Document Status-HOMA'!$C:$Y,MATCH(K$9,'Last Document Status-HOMA'!$1:$1,0)-2,0),0)","v":0},{"$f":"IF($A153>0,VLOOKUP($A153,'Last Document Status-HOMA'!$C:$Y,MATCH(L$9,'Last Document Status-HOMA'!$1:$1,0)-2,0),0)","v":0},{"$f":"IF($A153>0,VLOOKUP($A153,'Last Document Status-HOMA'!$C:$Y,MATCH(M$9,'Last Document Status-HOMA'!$1:$1,0)-2,0),0)","v":"00:00:00"},{"$f":"IF($A153>0,VLOOKUP($A153,'Last Document Status-HOMA'!$C:$Y,MATCH(\"Outgoing Date\",'Last Document Status-HOMA'!$1:$1,0)-2,0),0)","v":"00:00:00"},{"$f":"IF($A153>0,VLOOKUP($A153,'Last Document Status-HOMA'!$C:$Y,MATCH(O$9,'Last Document Status-HOMA'!$1:$1,0)-2,0),0)","v":0}]
[null,null,null,null,null,{"$f":"IFERROR((VLOOKUP(#REF!,'5-PMS'!$F$14:$N$192,6,FALSE)),\"\")","v":""},null,null,null,null,{"$f":"IF($A154>0,VLOOKUP($A154,'Last Document Status-HOMA'!$C:$Y,MATCH(K$9,'Last Document Status-HOMA'!$1:$1,0)-2,0),0)","v":0},{"$f":"IF($A154>0,VLOOKUP($A154,'Last Document Status-HOMA'!$C:$Y,MATCH(L$9,'Last Document Status-HOMA'!$1:$1,0)-2,0),0)","v":0},{"$f":"IF($A154>0,VLOOKUP($A154,'Last Document Status-HOMA'!$C:$Y,MATCH(M$9,'Last Document Status-HOMA'!$1:$1,0)-2,0),0)","v":"00:00:00"},{"$f":"IF($A154>0,VLOOKUP($A154,'Last Document Status-HOMA'!$C:$Y,MATCH(\"Outgoing Date\",'Last Document Status-HOMA'!$1:$1,0)-2,0),0)","v":"00:00:00"},{"$f":"IF($A154>0,VLOOKUP($A154,'Last Document Status-HOMA'!$C:$Y,MATCH(O$9,'Last Document Status-HOMA'!$1:$1,0)-2,0),0)","v":0}]
[null,null,null,null,null,{"$f":"IFERROR((VLOOKUP(#REF!,'5-PMS'!$F$14:$N$192,6,FALSE)),\"\")","v":""},null,null,null,null,{"$f":"IF($A155>0,VLOOKUP($A155,'Last Document Status-HOMA'!$C:$Y,MATCH(K$9,'Last Document Status-HOMA'!$1:$1,0)-2,0),0)","v":0},{"$f":"IF($A155>0,VLOOKUP($A155,'Last Document Status-HOMA'!$C:$Y,MATCH(L$9,'Last Document Status-HOMA'!$1:$1,0)-2,0),0)","v":0},{"$f":"IF($A155>0,VLOOKUP($A155,'Last Document Status-HOMA'!$C:$Y,MATCH(M$9,'Last Document Status-HOMA'!$1:$1,0)-2,0),0)","v":"00:00:00"},{"$f":"IF($A155>0,VLOOKUP($A155,'Last Document Status-HOMA'!$C:$Y,MATCH(\"Outgoing Date\",'Last Document Status-HOMA'!$1:$1,0)-2,0),0)","v":"00:00:00"},{"$f":"IF($A155>0,VLOOKUP($A155,'Last Document Status-HOMA'!$C:$Y,MATCH(O$9,'Last Document Status-HOMA'!$1:$1,0)-2,0),0)","v":0}]
[null,null,null,null,null,{"$f":"IFERROR((VLOOKUP(#REF!,'5-PMS'!$F$14:$N$192,6,FALSE)),\"\")","v":""},null,null,null,null,{"$f":"IF($A156>0,VLOOKUP($A156,'Last Document Status-HOMA'!$C:$Y,MATCH(K$9,'Last Document Status-HOMA'!$1:$1,0)-2,0),0)","v":0},{"$f":"IF($A156>0,VLOOKUP($A156,'Last Document Status-HOMA'!$C:$Y,MATCH(L$9,'Last Document Status-HOMA'!$1:$1,0)-2,0),0)","v":0},{"$f":"IF($A156>0,VLOOKUP($A156,'Last Document Status-HOMA'!$C:$Y,MATCH(M$9,'Last Document Status-HOMA'!$1:$1,0)-2,0),0)","v":"00:00:00"},{"$f":"IF($A156>0,VLOOKUP($A156,'Last Document Status-HOMA'!$C:$Y,MATCH(\"Outgoing Date\",'Last Document Status-HOMA'!$1:$1,0)-2,0),0)","v":"00:00:00"},{"$f":"IF($A156>0,VLOOKUP($A156,'Last Document Status-HOMA'!$C:$Y,MATCH(O$9,'Last Document Status-HOMA'!$1:$1,0)-2,0),0)","v":0}]
[null,null,null,null,null,{"$f":"IFERROR((VLOOKUP(#REF!,'5-PMS'!$F$14:$N$192,6,FALSE)),\"\")","v":""},null,null,null,null,{"$f":"IF($A157>0,VLOOKUP($A157,'Last Document Status-HOMA'!$C:$Y,MATCH(K$9,'Last Document Status-HOMA'!$1:$1,0)-2,0),0)","v":0},{"$f":"IF($A157>0,VLOOKUP($A157,'Last Document Status-HOMA'!$C:$Y,MATCH(L$9,'Last Document Status-HOMA'!$1:$1,0)-2,0),0)","v":0},{"$f":"IF($A157>0,VLOOKUP($A157,'Last Document Status-HOMA'!$C:$Y,MATCH(M$9,'Last Document Status-HOMA'!$1:$1,0)-2,0),0)","v":"00:00:00"},{"$f":"IF($A157>0,VLOOKUP($A157,'Last Document Status-HOMA'!$C:$Y,MATCH(\"Outgoing Date\",'Last Document Status-HOMA'!$1:$1,0)-2,0),0)","v":"00:00:00"},{"$f":"IF($A157>0,VLOOKUP($A157,'Last Document Status-HOMA'!$C:$Y,MATCH(O$9,'Last Document Status-HOMA'!$1:$1,0)-2,0),0)","v":0}]
[null,null,null,null,null,{"$f":"IFERROR((VLOOKUP(#REF!,'5-PMS'!$F$14:$N$192,6,FALSE)),\"\")","v":""},null,null,null,null,{"$f":"IF($A158>0,VLOOKUP($A158,'Last Document Status-HOMA'!$C:$Y,MATCH(K$9,'Last Document Status-HOMA'!$1:$1,0)-2,0),0)","v":0},{"$f":"IF($A158>0,VLOOKUP($A158,'Last Document Status-HOMA'!$C:$Y,MATCH(L$9,'Last Document Status-HOMA'!$1:$1,0)-2,0),0)","v":0},{"$f":"IF($A158>0,VLOOKUP($A158,'Last Document Status-HOMA'!$C:$Y,MATCH(M$9,'Last Document Status-HOMA'!$1:$1,0)-2,0),0)","v":"00:00:00"},{"$f":"IF($A158>0,VLOOKUP($A158,'Last Document Status-HOMA'!$C:$Y,MATCH(\"Outgoing Date\",'Last Document Status-HOMA'!$1:$1,0)-2,0),0)","v":"00:00:00"},{"$f":"IF($A158>0,VLOOKUP($A158,'Last Document Status-HOMA'!$C:$Y,MATCH(O$9,'Last Document Status-HOMA'!$1:$1,0)-2,0),0)","v":0}]
[null,null,null,null,null,{"$f":"IFERROR((VLOOKUP(#REF!,'5-PMS'!$F$14:$N$192,6,FALSE)),\"\")","v":""},null,null,null,null,{"$f":"IF($A159>0,VLOOKUP($A159,'Last Document Status-HOMA'!$C:$Y,MATCH(K$9,'Last Document Status-HOMA'!$1:$1,0)-2,0),0)","v":0},{"$f":"IF($A159>0,VLOOKUP($A159,'Last Document Status-HOMA'!$C:$Y,MATCH(L$9,'Last Document Status-HOMA'!$1:$1,0)-2,0),0)","v":0},{"$f":"IF($A159>0,VLOOKUP($A159,'Last Document Status-HOMA'!$C:$Y,MATCH(M$9,'Last Document Status-HOMA'!$1:$1,0)-2,0),0)","v":"00:00:00"},{"$f":"IF($A159>0,VLOOKUP($A159,'Last Document Status-HOMA'!$C:$Y,MATCH(\"Outgoing Date\",'Last Document Status-HOMA'!$1:$1,0)-2,0),0)","v":"00:00:00"},{"$f":"IF($A159>0,VLOOKUP($A159,'Last Document Status-HOMA'!$C:$Y,MATCH(O$9,'Last Document Status-HOMA'!$1:$1,0)-2,0),0)","v":0}]
[null,null,null,null,null,{"$f":"IFERROR((VLOOKUP(#REF!,'5-PMS'!$F$14:$N$192,6,FALSE)),\"\")","v":""},null,null,null,null,{"$f":"IF($A160>0,VLOOKUP($A160,'Last Document Status-HOMA'!$C:$Y,MATCH(K$9,'Last Document Status-HOMA'!$1:$1,0)-2,0),0)","v":0},{"$f":"IF($A160>0,VLOOKUP($A160,'Last Document Status-HOMA'!$C:$Y,MATCH(L$9,'Last Document Status-HOMA'!$1:$1,0)-2,0),0)","v":0},{"$f":"IF($A160>0,VLOOKUP($A160,'Last Document Status-HOMA'!$C:$Y,MATCH(M$9,'Last Document Status-HOMA'!$1:$1,0)-2,0),0)","v":"00:00:00"},{"$f":"IF($A160>0,VLOOKUP($A160,'Last Document Status-HOMA'!$C:$Y,MATCH(\"Outgoing Date\",'Last Document Status-HOMA'!$1:$1,0)-2,0),0)","v":"00:00:00"},{"$f":"IF($A160>0,VLOOKUP($A160,'Last Document Status-HOMA'!$C:$Y,MATCH(O$9,'Last Document Status-HOMA'!$1:$1,0)-2,0),0)","v":0}]
[null,null,null,null,null,{"$f":"IFERROR((VLOOKUP(#REF!,'5-PMS'!$F$14:$N$192,6,FALSE)),\"\")","v":""},null,null,null,null,{"$f":"IF($A161>0,VLOOKUP($A161,'Last Document Status-HOMA'!$C:$Y,MATCH(K$9,'Last Document Status-HOMA'!$1:$1,0)-2,0),0)","v":0},{"$f":"IF($A161>0,VLOOKUP($A161,'Last Document Status-HOMA'!$C:$Y,MATCH(L$9,'Last Document Status-HOMA'!$1:$1,0)-2,0),0)","v":0},{"$f":"IF($A161>0,VLOOKUP($A161,'Last Document Status-HOMA'!$C:$Y,MATCH(M$9,'Last Document Status-HOMA'!$1:$1,0)-2,0),0)","v":"00:00:00"},{"$f":"IF($A161>0,VLOOKUP($A161,'Last Document Status-HOMA'!$C:$Y,MATCH(\"Outgoing Date\",'Last Document Status-HOMA'!$1:$1,0)-2,0),0)","v":"00:00:00"},{"$f":"IF($A161>0,VLOOKUP($A161,'Last Document Status-HOMA'!$C:$Y,MATCH(O$9,'Last Document Status-HOMA'!$1:$1,0)-2,0),0)","v":0}]
[null,null,null,null,null,{"$f":"IFERROR((VLOOKUP(#REF!,'5-PMS'!$F$14:$N$192,6,FALSE)),\"\")","v":""},null,null,null,null,{"$f":"IF($A162>0,VLOOKUP($A162,'Last Document Status-HOMA'!$C:$Y,MATCH(K$9,'Last Document Status-HOMA'!$1:$1,0)-2,0),0)","v":0},{"$f":"IF($A162>0,VLOOKUP($A162,'Last Document Status-HOMA'!$C:$Y,MATCH(L$9,'Last Document Status-HOMA'!$1:$1,0)-2,0),0)","v":0},{"$f":"IF($A162>0,VLOOKUP($A162,'Last Document Status-HOMA'!$C:$Y,MATCH(M$9,'Last Document Status-HOMA'!$1:$1,0)-2,0),0)","v":"00:00:00"},{"$f":"IF($A162>0,VLOOKUP($A162,'Last Document Status-HOMA'!$C:$Y,MATCH(\"Outgoing Date\",'Last Document Status-HOMA'!$1:$1,0)-2,0),0)","v":"00:00:00"},{"$f":"IF($A162>0,VLOOKUP($A162,'Last Document Status-HOMA'!$C:$Y,MATCH(O$9,'Last Document Status-HOMA'!$1:$1,0)-2,0),0)","v":0}]
[null,null,null,null,null,{"$f":"IFERROR((VLOOKUP(#REF!,'5-PMS'!$F$14:$N$192,6,FALSE)),\"\")","v":""},null,null,null,null,{"$f":"IF($A163>0,VLOOKUP($A163,'Last Document Status-HOMA'!$C:$Y,MATCH(K$9,'Last Document Status-HOMA'!$1:$1,0)-2,0),0)","v":0},{"$f":"IF($A163>0,VLOOKUP($A163,'Last Document Status-HOMA'!$C:$Y,MATCH(L$9,'Last Document Status-HOMA'!$1:$1,0)-2,0),0)","v":0},{"$f":"IF($A163>0,VLOOKUP($A163,'Last Document Status-HOMA'!$C:$Y,MATCH(M$9,'Last Document Status-HOMA'!$1:$1,0)-2,0),0)","v":"00:00:00"},{"$f":"IF($A163>0,VLOOKUP($A163,'Last Document Status-HOMA'!$C:$Y,MATCH(\"Outgoing Date\",'Last Document Status-HOMA'!$1:$1,0)-2,0),0)","v":"00:00:00"},{"$f":"IF($A163>0,VLOOKUP($A163,'Last Document Status-HOMA'!$C:$Y,MATCH(O$9,'Last Document Status-HOMA'!$1:$1,0)-2,0),0)","v":0}]
[null,null,null,null,null,{"$f":"IFERROR((VLOOKUP(#REF!,'5-PMS'!$F$14:$N$192,6,FALSE)),\"\")","v":""},null,null,null,null,{"$f":"IF($A164>0,VLOOKUP($A164,'Last Document Status-HOMA'!$C:$Y,MATCH(K$9,'Last Document Status-HOMA'!$1:$1,0)-2,0),0)","v":0},{"$f":"IF($A164>0,VLOOKUP($A164,'Last Document Status-HOMA'!$C:$Y,MATCH(L$9,'Last Document Status-HOMA'!$1:$1,0)-2,0),0)","v":0},{"$f":"IF($A164>0,VLOOKUP($A164,'Last Document Status-HOMA'!$C:$Y,MATCH(M$9,'Last Document Status-HOMA'!$1:$1,0)-2,0),0)","v":"00:00:00"},{"$f":"IF($A164>0,VLOOKUP($A164,'Last Document Status-HOMA'!$C:$Y,MATCH(\"Outgoing Date\",'Last Document Status-HOMA'!$1:$1,0)-2,0),0)","v":"00:00:00"},{"$f":"IF($A164>0,VLOOKUP($A164,'Last Document Status-HOMA'!$C:$Y,MATCH(O$9,'Last Document Status-HOMA'!$1:$1,0)-2,0),0)","v":0}]
[null,null,null,null,null,{"$f":"IFERROR((VLOOKUP(#REF!,'5-PMS'!$F$14:$N$192,6,FALSE)),\"\")","v":""},null,null,null,null,{"$f":"IF($A165>0,VLOOKUP($A165,'Last Document Status-HOMA'!$C:$Y,MATCH(K$9,'Last Document Status-HOMA'!$1:$1,0)-2,0),0)","v":0},{"$f":"IF($A165>0,VLOOKUP($A165,'Last Document Status-HOMA'!$C:$Y,MATCH(L$9,'Last Document Status-HOMA'!$1:$1,0)-2,0),0)","v":0},{"$f":"IF($A165>0,VLOOKUP($A165,'Last Document Status-HOMA'!$C:$Y,MATCH(M$9,'Last Document Status-HOMA'!$1:$1,0)-2,0),0)","v":"00:00:00"},{"$f":"IF($A165>0,VLOOKUP($A165,'Last Document Status-HOMA'!$C:$Y,MATCH(\"Outgoing Date\",'Last Document Status-HOMA'!$1:$1,0)-2,0),0)","v":"00:00:00"},{"$f":"IF($A165>0,VLOOKUP($A165,'Last Document Status-HOMA'!$C:$Y,MATCH(O$9,'Last Document Status-HOMA'!$1:$1,0)-2,0),0)","v":0}]
[null,null,null,null,null,{"$f":"IFERROR((VLOOKUP(#REF!,'5-PMS'!$F$14:$N$192,6,FALSE)),\"\")","v":""},null,null,null,null,{"$f":"IF($A166>0,VLOOKUP($A166,'Last Document Status-HOMA'!$C:$Y,MATCH(K$9,'Last Document Status-HOMA'!$1:$1,0)-2,0),0)","v":0},{"$f":"IF($A166>0,VLOOKUP($A166,'Last Document Status-HOMA'!$C:$Y,MATCH(L$9,'Last Document Status-HOMA'!$1:$1,0)-2,0),0)","v":0},{"$f":"IF($A166>0,VLOOKUP($A166,'Last Document Status-HOMA'!$C:$Y,MATCH(M$9,'Last Document Status-HOMA'!$1:$1,0)-2,0),0)","v":"00:00:00"},{"$f":"IF($A166>0,VLOOKUP($A166,'Last Document Status-HOMA'!$C:$Y,MATCH(\"Outgoing Date\",'Last Document Status-HOMA'!$1:$1,0)-2,0),0)","v":"00:00:00"},{"$f":"IF($A166>0,VLOOKUP($A166,'Last Document Status-HOMA'!$C:$Y,MATCH(O$9,'Last Document Status-HOMA'!$1:$1,0)-2,0),0)","v":0}]
[null,null,null,null,null,{"$f":"IFERROR((VLOOKUP(#REF!,'5-PMS'!$F$14:$N$192,6,FALSE)),\"\")","v":""},null,null,null,null,{"$f":"IF($A167>0,VLOOKUP($A167,'Last Document Status-HOMA'!$C:$Y,MATCH(K$9,'Last Document Status-HOMA'!$1:$1,0)-2,0),0)","v":0},{"$f":"IF($A167>0,VLOOKUP($A167,'Last Document Status-HOMA'!$C:$Y,MATCH(L$9,'Last Document Status-HOMA'!$1:$1,0)-2,0),0)","v":0},{"$f":"IF($A167>0,VLOOKUP($A167,'Last Document Status-HOMA'!$C:$Y,MATCH(M$9,'Last Document Status-HOMA'!$1:$1,0)-2,0),0)","v":"00:00:00"},{"$f":"IF($A167>0,VLOOKUP($A167,'Last Document Status-HOMA'!$C:$Y,MATCH(\"Outgoing Date\",'Last Document Status-HOMA'!$1:$1,0)-2,0),0)","v":"00:00:00"},{"$f":"IF($A167>0,VLOOKUP($A167,'Last Document Status-HOMA'!$C:$Y,MATCH(O$9,'Last Document Status-HOMA'!$1:$1,0)-2,0),0)","v":0}]
[null,null,null,null,null,{"$f":"IFERROR((VLOOKUP(#REF!,'5-PMS'!$F$14:$N$192,6,FALSE)),\"\")","v":""},null,null,null,null,{"$f":"IF($A168>0,VLOOKUP($A168,'Last Document Status-HOMA'!$C:$Y,MATCH(K$9,'Last Document Status-HOMA'!$1:$1,0)-2,0),0)","v":0},{"$f":"IF($A168>0,VLOOKUP($A168,'Last Document Status-HOMA'!$C:$Y,MATCH(L$9,'Last Document Status-HOMA'!$1:$1,0)-2,0),0)","v":0},{"$f":"IF($A168>0,VLOOKUP($A168,'Last Document Status-HOMA'!$C:$Y,MATCH(M$9,'Last Document Status-HOMA'!$1:$1,0)-2,0),0)","v":"00:00:00"},{"$f":"IF($A168>0,VLOOKUP($A168,'Last Document Status-HOMA'!$C:$Y,MATCH(\"Outgoing Date\",'Last Document Status-HOMA'!$1:$1,0)-2,0),0)","v":"00:00:00"},{"$f":"IF($A168>0,VLOOKUP($A168,'Last Document Status-HOMA'!$C:$Y,MATCH(O$9,'Last Document Status-HOMA'!$1:$1,0)-2,0),0)","v":0}]
[null,null,null,null,null,{"$f":"IFERROR((VLOOKUP(#REF!,'5-PMS'!$F$14:$N$192,6,FALSE)),\"\")","v":""},null,null,null,null,{"$f":"IF($A169>0,VLOOKUP($A169,'Last Document Status-HOMA'!$C:$Y,MATCH(K$9,'Last Document Status-HOMA'!$1:$1,0)-2,0),0)","v":0},{"$f":"IF($A169>0,VLOOKUP($A169,'Last Document Status-HOMA'!$C:$Y,MATCH(L$9,'Last Document Status-HOMA'!$1:$1,0)-2,0),0)","v":0},{"$f":"IF($A169>0,VLOOKUP($A169,'Last Document Status-HOMA'!$C:$Y,MATCH(M$9,'Last Document Status-HOMA'!$1:$1,0)-2,0),0)","v":"00:00:00"},{"$f":"IF($A169>0,VLOOKUP($A169,'Last Document Status-HOMA'!$C:$Y,MATCH(\"Outgoing Date\",'Last Document Status-HOMA'!$1:$1,0)-2,0),0)","v":"00:00:00"},{"$f":"IF($A169>0,VLOOKUP($A169,'Last Document Status-HOMA'!$C:$Y,MATCH(O$9,'Last Document Status-HOMA'!$1:$1,0)-2,0),0)","v":0}]
[null,null,null,null,null,{"$f":"IFERROR((VLOOKUP(#REF!,'5-PMS'!$F$14:$N$192,6,FALSE)),\"\")","v":""},null,null,null,null,{"$f":"IF($A170>0,VLOOKUP($A170,'Last Document Status-HOMA'!$C:$Y,MATCH(K$9,'Last Document Status-HOMA'!$1:$1,0)-2,0),0)","v":0},{"$f":"IF($A170>0,VLOOKUP($A170,'Last Document Status-HOMA'!$C:$Y,MATCH(L$9,'Last Document Status-HOMA'!$1:$1,0)-2,0),0)","v":0},{"$f":"IF($A170>0,VLOOKUP($A170,'Last Document Status-HOMA'!$C:$Y,MATCH(M$9,'Last Document Status-HOMA'!$1:$1,0)-2,0),0)","v":"00:00:00"},{"$f":"IF($A170>0,VLOOKUP($A170,'Last Document Status-HOMA'!$C:$Y,MATCH(\"Outgoing Date\",'Last Document Status-HOMA'!$1:$1,0)-2,0),0)","v":"00:00:00"},{"$f":"IF($A170>0,VLOOKUP($A170,'Last Document Status-HOMA'!$C:$Y,MATCH(O$9,'Last Document Status-HOMA'!$1:$1,0)-2,0),0)","v":0}]
[null,null,null,null,null,{"$f":"IFERROR((VLOOKUP(#REF!,'5-PMS'!$F$14:$N$192,6,FALSE)),\"\")","v":""},null,null,null,null,{"$f":"IF($A171>0,VLOOKUP($A171,'Last Document Status-HOMA'!$C:$Y,MATCH(K$9,'Last Document Status-HOMA'!$1:$1,0)-2,0),0)","v":0},{"$f":"IF($A171>0,VLOOKUP($A171,'Last Document Status-HOMA'!$C:$Y,MATCH(L$9,'Last Document Status-HOMA'!$1:$1,0)-2,0),0)","v":0},{"$f":"IF($A171>0,VLOOKUP($A171,'Last Document Status-HOMA'!$C:$Y,MATCH(M$9,'Last Document Status-HOMA'!$1:$1,0)-2,0),0)","v":"00:00:00"},{"$f":"IF($A171>0,VLOOKUP($A171,'Last Document Status-HOMA'!$C:$Y,MATCH(\"Outgoing Date\",'Last Document Status-HOMA'!$1:$1,0)-2,0),0)","v":"00:00:00"},{"$f":"IF($A171>0,VLOOKUP($A171,'Last Document Status-HOMA'!$C:$Y,MATCH(O$9,'Last Document Status-HOMA'!$1:$1,0)-2,0),0)","v":0}]
[null,null,null,null,null,{"$f":"IFERROR((VLOOKUP(#REF!,'5-PMS'!$F$14:$N$192,6,FALSE)),\"\")","v":""},null,null,null,null,{"$f":"IF($A172>0,VLOOKUP($A172,'Last Document Status-HOMA'!$C:$Y,MATCH(K$9,'Last Document Status-HOMA'!$1:$1,0)-2,0),0)","v":0},{"$f":"IF($A172>0,VLOOKUP($A172,'Last Document Status-HOMA'!$C:$Y,MATCH(L$9,'Last Document Status-HOMA'!$1:$1,0)-2,0),0)","v":0},{"$f":"IF($A172>0,VLOOKUP($A172,'Last Document Status-HOMA'!$C:$Y,MATCH(M$9,'Last Document Status-HOMA'!$1:$1,0)-2,0),0)","v":"00:00:00"},{"$f":"IF($A172>0,VLOOKUP($A172,'Last Document Status-HOMA'!$C:$Y,MATCH(\"Outgoing Date\",'Last Document Status-HOMA'!$1:$1,0)-2,0),0)","v":"00:00:00"},{"$f":"IF($A172>0,VLOOKUP($A172,'Last Document Status-HOMA'!$C:$Y,MATCH(O$9,'Last Document Status-HOMA'!$1:$1,0)-2,0),0)","v":0}]
[null,null,null,null,null,{"$f":"IFERROR((VLOOKUP(#REF!,'5-PMS'!$F$14:$N$192,6,FALSE)),\"\")","v":""},null,null,null,null,{"$f":"IF($A173>0,VLOOKUP($A173,'Last Document Status-HOMA'!$C:$Y,MATCH(K$9,'Last Document Status-HOMA'!$1:$1,0)-2,0),0)","v":0},{"$f":"IF($A173>0,VLOOKUP($A173,'Last Document Status-HOMA'!$C:$Y,MATCH(L$9,'Last Document Status-HOMA'!$1:$1,0)-2,0),0)","v":0},{"$f":"IF($A173>0,VLOOKUP($A173,'Last Document Status-HOMA'!$C:$Y,MATCH(M$9,'Last Document Status-HOMA'!$1:$1,0)-2,0),0)","v":"00:00:00"},{"$f":"IF($A173>0,VLOOKUP($A173,'Last Document Status-HOMA'!$C:$Y,MATCH(\"Outgoing Date\",'Last Document Status-HOMA'!$1:$1,0)-2,0),0)","v":"00:00:00"},{"$f":"IF($A173>0,VLOOKUP($A173,'Last Document Status-HOMA'!$C:$Y,MATCH(O$9,'Last Document Status-HOMA'!$1:$1,0)-2,0),0)","v":0}]
[null,null,null,null,null,{"$f":"IFERROR((VLOOKUP(#REF!,'5-PMS'!$F$14:$N$192,6,FALSE)),\"\")","v":""},null,null,null,null,{"$f":"IF($A174>0,VLOOKUP($A174,'Last Document Status-HOMA'!$C:$Y,MATCH(K$9,'Last Document Status-HOMA'!$1:$1,0)-2,0),0)","v":0},{"$f":"IF($A174>0,VLOOKUP($A174,'Last Document Status-HOMA'!$C:$Y,MATCH(L$9,'Last Document Status-HOMA'!$1:$1,0)-2,0),0)","v":0},{"$f":"IF($A174>0,VLOOKUP($A174,'Last Document Status-HOMA'!$C:$Y,MATCH(M$9,'Last Document Status-HOMA'!$1:$1,0)-2,0),0)","v":"00:00:00"},{"$f":"IF($A174>0,VLOOKUP($A174,'Last Document Status-HOMA'!$C:$Y,MATCH(\"Outgoing Date\",'Last Document Status-HOMA'!$1:$1,0)-2,0),0)","v":"00:00:00"},{"$f":"IF($A174>0,VLOOKUP($A174,'Last Document Status-HOMA'!$C:$Y,MATCH(O$9,'Last Document Status-HOMA'!$1:$1,0)-2,0),0)","v":0}]
[null,null,null,null,null,{"$f":"IFERROR((VLOOKUP(#REF!,'5-PMS'!$F$14:$N$192,6,FALSE)),\"\")","v":""},null,null,null,null,{"$f":"IF($A175>0,VLOOKUP($A175,'Last Document Status-HOMA'!$C:$Y,MATCH(K$9,'Last Document Status-HOMA'!$1:$1,0)-2,0),0)","v":0},{"$f":"IF($A175>0,VLOOKUP($A175,'Last Document Status-HOMA'!$C:$Y,MATCH(L$9,'Last Document Status-HOMA'!$1:$1,0)-2,0),0)","v":0},{"$f":"IF($A175>0,VLOOKUP($A175,'Last Document Status-HOMA'!$C:$Y,MATCH(M$9,'Last Document Status-HOMA'!$1:$1,0)-2,0),0)","v":"00:00:00"},{"$f":"IF($A175>0,VLOOKUP($A175,'Last Document Status-HOMA'!$C:$Y,MATCH(\"Outgoing Date\",'Last Document Status-HOMA'!$1:$1,0)-2,0),0)","v":"00:00:00"},{"$f":"IF($A175>0,VLOOKUP($A175,'Last Document Status-HOMA'!$C:$Y,MATCH(O$9,'Last Document Status-HOMA'!$1:$1,0)-2,0),0)","v":0}]
[null,null,null,null,null,{"$f":"IFERROR((VLOOKUP(#REF!,'5-PMS'!$F$14:$N$192,6,FALSE)),\"\")","v":""},null,null,null,null,{"$f":"IF($A176>0,VLOOKUP($A176,'Last Document Status-HOMA'!$C:$Y,MATCH(K$9,'Last Document Status-HOMA'!$1:$1,0)-2,0),0)","v":0},{"$f":"IF($A176>0,VLOOKUP($A176,'Last Document Status-HOMA'!$C:$Y,MATCH(L$9,'Last Document Status-HOMA'!$1:$1,0)-2,0),0)","v":0},{"$f":"IF($A176>0,VLOOKUP($A176,'Last Document Status-HOMA'!$C:$Y,MATCH(M$9,'Last Document Status-HOMA'!$1:$1,0)-2,0),0)","v":"00:00:00"},{"$f":"IF($A176>0,VLOOKUP($A176,'Last Document Status-HOMA'!$C:$Y,MATCH(\"Outgoing Date\",'Last Document Status-HOMA'!$1:$1,0)-2,0),0)","v":"00:00:00"},{"$f":"IF($A176>0,VLOOKUP($A176,'Last Document Status-HOMA'!$C:$Y,MATCH(O$9,'Last Document Status-HOMA'!$1:$1,0)-2,0),0)","v":0}]
[null,null,null,null,null,{"$f":"IFERROR((VLOOKUP(#REF!,'5-PMS'!$F$14:$N$192,6,FALSE)),\"\")","v":""},null,null,null,null,{"$f":"IF($A177>0,VLOOKUP($A177,'Last Document Status-HOMA'!$C:$Y,MATCH(K$9,'Last Document Status-HOMA'!$1:$1,0)-2,0),0)","v":0},{"$f":"IF($A177>0,VLOOKUP($A177,'Last Document Status-HOMA'!$C:$Y,MATCH(L$9,'Last Document Status-HOMA'!$1:$1,0)-2,0),0)","v":0},{"$f":"IF($A177>0,VLOOKUP($A177,'Last Document Status-HOMA'!$C:$Y,MATCH(M$9,'Last Document Status-HOMA'!$1:$1,0)-2,0),0)","v":"00:00:00"},{"$f":"IF($A177>0,VLOOKUP($A177,'Last Document Status-HOMA'!$C:$Y,MATCH(\"Outgoing Date\",'Last Document Status-HOMA'!$1:$1,0)-2,0),0)","v":"00:00:00"},{"$f":"IF($A177>0,VLOOKUP($A177,'Last Document Status-HOMA'!$C:$Y,MATCH(O$9,'Last Document Status-HOMA'!$1:$1,0)-2,0),0)","v":0}]
[null,null,null,null,null,{"$f":"IFERROR((VLOOKUP(#REF!,'5-PMS'!$F$14:$N$192,6,FALSE)),\"\")","v":""},null,null,null,null,{"$f":"IF($A178>0,VLOOKUP($A178,'Last Document Status-HOMA'!$C:$Y,MATCH(K$9,'Last Document Status-HOMA'!$1:$1,0)-2,0),0)","v":0},{"$f":"IF($A178>0,VLOOKUP($A178,'Last Document Status-HOMA'!$C:$Y,MATCH(L$9,'Last Document Status-HOMA'!$1:$1,0)-2,0),0)","v":0},{"$f":"IF($A178>0,VLOOKUP($A178,'Last Document Status-HOMA'!$C:$Y,MATCH(M$9,'Last Document Status-HOMA'!$1:$1,0)-2,0),0)","v":"00:00:00"},{"$f":"IF($A178>0,VLOOKUP($A178,'Last Document Status-HOMA'!$C:$Y,MATCH(\"Outgoing Date\",'Last Document Status-HOMA'!$1:$1,0)-2,0),0)","v":"00:00:00"},{"$f":"IF($A178>0,VLOOKUP($A178,'Last Document Status-HOMA'!$C:$Y,MATCH(O$9,'Last Document Status-HOMA'!$1:$1,0)-2,0),0)","v":0}]
[null,null,null,null,null,{"$f":"IFERROR((VLOOKUP(#REF!,'5-PMS'!$F$14:$N$192,6,FALSE)),\"\")","v":""},null,null,null,null,{"$f":"IF($A179>0,VLOOKUP($A179,'Last Document Status-HOMA'!$C:$Y,MATCH(K$9,'Last Document Status-HOMA'!$1:$1,0)-2,0),0)","v":0},{"$f":"IF($A179>0,VLOOKUP($A179,'Last Document Status-HOMA'!$C:$Y,MATCH(L$9,'Last Document Status-HOMA'!$1:$1,0)-2,0),0)","v":0},{"$f":"IF($A179>0,VLOOKUP($A179,'Last Document Status-HOMA'!$C:$Y,MATCH(M$9,'Last Document Status-HOMA'!$1:$1,0)-2,0),0)","v":"00:00:00"},{"$f":"IF($A179>0,VLOOKUP($A179,'Last Document Status-HOMA'!$C:$Y,MATCH(\"Outgoing Date\",'Last Document Status-HOMA'!$1:$1,0)-2,0),0)","v":"00:00:00"},{"$f":"IF($A179>0,VLOOKUP($A179,'Last Document Status-HOMA'!$C:$Y,MATCH(O$9,'Last Document Status-HOMA'!$1:$1,0)-2,0),0)","v":0}]
[null,null,null,null,null,{"$f":"IFERROR((VLOOKUP(#REF!,'5-PMS'!$F$14:$N$192,6,FALSE)),\"\")","v":""},null,null,null,null,{"$f":"IF($A180>0,VLOOKUP($A180,'Last Document Status-HOMA'!$C:$Y,MATCH(K$9,'Last Document Status-HOMA'!$1:$1,0)-2,0),0)","v":0},{"$f":"IF($A180>0,VLOOKUP($A180,'Last Document Status-HOMA'!$C:$Y,MATCH(L$9,'Last Document Status-HOMA'!$1:$1,0)-2,0),0)","v":0},{"$f":"IF($A180>0,VLOOKUP($A180,'Last Document Status-HOMA'!$C:$Y,MATCH(M$9,'Last Document Status-HOMA'!$1:$1,0)-2,0),0)","v":"00:00:00"},{"$f":"IF($A180>0,VLOOKUP($A180,'Last Document Status-HOMA'!$C:$Y,MATCH(\"Outgoing Date\",'Last Document Status-HOMA'!$1:$1,0)-2,0),0)","v":"00:00:00"},{"$f":"IF($A180>0,VLOOKUP($A180,'Last Document Status-HOMA'!$C:$Y,MATCH(O$9,'Last Document Status-HOMA'!$1:$1,0)-2,0),0)","v":0}]
[null,null,null,null,null,{"$f":"IFERROR((VLOOKUP(#REF!,'5-PMS'!$F$14:$N$192,6,FALSE)),\"\")","v":""},null,null,null,null,{"$f":"IF($A181>0,VLOOKUP($A181,'Last Document Status-HOMA'!$C:$Y,MATCH(K$9,'Last Document Status-HOMA'!$1:$1,0)-2,0),0)","v":0},{"$f":"IF($A181>0,VLOOKUP($A181,'Last Document Status-HOMA'!$C:$Y,MATCH(L$9,'Last Document Status-HOMA'!$1:$1,0)-2,0),0)","v":0},{"$f":"IF($A181>0,VLOOKUP($A181,'Last Document Status-HOMA'!$C:$Y,MATCH(M$9,'Last Document Status-HOMA'!$1:$1,0)-2,0),0)","v":"00:00:00"},{"$f":"IF($A181>0,VLOOKUP($A181,'Last Document Status-HOMA'!$C:$Y,MATCH(\"Outgoing Date\",'Last Document Status-HOMA'!$1:$1,0)-2,0),0)","v":"00:00:00"},{"$f":"IF($A181>0,VLOOKUP($A181,'Last Document Status-HOMA'!$C:$Y,MATCH(O$9,'Last Document Status-HOMA'!$1:$1,0)-2,0),0)","v":0}]
[null,null,null,null,null,{"$f":"IFERROR((VLOOKUP(#REF!,'5-PMS'!$F$14:$N$192,6,FALSE)),\"\")","v":""},null,null,null,null,{"$f":"IF($A182>0,VLOOKUP($A182,'Last Document Status-HOMA'!$C:$Y,MATCH(K$9,'Last Document Status-HOMA'!$1:$1,0)-2,0),0)","v":0},{"$f":"IF($A182>0,VLOOKUP($A182,'Last Document Status-HOMA'!$C:$Y,MATCH(L$9,'Last Document Status-HOMA'!$1:$1,0)-2,0),0)","v":0},{"$f":"IF($A182>0,VLOOKUP($A182,'Last Document Status-HOMA'!$C:$Y,MATCH(M$9,'Last Document Status-HOMA'!$1:$1,0)-2,0),0)","v":"00:00:00"},{"$f":"IF($A182>0,VLOOKUP($A182,'Last Document Status-HOMA'!$C:$Y,MATCH(\"Outgoing Date\",'Last Document Status-HOMA'!$1:$1,0)-2,0),0)","v":"00:00:00"},{"$f":"IF($A182>0,VLOOKUP($A182,'Last Document Status-HOMA'!$C:$Y,MATCH(O$9,'Last Document Status-HOMA'!$1:$1,0)-2,0),0)","v":0}]
[null,null,null,null,null,{"$f":"IFERROR((VLOOKUP(#REF!,'5-PMS'!$F$14:$N$192,6,FALSE)),\"\")","v":""},null,null,null,null,{"$f":"IF($A183>0,VLOOKUP($A183,'Last Document Status-HOMA'!$C:$Y,MATCH(K$9,'Last Document Status-HOMA'!$1:$1,0)-2,0),0)","v":0},{"$f":"IF($A183>0,VLOOKUP($A183,'Last Document Status-HOMA'!$C:$Y,MATCH(L$9,'Last Document Status-HOMA'!$1:$1,0)-2,0),0)","v":0},{"$f":"IF($A183>0,VLOOKUP($A183,'Last Document Status-HOMA'!$C:$Y,MATCH(M$9,'Last Document Status-HOMA'!$1:$1,0)-2,0),0)","v":"00:00:00"},{"$f":"IF($A183>0,VLOOKUP($A183,'Last Document Status-HOMA'!$C:$Y,MATCH(\"Outgoing Date\",'Last Document Status-HOMA'!$1:$1,0)-2,0),0)","v":"00:00:00"},{"$f":"IF($A183>0,VLOOKUP($A183,'Last Document Status-HOMA'!$C:$Y,MATCH(O$9,'Last Document Status-HOMA'!$1:$1,0)-2,0),0)","v":0}]
[null,null,null,null,null,{"$f":"IFERROR((VLOOKUP(#REF!,'5-PMS'!$F$14:$N$192,6,FALSE)),\"\")","v":""},null,null,null,null,{"$f":"IF($A184>0,VLOOKUP($A184,'Last Document Status-HOMA'!$C:$Y,MATCH(K$9,'Last Document Status-HOMA'!$1:$1,0)-2,0),0)","v":0},{"$f":"IF($A184>0,VLOOKUP($A184,'Last Document Status-HOMA'!$C:$Y,MATCH(L$9,'Last Document Status-HOMA'!$1:$1,0)-2,0),0)","v":0},{"$f":"IF($A184>0,VLOOKUP($A184,'Last Document Status-HOMA'!$C:$Y,MATCH(M$9,'Last Document Status-HOMA'!$1:$1,0)-2,0),0)","v":"00:00:00"},{"$f":"IF($A184>0,VLOOKUP($A184,'Last Document Status-HOMA'!$C:$Y,MATCH(\"Outgoing Date\",'Last Document Status-HOMA'!$1:$1,0)-2,0),0)","v":"00:00:00"},{"$f":"IF($A184>0,VLOOKUP($A184,'Last Document Status-HOMA'!$C:$Y,MATCH(O$9,'Last Document Status-HOMA'!$1:$1,0)-2,0),0)","v":0}]
[null,null,null,null,null,{"$f":"IFERROR((VLOOKUP(#REF!,'5-PMS'!$F$14:$N$192,6,FALSE)),\"\")","v":""},null,null,null,null,{"$f":"IF($A185>0,VLOOKUP($A185,'Last Document Status-HOMA'!$C:$Y,MATCH(K$9,'Last Document Status-HOMA'!$1:$1,0)-2,0),0)","v":0},{"$f":"IF($A185>0,VLOOKUP($A185,'Last Document Status-HOMA'!$C:$Y,MATCH(L$9,'Last Document Status-HOMA'!$1:$1,0)-2,0),0)","v":0},{"$f":"IF($A185>0,VLOOKUP($A185,'Last Document Status-HOMA'!$C:$Y,MATCH(M$9,'Last Document Status-HOMA'!$1:$1,0)-2,0),0)","v":"00:00:00"},{"$f":"IF($A185>0,VLOOKUP($A185,'Last Document Status-HOMA'!$C:$Y,MATCH(\"Outgoing Date\",'Last Document Status-HOMA'!$1:$1,0)-2,0),0)","v":"00:00:00"},{"$f":"IF($A185>0,VLOOKUP($A185,'Last Document Status-HOMA'!$C:$Y,MATCH(O$9,'Last Document Status-HOMA'!$1:$1,0)-2,0),0)","v":0}]
[null,null,null,null,null,{"$f":"IFERROR((VLOOKUP(#REF!,'5-PMS'!$F$14:$N$192,6,FALSE)),\"\")","v":""},null,null,null,null,{"$f":"IF($A186>0,VLOOKUP($A186,'Last Document Status-HOMA'!$C:$Y,MATCH(K$9,'Last Document Status-HOMA'!$1:$1,0)-2,0),0)","v":0},{"$f":"IF($A186>0,VLOOKUP($A186,'Last Document Status-HOMA'!$C:$Y,MATCH(L$9,'Last Document Status-HOMA'!$1:$1,0)-2,0),0)","v":0},{"$f":"IF($A186>0,VLOOKUP($A186,'Last Document Status-HOMA'!$C:$Y,MATCH(M$9,'Last Document Status-HOMA'!$1:$1,0)-2,0),0)","v":"00:00:00"},{"$f":"IF($A186>0,VLOOKUP($A186,'Last Document Status-HOMA'!$C:$Y,MATCH(\"Outgoing Date\",'Last Document Status-HOMA'!$1:$1,0)-2,0),0)","v":"00:00:00"},{"$f":"IF($A186>0,VLOOKUP($A186,'Last Document Status-HOMA'!$C:$Y,MATCH(O$9,'Last Document Status-HOMA'!$1:$1,0)-2,0),0)","v":0}]
[null,null,null,null,null,{"$f":"IFERROR((VLOOKUP(#REF!,'5-PMS'!$F$14:$N$192,6,FALSE)),\"\")","v":""},null,null,null,null,{"$f":"IF($A187>0,VLOOKUP($A187,'Last Document Status-HOMA'!$C:$Y,MATCH(K$9,'Last Document Status-HOMA'!$1:$1,0)-2,0),0)","v":0},{"$f":"IF($A187>0,VLOOKUP($A187,'Last Document Status-HOMA'!$C:$Y,MATCH(L$9,'Last Document Status-HOMA'!$1:$1,0)-2,0),0)","v":0},{"$f":"IF($A187>0,VLOOKUP($A187,'Last Document Status-HOMA'!$C:$Y,MATCH(M$9,'Last Document Status-HOMA'!$1:$1,0)-2,0),0)","v":"00:00:00"},{"$f":"IF($A187>0,VLOOKUP($A187,'Last Document Status-HOMA'!$C:$Y,MATCH(\"Outgoing Date\",'Last Document Status-HOMA'!$1:$1,0)-2,0),0)","v":"00:00:00"},{"$f":"IF($A187>0,VLOOKUP($A187,'Last Document Status-HOMA'!$C:$Y,MATCH(O$9,'Last Document Status-HOMA'!$1:$1,0)-2,0),0)","v":0}]
[null,null,null,null,null,{"$f":"IFERROR((VLOOKUP(#REF!,'5-PMS'!$F$14:$N$192,6,FALSE)),\"\")","v":""},null,null,null,null,{"$f":"IF($A188>0,VLOOKUP($A188,'Last Document Status-HOMA'!$C:$Y,MATCH(K$9,'Last Document Status-HOMA'!$1:$1,0)-2,0),0)","v":0},{"$f":"IF($A188>0,VLOOKUP($A188,'Last Document Status-HOMA'!$C:$Y,MATCH(L$9,'Last Document Status-HOMA'!$1:$1,0)-2,0),0)","v":0},{"$f":"IF($A188>0,VLOOKUP($A188,'Last Document Status-HOMA'!$C:$Y,MATCH(M$9,'Last Document Status-HOMA'!$1:$1,0)-2,0),0)","v":"00:00:00"},{"$f":"IF($A188>0,VLOOKUP($A188,'Last Document Status-HOMA'!$C:$Y,MATCH(\"Outgoing Date\",'Last Document Status-HOMA'!$1:$1,0)-2,0),0)","v":"00:00:00"},{"$f":"IF($A188>0,VLOOKUP($A188,'Last Document Status-HOMA'!$C:$Y,MATCH(O$9,'Last Document Status-HOMA'!$1:$1,0)-2,0),0)","v":0}]
[null,null,null,null,null,{"$f":"IFERROR((VLOOKUP(#REF!,'5-PMS'!$F$14:$N$192,6,FALSE)),\"\")","v":""},null,null,null,null,{"$f":"IF($A189>0,VLOOKUP($A189,'Last Document Status-HOMA'!$C:$Y,MATCH(K$9,'Last Document Status-HOMA'!$1:$1,0)-2,0),0)","v":0},{"$f":"IF($A189>0,VLOOKUP($A189,'Last Document Status-HOMA'!$C:$Y,MATCH(L$9,'Last Document Status-HOMA'!$1:$1,0)-2,0),0)","v":0},{"$f":"IF($A189>0,VLOOKUP($A189,'Last Document Status-HOMA'!$C:$Y,MATCH(M$9,'Last Document Status-HOMA'!$1:$1,0)-2,0),0)","v":"00:00:00"},{"$f":"IF($A189>0,VLOOKUP($A189,'Last Document Status-HOMA'!$C:$Y,MATCH(\"Outgoing Date\",'Last Document Status-HOMA'!$1:$1,0)-2,0),0)","v":"00:00:00"},{"$f":"IF($A189>0,VLOOKUP($A189,'Last Document Status-HOMA'!$C:$Y,MATCH(O$9,'Last Document Status-HOMA'!$1:$1,0)-2,0),0)","v":0}]
[null,null,null,null,null,{"$f":"IFERROR((VLOOKUP(#REF!,'5-PMS'!$F$14:$N$192,6,FALSE)),\"\")","v":""},null,null,null,null,{"$f":"IF($A190>0,VLOOKUP($A190,'Last Document Status-HOMA'!$C:$Y,MATCH(K$9,'Last Document Status-HOMA'!$1:$1,0)-2,0),0)","v":0},{"$f":"IF($A190>0,VLOOKUP($A190,'Last Document Status-HOMA'!$C:$Y,MATCH(L$9,'Last Document Status-HOMA'!$1:$1,0)-2,0),0)","v":0},{"$f":"IF($A190>0,VLOOKUP($A190,'Last Document Status-HOMA'!$C:$Y,MATCH(M$9,'Last Document Status-HOMA'!$1:$1,0)-2,0),0)","v":"00:00:00"},{"$f":"IF($A190>0,VLOOKUP($A190,'Last Document Status-HOMA'!$C:$Y,MATCH(\"Outgoing Date\",'Last Document Status-HOMA'!$1:$1,0)-2,0),0)","v":"00:00:00"},{"$f":"IF($A190>0,VLOOKUP($A190,'Last Document Status-HOMA'!$C:$Y,MATCH(O$9,'Last Document Status-HOMA'!$1:$1,0)-2,0),0)","v":0}]
[null,null,null,null,null,{"$f":"IFERROR((VLOOKUP(#REF!,'5-PMS'!$F$14:$N$192,6,FALSE)),\"\")","v":""},null,null,null,null,{"$f":"IF($A191>0,VLOOKUP($A191,'Last Document Status-HOMA'!$C:$Y,MATCH(K$9,'Last Document Status-HOMA'!$1:$1,0)-2,0),0)","v":0},{"$f":"IF($A191>0,VLOOKUP($A191,'Last Document Status-HOMA'!$C:$Y,MATCH(L$9,'Last Document Status-HOMA'!$1:$1,0)-2,0),0)","v":0},{"$f":"IF($A191>0,VLOOKUP($A191,'Last Document Status-HOMA'!$C:$Y,MATCH(M$9,'Last Document Status-HOMA'!$1:$1,0)-2,0),0)","v":"00:00:00"},{"$f":"IF($A191>0,VLOOKUP($A191,'Last Document Status-HOMA'!$C:$Y,MATCH(\"Outgoing Date\",'Last Document Status-HOMA'!$1:$1,0)-2,0),0)","v":"00:00:00"},{"$f":"IF($A191>0,VLOOKUP($A191,'Last Document Status-HOMA'!$C:$Y,MATCH(O$9,'Last Document Status-HOMA'!$1:$1,0)-2,0),0)","v":0}]
[null,null,null,null,null,{"$f":"IFERROR((VLOOKUP(#REF!,'5-PMS'!$F$14:$N$192,6,FALSE)),\"\")","v":""},null,null,null,null,{"$f":"IF($A192>0,VLOOKUP($A192,'Last Document Status-HOMA'!$C:$Y,MATCH(K$9,'Last Document Status-HOMA'!$1:$1,0)-2,0),0)","v":0},{"$f":"IF($A192>0,VLOOKUP($A192,'Last Document Status-HOMA'!$C:$Y,MATCH(L$9,'Last Document Status-HOMA'!$1:$1,0)-2,0),0)","v":0},{"$f":"IF($A192>0,VLOOKUP($A192,'Last Document Status-HOMA'!$C:$Y,MATCH(M$9,'Last Document Status-HOMA'!$1:$1,0)-2,0),0)","v":"00:00:00"},{"$f":"IF($A192>0,VLOOKUP($A192,'Last Document Status-HOMA'!$C:$Y,MATCH(\"Outgoing Date\",'Last Document Status-HOMA'!$1:$1,0)-2,0),0)","v":"00:00:00"},{"$f":"IF($A192>0,VLOOKUP($A192,'Last Document Status-HOMA'!$C:$Y,MATCH(O$9,'Last Document Status-HOMA'!$1:$1,0)-2,0),0)","v":0}]
[null,null,null,null,null,{"$f":"IFERROR((VLOOKUP(#REF!,'5-PMS'!$F$14:$N$192,6,FALSE)),\"\")","v":""},null,null,null,null,{"$f":"IF($A193>0,VLOOKUP($A193,'Last Document Status-HOMA'!$C:$Y,MATCH(K$9,'Last Document Status-HOMA'!$1:$1,0)-2,0),0)","v":0},{"$f":"IF($A193>0,VLOOKUP($A193,'Last Document Status-HOMA'!$C:$Y,MATCH(L$9,'Last Document Status-HOMA'!$1:$1,0)-2,0),0)","v":0},{"$f":"IF($A193>0,VLOOKUP($A193,'Last Document Status-HOMA'!$C:$Y,MATCH(M$9,'Last Document Status-HOMA'!$1:$1,0)-2,0),0)","v":"00:00:00"},{"$f":"IF($A193>0,VLOOKUP($A193,'Last Document Status-HOMA'!$C:$Y,MATCH(\"Outgoing Date\",'Last Document Status-HOMA'!$1:$1,0)-2,0),0)","v":"00:00:00"},{"$f":"IF($A193>0,VLOOKUP($A193,'Last Document Status-HOMA'!$C:$Y,MATCH(O$9,'Last Document Status-HOMA'!$1:$1,0)-2,0),0)","v":0}]
[null,null,null,null,null,{"$f":"IFERROR((VLOOKUP(#REF!,'5-PMS'!$F$14:$N$192,6,FALSE)),\"\")","v":""},null,null,null,null,{"$f":"IF($A194>0,VLOOKUP($A194,'Last Document Status-HOMA'!$C:$Y,MATCH(K$9,'Last Document Status-HOMA'!$1:$1,0)-2,0),0)","v":0},{"$f":"IF($A194>0,VLOOKUP($A194,'Last Document Status-HOMA'!$C:$Y,MATCH(L$9,'Last Document Status-HOMA'!$1:$1,0)-2,0),0)","v":0},{"$f":"IF($A194>0,VLOOKUP($A194,'Last Document Status-HOMA'!$C:$Y,MATCH(M$9,'Last Document Status-HOMA'!$1:$1,0)-2,0),0)","v":"00:00:00"},{"$f":"IF($A194>0,VLOOKUP($A194,'Last Document Status-HOMA'!$C:$Y,MATCH(\"Outgoing Date\",'Last Document Status-HOMA'!$1:$1,0)-2,0),0)","v":"00:00:00"},{"$f":"IF($A194>0,VLOOKUP($A194,'Last Document Status-HOMA'!$C:$Y,MATCH(O$9,'Last Document Status-HOMA'!$1:$1,0)-2,0),0)","v":0}]
[null,null,null,null,null,{"$f":"IFERROR((VLOOKUP(#REF!,'5-PMS'!$F$14:$N$192,6,FALSE)),\"\")","v":""},null,null,null,null,{"$f":"IF($A195>0,VLOOKUP($A195,'Last Document Status-HOMA'!$C:$Y,MATCH(K$9,'Last Document Status-HOMA'!$1:$1,0)-2,0),0)","v":0},{"$f":"IF($A195>0,VLOOKUP($A195,'Last Document Status-HOMA'!$C:$Y,MATCH(L$9,'Last Document Status-HOMA'!$1:$1,0)-2,0),0)","v":0},{"$f":"IF($A195>0,VLOOKUP($A195,'Last Document Status-HOMA'!$C:$Y,MATCH(M$9,'Last Document Status-HOMA'!$1:$1,0)-2,0),0)","v":"00:00:00"},{"$f":"IF($A195>0,VLOOKUP($A195,'Last Document Status-HOMA'!$C:$Y,MATCH(\"Outgoing Date\",'Last Document Status-HOMA'!$1:$1,0)-2,0),0)","v":"00:00:00"},{"$f":"IF($A195>0,VLOOKUP($A195,'Last Document Status-HOMA'!$C:$Y,MATCH(O$9,'Last Document Status-HOMA'!$1:$1,0)-2,0),0)","v":0}]
[null,null,null,null,null,{"$f":"IFERROR((VLOOKUP(#REF!,'5-PMS'!$F$14:$N$192,6,FALSE)),\"\")","v":""},null,null,null,null,{"$f":"IF($A196>0,VLOOKUP($A196,'Last Document Status-HOMA'!$C:$Y,MATCH(K$9,'Last Document Status-HOMA'!$1:$1,0)-2,0),0)","v":0},{"$f":"IF($A196>0,VLOOKUP($A196,'Last Document Status-HOMA'!$C:$Y,MATCH(L$9,'Last Document Status-HOMA'!$1:$1,0)-2,0),0)","v":0},{"$f":"IF($A196>0,VLOOKUP($A196,'Last Document Status-HOMA'!$C:$Y,MATCH(M$9,'Last Document Status-HOMA'!$1:$1,0)-2,0),0)","v":"00:00:00"},{"$f":"IF($A196>0,VLOOKUP($A196,'Last Document Status-HOMA'!$C:$Y,MATCH(\"Outgoing Date\",'Last Document Status-HOMA'!$1:$1,0)-2,0),0)","v":"00:00:00"},{"$f":"IF($A196>0,VLOOKUP($A196,'Last Document Status-HOMA'!$C:$Y,MATCH(O$9,'Last Document Status-HOMA'!$1:$1,0)-2,0),0)","v":0}]
[null,null,null,null,null,{"$f":"IFERROR((VLOOKUP(#REF!,'5-PMS'!$F$14:$N$192,6,FALSE)),\"\")","v":""},null,null,null,null,{"$f":"IF($A197>0,VLOOKUP($A197,'Last Document Status-HOMA'!$C:$Y,MATCH(K$9,'Last Document Status-HOMA'!$1:$1,0)-2,0),0)","v":0},{"$f":"IF($A197>0,VLOOKUP($A197,'Last Document Status-HOMA'!$C:$Y,MATCH(L$9,'Last Document Status-HOMA'!$1:$1,0)-2,0),0)","v":0},{"$f":"IF($A197>0,VLOOKUP($A197,'Last Document Status-HOMA'!$C:$Y,MATCH(M$9,'Last Document Status-HOMA'!$1:$1,0)-2,0),0)","v":"00:00:00"},{"$f":"IF($A197>0,VLOOKUP($A197,'Last Document Status-HOMA'!$C:$Y,MATCH(\"Outgoing Date\",'Last Document Status-HOMA'!$1:$1,0)-2,0),0)","v":"00:00:00"},{"$f":"IF($A197>0,VLOOKUP($A197,'Last Document Status-HOMA'!$C:$Y,MATCH(O$9,'Last Document Status-HOMA'!$1:$1,0)-2,0),0)","v":0}]
[null,null,null,null,null,{"$f":"IFERROR((VLOOKUP(#REF!,'5-PMS'!$F$14:$N$192,6,FALSE)),\"\")","v":""},null,null,null,null,{"$f":"IF($A198>0,VLOOKUP($A198,'Last Document Status-HOMA'!$C:$Y,MATCH(K$9,'Last Document Status-HOMA'!$1:$1,0)-2,0),0)","v":0},{"$f":"IF($A198>0,VLOOKUP($A198,'Last Document Status-HOMA'!$C:$Y,MATCH(L$9,'Last Document Status-HOMA'!$1:$1,0)-2,0),0)","v":0},{"$f":"IF($A198>0,VLOOKUP($A198,'Last Document Status-HOMA'!$C:$Y,MATCH(M$9,'Last Document Status-HOMA'!$1:$1,0)-2,0),0)","v":"00:00:00"},{"$f":"IF($A198>0,VLOOKUP($A198,'Last Document Status-HOMA'!$C:$Y,MATCH(\"Outgoing Date\",'Last Document Status-HOMA'!$1:$1,0)-2,0),0)","v":"00:00:00"},{"$f":"IF($A198>0,VLOOKUP($A198,'Last Document Status-HOMA'!$C:$Y,MATCH(O$9,'Last Document Status-HOMA'!$1:$1,0)-2,0),0)","v":0}]
[null,null,null,null,null,{"$f":"IFERROR((VLOOKUP(#REF!,'5-PMS'!$F$14:$N$192,6,FALSE)),\"\")","v":""},null,null,null,null,{"$f":"IF($A199>0,VLOOKUP($A199,'Last Document Status-HOMA'!$C:$Y,MATCH(K$9,'Last Document Status-HOMA'!$1:$1,0)-2,0),0)","v":0},{"$f":"IF($A199>0,VLOOKUP($A199,'Last Document Status-HOMA'!$C:$Y,MATCH(L$9,'Last Document Status-HOMA'!$1:$1,0)-2,0),0)","v":0},{"$f":"IF($A199>0,VLOOKUP($A199,'Last Document Status-HOMA'!$C:$Y,MATCH(M$9,'Last Document Status-HOMA'!$1:$1,0)-2,0),0)","v":"00:00:00"},{"$f":"IF($A199>0,VLOOKUP($A199,'Last Document Status-HOMA'!$C:$Y,MATCH(\"Outgoing Date\",'Last Document Status-HOMA'!$1:$1,0)-2,0),0)","v":"00:00:00"},{"$f":"IF($A199>0,VLOOKUP($A199,'Last Document Status-HOMA'!$C:$Y,MATCH(O$9,'Last Document Status-HOMA'!$1:$1,0)-2,0),0)","v":0}]
[null,null,null,null,null,{"$f":"IFERROR((VLOOKUP(#REF!,'5-PMS'!$F$14:$N$192,6,FALSE)),\"\")","v":""},null,null,null,null,{"$f":"IF($A200>0,VLOOKUP($A200,'Last Document Status-HOMA'!$C:$Y,MATCH(K$9,'Last Document Status-HOMA'!$1:$1,0)-2,0),0)","v":0},{"$f":"IF($A200>0,VLOOKUP($A200,'Last Document Status-HOMA'!$C:$Y,MATCH(L$9,'Last Document Status-HOMA'!$1:$1,0)-2,0),0)","v":0},{"$f":"IF($A200>0,VLOOKUP($A200,'Last Document Status-HOMA'!$C:$Y,MATCH(M$9,'Last Document Status-HOMA'!$1:$1,0)-2,0),0)","v":"00:00:00"},{"$f":"IF($A200>0,VLOOKUP($A200,'Last Document Status-HOMA'!$C:$Y,MATCH(\"Outgoing Date\",'Last Document Status-HOMA'!$1:$1,0)-2,0),0)","v":"00:00:00"},{"$f":"IF($A200>0,VLOOKUP($A200,'Last Document Status-HOMA'!$C:$Y,MATCH(O$9,'Last Document Status-HOMA'!$1:$1,0)-2,0),0)","v":0}]
[null,null,null,null,null,{"$f":"IFERROR((VLOOKUP(#REF!,'5-PMS'!$F$14:$N$192,6,FALSE)),\"\")","v":""},null,null,null,null,{"$f":"IF($A201>0,VLOOKUP($A201,'Last Document Status-HOMA'!$C:$Y,MATCH(K$9,'Last Document Status-HOMA'!$1:$1,0)-2,0),0)","v":0},{"$f":"IF($A201>0,VLOOKUP($A201,'Last Document Status-HOMA'!$C:$Y,MATCH(L$9,'Last Document Status-HOMA'!$1:$1,0)-2,0),0)","v":0},{"$f":"IF($A201>0,VLOOKUP($A201,'Last Document Status-HOMA'!$C:$Y,MATCH(M$9,'Last Document Status-HOMA'!$1:$1,0)-2,0),0)","v":"00:00:00"},{"$f":"IF($A201>0,VLOOKUP($A201,'Last Document Status-HOMA'!$C:$Y,MATCH(\"Outgoing Date\",'Last Document Status-HOMA'!$1:$1,0)-2,0),0)","v":"00:00:00"},{"$f":"IF($A201>0,VLOOKUP($A201,'Last Document Status-HOMA'!$C:$Y,MATCH(O$9,'Last Document Status-HOMA'!$1:$1,0)-2,0),0)","v":0}]
[null,null,null,null,null,{"$f":"IFERROR((VLOOKUP(#REF!,'5-PMS'!$F$14:$N$192,6,FALSE)),\"\")","v":""},null,null,null,null,{"$f":"IF($A202>0,VLOOKUP($A202,'Last Document Status-HOMA'!$C:$Y,MATCH(K$9,'Last Document Status-HOMA'!$1:$1,0)-2,0),0)","v":0},{"$f":"IF($A202>0,VLOOKUP($A202,'Last Document Status-HOMA'!$C:$Y,MATCH(L$9,'Last Document Status-HOMA'!$1:$1,0)-2,0),0)","v":0},{"$f":"IF($A202>0,VLOOKUP($A202,'Last Document Status-HOMA'!$C:$Y,MATCH(M$9,'Last Document Status-HOMA'!$1:$1,0)-2,0),0)","v":"00:00:00"},{"$f":"IF($A202>0,VLOOKUP($A202,'Last Document Status-HOMA'!$C:$Y,MATCH(\"Outgoing Date\",'Last Document Status-HOMA'!$1:$1,0)-2,0),0)","v":"00:00:00"},{"$f":"IF($A202>0,VLOOKUP($A202,'Last Document Status-HOMA'!$C:$Y,MATCH(O$9,'Last Document Status-HOMA'!$1:$1,0)-2,0),0)","v":0}]
[null,null,null,null,null,{"$f":"IFERROR((VLOOKUP(#REF!,'5-PMS'!$F$14:$N$192,6,FALSE)),\"\")","v":""},null,null,null,null,{"$f":"IF($A203>0,VLOOKUP($A203,'Last Document Status-HOMA'!$C:$Y,MATCH(K$9,'Last Document Status-HOMA'!$1:$1,0)-2,0),0)","v":0},{"$f":"IF($A203>0,VLOOKUP($A203,'Last Document Status-HOMA'!$C:$Y,MATCH(L$9,'Last Document Status-HOMA'!$1:$1,0)-2,0),0)","v":0},{"$f":"IF($A203>0,VLOOKUP($A203,'Last Document Status-HOMA'!$C:$Y,MATCH(M$9,'Last Document Status-HOMA'!$1:$1,0)-2,0),0)","v":"00:00:00"},{"$f":"IF($A203>0,VLOOKUP($A203,'Last Document Status-HOMA'!$C:$Y,MATCH(\"Outgoing Date\",'Last Document Status-HOMA'!$1:$1,0)-2,0),0)","v":"00:00:00"},{"$f":"IF($A203>0,VLOOKUP($A203,'Last Document Status-HOMA'!$C:$Y,MATCH(O$9,'Last Document Status-HOMA'!$1:$1,0)-2,0),0)","v":0}]
[null,null,null,null,null,{"$f":"IFERROR((VLOOKUP(#REF!,'5-PMS'!$F$14:$N$192,6,FALSE)),\"\")","v":""},null,null,null,null,{"$f":"IF($A204>0,VLOOKUP($A204,'Last Document Status-HOMA'!$C:$Y,MATCH(K$9,'Last Document Status-HOMA'!$1:$1,0)-2,0),0)","v":0},{"$f":"IF($A204>0,VLOOKUP($A204,'Last Document Status-HOMA'!$C:$Y,MATCH(L$9,'Last Document Status-HOMA'!$1:$1,0)-2,0),0)","v":0},{"$f":"IF($A204>0,VLOOKUP($A204,'Last Document Status-HOMA'!$C:$Y,MATCH(M$9,'Last Document Status-HOMA'!$1:$1,0)-2,0),0)","v":"00:00:00"},{"$f":"IF($A204>0,VLOOKUP($A204,'Last Document Status-HOMA'!$C:$Y,MATCH(\"Outgoing Date\",'Last Document Status-HOMA'!$1:$1,0)-2,0),0)","v":"00:00:00"},{"$f":"IF($A204>0,VLOOKUP($A204,'Last Document Status-HOMA'!$C:$Y,MATCH(O$9,'Last Document Status-HOMA'!$1:$1,0)-2,0),0)","v":0}]
[null,null,null,null,null,{"$f":"IFERROR((VLOOKUP(#REF!,'5-PMS'!$F$14:$N$192,6,FALSE)),\"\")","v":""},null,null,null,null,{"$f":"IF($A205>0,VLOOKUP($A205,'Last Document Status-HOMA'!$C:$Y,MATCH(K$9,'Last Document Status-HOMA'!$1:$1,0)-2,0),0)","v":0},{"$f":"IF($A205>0,VLOOKUP($A205,'Last Document Status-HOMA'!$C:$Y,MATCH(L$9,'Last Document Status-HOMA'!$1:$1,0)-2,0),0)","v":0},{"$f":"IF($A205>0,VLOOKUP($A205,'Last Document Status-HOMA'!$C:$Y,MATCH(M$9,'Last Document Status-HOMA'!$1:$1,0)-2,0),0)","v":"00:00:00"},{"$f":"IF($A205>0,VLOOKUP($A205,'Last Document Status-HOMA'!$C:$Y,MATCH(\"Outgoing Date\",'Last Document Status-HOMA'!$1:$1,0)-2,0),0)","v":"00:00:00"},{"$f":"IF($A205>0,VLOOKUP($A205,'Last Document Status-HOMA'!$C:$Y,MATCH(O$9,'Last Document Status-HOMA'!$1:$1,0)-2,0),0)","v":0}]
[null,null,null,null,null,{"$f":"IFERROR((VLOOKUP(#REF!,'5-PMS'!$F$14:$N$192,6,FALSE)),\"\")","v":""},null,null,null,null,{"$f":"IF($A206>0,VLOOKUP($A206,'Last Document Status-HOMA'!$C:$Y,MATCH(K$9,'Last Document Status-HOMA'!$1:$1,0)-2,0),0)","v":0},{"$f":"IF($A206>0,VLOOKUP($A206,'Last Document Status-HOMA'!$C:$Y,MATCH(L$9,'Last Document Status-HOMA'!$1:$1,0)-2,0),0)","v":0},{"$f":"IF($A206>0,VLOOKUP($A206,'Last Document Status-HOMA'!$C:$Y,MATCH(M$9,'Last Document Status-HOMA'!$1:$1,0)-2,0),0)","v":"00:00:00"},{"$f":"IF($A206>0,VLOOKUP($A206,'Last Document Status-HOMA'!$C:$Y,MATCH(\"Outgoing Date\",'Last Document Status-HOMA'!$1:$1,0)-2,0),0)","v":"00:00:00"},{"$f":"IF($A206>0,VLOOKUP($A206,'Last Document Status-HOMA'!$C:$Y,MATCH(O$9,'Last Document Status-HOMA'!$1:$1,0)-2,0),0)","v":0}]
[null,null,null,null,null,{"$f":"IFERROR((VLOOKUP(#REF!,'5-PMS'!$F$14:$N$192,6,FALSE)),\"\")","v":""},null,null,null,null,{"$f":"IF($A207>0,VLOOKUP($A207,'Last Document Status-HOMA'!$C:$Y,MATCH(K$9,'Last Document Status-HOMA'!$1:$1,0)-2,0),0)","v":0},{"$f":"IF($A207>0,VLOOKUP($A207,'Last Document Status-HOMA'!$C:$Y,MATCH(L$9,'Last Document Status-HOMA'!$1:$1,0)-2,0),0)","v":0},{"$f":"IF($A207>0,VLOOKUP($A207,'Last Document Status-HOMA'!$C:$Y,MATCH(M$9,'Last Document Status-HOMA'!$1:$1,0)-2,0),0)","v":"00:00:00"},{"$f":"IF($A207>0,VLOOKUP($A207,'Last Document Status-HOMA'!$C:$Y,MATCH(\"Outgoing Date\",'Last Document Status-HOMA'!$1:$1,0)-2,0),0)","v":"00:00:00"},{"$f":"IF($A207>0,VLOOKUP($A207,'Last Document Status-HOMA'!$C:$Y,MATCH(O$9,'Last Document Status-HOMA'!$1:$1,0)-2,0),0)","v":0}]
[null,null,null,null,null,{"$f":"IFERROR((VLOOKUP(#REF!,'5-PMS'!$F$14:$N$192,6,FALSE)),\"\")","v":""},null,null,null,null,{"$f":"IF($A208>0,VLOOKUP($A208,'Last Document Status-HOMA'!$C:$Y,MATCH(K$9,'Last Document Status-HOMA'!$1:$1,0)-2,0),0)","v":0},{"$f":"IF($A208>0,VLOOKUP($A208,'Last Document Status-HOMA'!$C:$Y,MATCH(L$9,'Last Document Status-HOMA'!$1:$1,0)-2,0),0)","v":0},{"$f":"IF($A208>0,VLOOKUP($A208,'Last Document Status-HOMA'!$C:$Y,MATCH(M$9,'Last Document Status-HOMA'!$1:$1,0)-2,0),0)","v":"00:00:00"},{"$f":"IF($A208>0,VLOOKUP($A208,'Last Document Status-HOMA'!$C:$Y,MATCH(\"Outgoing Date\",'Last Document Status-HOMA'!$1:$1,0)-2,0),0)","v":"00:00:00"},{"$f":"IF($A208>0,VLOOKUP($A208,'Last Document Status-HOMA'!$C:$Y,MATCH(O$9,'Last Document Status-HOMA'!$1:$1,0)-2,0),0)","v":0}]
[null,null,null,null,null,{"$f":"IFERROR((VLOOKUP(#REF!,'5-PMS'!$F$14:$N$192,6,FALSE)),\"\")","v":""},null,null,null,null,{"$f":"IF($A209>0,VLOOKUP($A209,'Last Document Status-HOMA'!$C:$Y,MATCH(K$9,'Last Document Status-HOMA'!$1:$1,0)-2,0),0)","v":0},{"$f":"IF($A209>0,VLOOKUP($A209,'Last Document Status-HOMA'!$C:$Y,MATCH(L$9,'Last Document Status-HOMA'!$1:$1,0)-2,0),0)","v":0},{"$f":"IF($A209>0,VLOOKUP($A209,'Last Document Status-HOMA'!$C:$Y,MATCH(M$9,'Last Document Status-HOMA'!$1:$1,0)-2,0),0)","v":"00:00:00"},{"$f":"IF($A209>0,VLOOKUP($A209,'Last Document Status-HOMA'!$C:$Y,MATCH(\"Outgoing Date\",'Last Document Status-HOMA'!$1:$1,0)-2,0),0)","v":"00:00:00"},{"$f":"IF($A209>0,VLOOKUP($A209,'Last Document Status-HOMA'!$C:$Y,MATCH(O$9,'Last Document Status-HOMA'!$1:$1,0)-2,0),0)","v":0}]
[null,null,null,null,null,{"$f":"IFERROR((VLOOKUP(#REF!,'5-PMS'!$F$14:$N$192,6,FALSE)),\"\")","v":""},null,null,null,null,{"$f":"IF($A210>0,VLOOKUP($A210,'Last Document Status-HOMA'!$C:$Y,MATCH(K$9,'Last Document Status-HOMA'!$1:$1,0)-2,0),0)","v":0},{"$f":"IF($A210>0,VLOOKUP($A210,'Last Document Status-HOMA'!$C:$Y,MATCH(L$9,'Last Document Status-HOMA'!$1:$1,0)-2,0),0)","v":0},{"$f":"IF($A210>0,VLOOKUP($A210,'Last Document Status-HOMA'!$C:$Y,MATCH(M$9,'Last Document Status-HOMA'!$1:$1,0)-2,0),0)","v":"00:00:00"},{"$f":"IF($A210>0,VLOOKUP($A210,'Last Document Status-HOMA'!$C:$Y,MATCH(\"Outgoing Date\",'Last Document Status-HOMA'!$1:$1,0)-2,0),0)","v":"00:00:00"},{"$f":"IF($A210>0,VLOOKUP($A210,'Last Document Status-HOMA'!$C:$Y,MATCH(O$9,'Last Document Status-HOMA'!$1:$1,0)-2,0),0)","v":0}]
[null,null,null,null,null,{"$f":"IFERROR((VLOOKUP(#REF!,'5-PMS'!$F$14:$N$192,6,FALSE)),\"\")","v":""},null,null,null,null,{"$f":"IF($A211>0,VLOOKUP($A211,'Last Document Status-HOMA'!$C:$Y,MATCH(K$9,'Last Document Status-HOMA'!$1:$1,0)-2,0),0)","v":0},{"$f":"IF($A211>0,VLOOKUP($A211,'Last Document Status-HOMA'!$C:$Y,MATCH(L$9,'Last Document Status-HOMA'!$1:$1,0)-2,0),0)","v":0},{"$f":"IF($A211>0,VLOOKUP($A211,'Last Document Status-HOMA'!$C:$Y,MATCH(M$9,'Last Document Status-HOMA'!$1:$1,0)-2,0),0)","v":"00:00:00"},{"$f":"IF($A211>0,VLOOKUP($A211,'Last Document Status-HOMA'!$C:$Y,MATCH(\"Outgoing Date\",'Last Document Status-HOMA'!$1:$1,0)-2,0),0)","v":"00:00:00"},{"$f":"IF($A211>0,VLOOKUP($A211,'Last Document Status-HOMA'!$C:$Y,MATCH(O$9,'Last Document Status-HOMA'!$1:$1,0)-2,0),0)","v":0}]
[null,null,null,null,null,{"$f":"IFERROR((VLOOKUP(#REF!,'5-PMS'!$F$14:$N$192,6,FALSE)),\"\")","v":""},null,null,null,null,{"$f":"IF($A212>0,VLOOKUP($A212,'Last Document Status-HOMA'!$C:$Y,MATCH(K$9,'Last Document Status-HOMA'!$1:$1,0)-2,0),0)","v":0},{"$f":"IF($A212>0,VLOOKUP($A212,'Last Document Status-HOMA'!$C:$Y,MATCH(L$9,'Last Document Status-HOMA'!$1:$1,0)-2,0),0)","v":0},{"$f":"IF($A212>0,VLOOKUP($A212,'Last Document Status-HOMA'!$C:$Y,MATCH(M$9,'Last Document Status-HOMA'!$1:$1,0)-2,0),0)","v":"00:00:00"},{"$f":"IF($A212>0,VLOOKUP($A212,'Last Document Status-HOMA'!$C:$Y,MATCH(\"Outgoing Date\",'Last Document Status-HOMA'!$1:$1,0)-2,0),0)","v":"00:00:00"},{"$f":"IF($A212>0,VLOOKUP($A212,'Last Document Status-HOMA'!$C:$Y,MATCH(O$9,'Last Document Status-HOMA'!$1:$1,0)-2,0),0)","v":0}]
[null,null,null,null,null,{"$f":"IFERROR((VLOOKUP(#REF!,'5-PMS'!$F$14:$N$192,6,FALSE)),\"\")","v":""},null,null,null,null,{"$f":"IF($A213>0,VLOOKUP($A213,'Last Document Status-HOMA'!$C:$Y,MATCH(K$9,'Last Document Status-HOMA'!$1:$1,0)-2,0),0)","v":0},{"$f":"IF($A213>0,VLOOKUP($A213,'Last Document Status-HOMA'!$C:$Y,MATCH(L$9,'Last Document Status-HOMA'!$1:$1,0)-2,0),0)","v":0},{"$f":"IF($A213>0,VLOOKUP($A213,'Last Document Status-HOMA'!$C:$Y,MATCH(M$9,'Last Document Status-HOMA'!$1:$1,0)-2,0),0)","v":"00:00:00"},{"$f":"IF($A213>0,VLOOKUP($A213,'Last Document Status-HOMA'!$C:$Y,MATCH(\"Outgoing Date\",'Last Document Status-HOMA'!$1:$1,0)-2,0),0)","v":"00:00:00"},{"$f":"IF($A213>0,VLOOKUP($A213,'Last Document Status-HOMA'!$C:$Y,MATCH(O$9,'Last Document Status-HOMA'!$1:$1,0)-2,0),0)","v":0}]
[null,null,null,null,null,{"$f":"IFERROR((VLOOKUP(#REF!,'5-PMS'!$F$14:$N$192,6,FALSE)),\"\")","v":""},null,null,null,null,{"$f":"IF($A214>0,VLOOKUP($A214,'Last Document Status-HOMA'!$C:$Y,MATCH(K$9,'Last Document Status-HOMA'!$1:$1,0)-2,0),0)","v":0},{"$f":"IF($A214>0,VLOOKUP($A214,'Last Document Status-HOMA'!$C:$Y,MATCH(L$9,'Last Document Status-HOMA'!$1:$1,0)-2,0),0)","v":0},{"$f":"IF($A214>0,VLOOKUP($A214,'Last Document Status-HOMA'!$C:$Y,MATCH(M$9,'Last Document Status-HOMA'!$1:$1,0)-2,0),0)","v":"00:00:00"},{"$f":"IF($A214>0,VLOOKUP($A214,'Last Document Status-HOMA'!$C:$Y,MATCH(\"Outgoing Date\",'Last Document Status-HOMA'!$1:$1,0)-2,0),0)","v":"00:00:00"},{"$f":"IF($A214>0,VLOOKUP($A214,'Last Document Status-HOMA'!$C:$Y,MATCH(O$9,'Last Document Status-HOMA'!$1:$1,0)-2,0),0)","v":0}]
[null,null,null,null,null,{"$f":"IFERROR((VLOOKUP(#REF!,'5-PMS'!$F$14:$N$192,6,FALSE)),\"\")","v":""},null,null,null,null,{"$f":"IF($A215>0,VLOOKUP($A215,'Last Document Status-HOMA'!$C:$Y,MATCH(K$9,'Last Document Status-HOMA'!$1:$1,0)-2,0),0)","v":0},{"$f":"IF($A215>0,VLOOKUP($A215,'Last Document Status-HOMA'!$C:$Y,MATCH(L$9,'Last Document Status-HOMA'!$1:$1,0)-2,0),0)","v":0},{"$f":"IF($A215>0,VLOOKUP($A215,'Last Document Status-HOMA'!$C:$Y,MATCH(M$9,'Last Document Status-HOMA'!$1:$1,0)-2,0),0)","v":"00:00:00"},{"$f":"IF($A215>0,VLOOKUP($A215,'Last Document Status-HOMA'!$C:$Y,MATCH(\"Outgoing Date\",'Last Document Status-HOMA'!$1:$1,0)-2,0),0)","v":"00:00:00"},{"$f":"IF($A215>0,VLOOKUP($A215,'Last Document Status-HOMA'!$C:$Y,MATCH(O$9,'Last Document Status-HOMA'!$1:$1,0)-2,0),0)","v":0}]
[null,null,null,null,null,{"$f":"IFERROR((VLOOKUP(#REF!,'5-PMS'!$F$14:$N$192,6,FALSE)),\"\")","v":""},null,null,null,null,{"$f":"IF($A216>0,VLOOKUP($A216,'Last Document Status-HOMA'!$C:$Y,MATCH(K$9,'Last Document Status-HOMA'!$1:$1,0)-2,0),0)","v":0},{"$f":"IF($A216>0,VLOOKUP($A216,'Last Document Status-HOMA'!$C:$Y,MATCH(L$9,'Last Document Status-HOMA'!$1:$1,0)-2,0),0)","v":0},{"$f":"IF($A216>0,VLOOKUP($A216,'Last Document Status-HOMA'!$C:$Y,MATCH(M$9,'Last Document Status-HOMA'!$1:$1,0)-2,0),0)","v":"00:00:00"},{"$f":"IF($A216>0,VLOOKUP($A216,'Last Document Status-HOMA'!$C:$Y,MATCH(\"Outgoing Date\",'Last Document Status-HOMA'!$1:$1,0)-2,0),0)","v":"00:00:00"},{"$f":"IF($A216>0,VLOOKUP($A216,'Last Document Status-HOMA'!$C:$Y,MATCH(O$9,'Last Document Status-HOMA'!$1:$1,0)-2,0),0)","v":0}]
[null,null,null,null,null,{"$f":"IFERROR((VLOOKUP(#REF!,'5-PMS'!$F$14:$N$192,6,FALSE)),\"\")","v":""},null,null,null,null,{"$f":"IF($A217>0,VLOOKUP($A217,'Last Document Status-HOMA'!$C:$Y,MATCH(K$9,'Last Document Status-HOMA'!$1:$1,0)-2,0),0)","v":0},{"$f":"IF($A217>0,VLOOKUP($A217,'Last Document Status-HOMA'!$C:$Y,MATCH(L$9,'Last Document Status-HOMA'!$1:$1,0)-2,0),0)","v":0},{"$f":"IF($A217>0,VLOOKUP($A217,'Last Document Status-HOMA'!$C:$Y,MATCH(M$9,'Last Document Status-HOMA'!$1:$1,0)-2,0),0)","v":"00:00:00"},{"$f":"IF($A217>0,VLOOKUP($A217,'Last Document Status-HOMA'!$C:$Y,MATCH(\"Outgoing Date\",'Last Document Status-HOMA'!$1:$1,0)-2,0),0)","v":"00:00:00"},{"$f":"IF($A217>0,VLOOKUP($A217,'Last Document Status-HOMA'!$C:$Y,MATCH(O$9,'Last Document Status-HOMA'!$1:$1,0)-2,0),0)","v":0}]
[null,null,null,null,null,{"$f":"IFERROR((VLOOKUP(#REF!,'5-PMS'!$F$14:$N$192,6,FALSE)),\"\")","v":""},null,null,null,null,{"$f":"IF($A218>0,VLOOKUP($A218,'Last Document Status-HOMA'!$C:$Y,MATCH(K$9,'Last Document Status-HOMA'!$1:$1,0)-2,0),0)","v":0},{"$f":"IF($A218>0,VLOOKUP($A218,'Last Document Status-HOMA'!$C:$Y,MATCH(L$9,'Last Document Status-HOMA'!$1:$1,0)-2,0),0)","v":0},{"$f":"IF($A218>0,VLOOKUP($A218,'Last Document Status-HOMA'!$C:$Y,MATCH(M$9,'Last Document Status-HOMA'!$1:$1,0)-2,0),0)","v":"00:00:00"},{"$f":"IF($A218>0,VLOOKUP($A218,'Last Document Status-HOMA'!$C:$Y,MATCH(\"Outgoing Date\",'Last Document Status-HOMA'!$1:$1,0)-2,0),0)","v":"00:00:00"},{"$f":"IF($A218>0,VLOOKUP($A218,'Last Document Status-HOMA'!$C:$Y,MATCH(O$9,'Last Document Status-HOMA'!$1:$1,0)-2,0),0)","v":0}]
[null,null,null,null,null,{"$f":"IFERROR((VLOOKUP(#REF!,'5-PMS'!$F$14:$N$192,6,FALSE)),\"\")","v":""},null,null,null,null,{"$f":"IF($A219>0,VLOOKUP($A219,'Last Document Status-HOMA'!$C:$Y,MATCH(K$9,'Last Document Status-HOMA'!$1:$1,0)-2,0),0)","v":0},{"$f":"IF($A219>0,VLOOKUP($A219,'Last Document Status-HOMA'!$C:$Y,MATCH(L$9,'Last Document Status-HOMA'!$1:$1,0)-2,0),0)","v":0},{"$f":"IF($A219>0,VLOOKUP($A219,'Last Document Status-HOMA'!$C:$Y,MATCH(M$9,'Last Document Status-HOMA'!$1:$1,0)-2,0),0)","v":"00:00:00"},{"$f":"IF($A219>0,VLOOKUP($A219,'Last Document Status-HOMA'!$C:$Y,MATCH(\"Outgoing Date\",'Last Document Status-HOMA'!$1:$1,0)-2,0),0)","v":"00:00:00"},{"$f":"IF($A219>0,VLOOKUP($A219,'Last Document Status-HOMA'!$C:$Y,MATCH(O$9,'Last Document Status-HOMA'!$1:$1,0)-2,0),0)","v":0}]
[null,null,null,null,null,{"$f":"IFERROR((VLOOKUP(#REF!,'5-PMS'!$F$14:$N$192,6,FALSE)),\"\")","v":""},null,null,null,null,{"$f":"IF($A220>0,VLOOKUP($A220,'Last Document Status-HOMA'!$C:$Y,MATCH(K$9,'Last Document Status-HOMA'!$1:$1,0)-2,0),0)","v":0},{"$f":"IF($A220>0,VLOOKUP($A220,'Last Document Status-HOMA'!$C:$Y,MATCH(L$9,'Last Document Status-HOMA'!$1:$1,0)-2,0),0)","v":0},{"$f":"IF($A220>0,VLOOKUP($A220,'Last Document Status-HOMA'!$C:$Y,MATCH(M$9,'Last Document Status-HOMA'!$1:$1,0)-2,0),0)","v":"00:00:00"},{"$f":"IF($A220>0,VLOOKUP($A220,'Last Document Status-HOMA'!$C:$Y,MATCH(\"Outgoing Date\",'Last Document Status-HOMA'!$1:$1,0)-2,0),0)","v":"00:00:00"},{"$f":"IF($A220>0,VLOOKUP($A220,'Last Document Status-HOMA'!$C:$Y,MATCH(O$9,'Last Document Status-HOMA'!$1:$1,0)-2,0),0)","v":0}]
[null,null,null,null,null,{"$f":"IFERROR((VLOOKUP(#REF!,'5-PMS'!$F$14:$N$192,6,FALSE)),\"\")","v":""},null,null,null,null,{"$f":"IF($A221>0,VLOOKUP($A221,'Last Document Status-HOMA'!$C:$Y,MATCH(K$9,'Last Document Status-HOMA'!$1:$1,0)-2,0),0)","v":0},{"$f":"IF($A221>0,VLOOKUP($A221,'Last Document Status-HOMA'!$C:$Y,MATCH(L$9,'Last Document Status-HOMA'!$1:$1,0)-2,0),0)","v":0},{"$f":"IF($A221>0,VLOOKUP($A221,'Last Document Status-HOMA'!$C:$Y,MATCH(M$9,'Last Document Status-HOMA'!$1:$1,0)-2,0),0)","v":"00:00:00"},{"$f":"IF($A221>0,VLOOKUP($A221,'Last Document Status-HOMA'!$C:$Y,MATCH(\"Outgoing Date\",'Last Document Status-HOMA'!$1:$1,0)-2,0),0)","v":"00:00:00"},{"$f":"IF($A221>0,VLOOKUP($A221,'Last Document Status-HOMA'!$C:$Y,MATCH(O$9,'Last Document Status-HOMA'!$1:$1,0)-2,0),0)","v":0}]
[null,null,null,null,null,{"$f":"IFERROR((VLOOKUP(#REF!,'5-PMS'!$F$14:$N$192,6,FALSE)),\"\")","v":""},null,null,null,null,{"$f":"IF($A222>0,VLOOKUP($A222,'Last Document Status-HOMA'!$C:$Y,MATCH(K$9,'Last Document Status-HOMA'!$1:$1,0)-2,0),0)","v":0},{"$f":"IF($A222>0,VLOOKUP($A222,'Last Document Status-HOMA'!$C:$Y,MATCH(L$9,'Last Document Status-HOMA'!$1:$1,0)-2,0),0)","v":0},{"$f":"IF($A222>0,VLOOKUP($A222,'Last Document Status-HOMA'!$C:$Y,MATCH(M$9,'Last Document Status-HOMA'!$1:$1,0)-2,0),0)","v":"00:00:00"},{"$f":"IF($A222>0,VLOOKUP($A222,'Last Document Status-HOMA'!$C:$Y,MATCH(\"Outgoing Date\",'Last Document Status-HOMA'!$1:$1,0)-2,0),0)","v":"00:00:00"},{"$f":"IF($A222>0,VLOOKUP($A222,'Last Document Status-HOMA'!$C:$Y,MATCH(O$9,'Last Document Status-HOMA'!$1:$1,0)-2,0),0)","v":0}]
[null,null,null,null,null,{"$f":"IFERROR((VLOOKUP(#REF!,'5-PMS'!$F$14:$N$192,6,FALSE)),\"\")","v":""},null,null,null,null,{"$f":"IF($A223>0,VLOOKUP($A223,'Last Document Status-HOMA'!$C:$Y,MATCH(K$9,'Last Document Status-HOMA'!$1:$1,0)-2,0),0)","v":0},{"$f":"IF($A223>0,VLOOKUP($A223,'Last Document Status-HOMA'!$C:$Y,MATCH(L$9,'Last Document Status-HOMA'!$1:$1,0)-2,0),0)","v":0},{"$f":"IF($A223>0,VLOOKUP($A223,'Last Document Status-HOMA'!$C:$Y,MATCH(M$9,'Last Document Status-HOMA'!$1:$1,0)-2,0),0)","v":"00:00:00"},{"$f":"IF($A223>0,VLOOKUP($A223,'Last Document Status-HOMA'!$C:$Y,MATCH(\"Outgoing Date\",'Last Document Status-HOMA'!$1:$1,0)-2,0),0)","v":"00:00:00"},{"$f":"IF($A223>0,VLOOKUP($A223,'Last Document Status-HOMA'!$C:$Y,MATCH(O$9,'Last Document Status-HOMA'!$1:$1,0)-2,0),0)","v":0}]
[null,null,null,null,null,{"$f":"IFERROR((VLOOKUP(#REF!,'5-PMS'!$F$14:$N$192,6,FALSE)),\"\")","v":""},null,null,null,null,{"$f":"IF($A224>0,VLOOKUP($A224,'Last Document Status-HOMA'!$C:$Y,MATCH(K$9,'Last Document Status-HOMA'!$1:$1,0)-2,0),0)","v":0},{"$f":"IF($A224>0,VLOOKUP($A224,'Last Document Status-HOMA'!$C:$Y,MATCH(L$9,'Last Document Status-HOMA'!$1:$1,0)-2,0),0)","v":0},{"$f":"IF($A224>0,VLOOKUP($A224,'Last Document Status-HOMA'!$C:$Y,MATCH(M$9,'Last Document Status-HOMA'!$1:$1,0)-2,0),0)","v":"00:00:00"},{"$f":"IF($A224>0,VLOOKUP($A224,'Last Document Status-HOMA'!$C:$Y,MATCH(\"Outgoing Date\",'Last Document Status-HOMA'!$1:$1,0)-2,0),0)","v":"00:00:00"},{"$f":"IF($A224>0,VLOOKUP($A224,'Last Document Status-HOMA'!$C:$Y,MATCH(O$9,'Last Document Status-HOMA'!$1:$1,0)-2,0),0)","v":0}]
[null,null,null,null,null,{"$f":"IFERROR((VLOOKUP(#REF!,'5-PMS'!$F$14:$N$192,6,FALSE)),\"\")","v":""},null,null,null,null,{"$f":"IF($A225>0,VLOOKUP($A225,'Last Document Status-HOMA'!$C:$Y,MATCH(K$9,'Last Document Status-HOMA'!$1:$1,0)-2,0),0)","v":0},{"$f":"IF($A225>0,VLOOKUP($A225,'Last Document Status-HOMA'!$C:$Y,MATCH(L$9,'Last Document Status-HOMA'!$1:$1,0)-2,0),0)","v":0},{"$f":"IF($A225>0,VLOOKUP($A225,'Last Document Status-HOMA'!$C:$Y,MATCH(M$9,'Last Document Status-HOMA'!$1:$1,0)-2,0),0)","v":"00:00:00"},{"$f":"IF($A225>0,VLOOKUP($A225,'Last Document Status-HOMA'!$C:$Y,MATCH(\"Outgoing Date\",'Last Document Status-HOMA'!$1:$1,0)-2,0),0)","v":"00:00:00"},{"$f":"IF($A225>0,VLOOKUP($A225,'Last Document Status-HOMA'!$C:$Y,MATCH(O$9,'Last Document Status-HOMA'!$1:$1,0)-2,0),0)","v":0}]
[null,null,null,null,null,{"$f":"IFERROR((VLOOKUP(#REF!,'5-PMS'!$F$14:$N$192,6,FALSE)),\"\")","v":""},null,null,null,null,{"$f":"IF($A226>0,VLOOKUP($A226,'Last Document Status-HOMA'!$C:$Y,MATCH(K$9,'Last Document Status-HOMA'!$1:$1,0)-2,0),0)","v":0},{"$f":"IF($A226>0,VLOOKUP($A226,'Last Document Status-HOMA'!$C:$Y,MATCH(L$9,'Last Document Status-HOMA'!$1:$1,0)-2,0),0)","v":0},{"$f":"IF($A226>0,VLOOKUP($A226,'Last Document Status-HOMA'!$C:$Y,MATCH(M$9,'Last Document Status-HOMA'!$1:$1,0)-2,0),0)","v":"00:00:00"},{"$f":"IF($A226>0,VLOOKUP($A226,'Last Document Status-HOMA'!$C:$Y,MATCH(\"Outgoing Date\",'Last Document Status-HOMA'!$1:$1,0)-2,0),0)","v":"00:00:00"},{"$f":"IF($A226>0,VLOOKUP($A226,'Last Document Status-HOMA'!$C:$Y,MATCH(O$9,'Last Document Status-HOMA'!$1:$1,0)-2,0),0)","v":0}]
[null,null,null,null,null,{"$f":"IFERROR((VLOOKUP(#REF!,'5-PMS'!$F$14:$N$192,6,FALSE)),\"\")","v":""},null,null,null,null,{"$f":"IF($A227>0,VLOOKUP($A227,'Last Document Status-HOMA'!$C:$Y,MATCH(K$9,'Last Document Status-HOMA'!$1:$1,0)-2,0),0)","v":0},{"$f":"IF($A227>0,VLOOKUP($A227,'Last Document Status-HOMA'!$C:$Y,MATCH(L$9,'Last Document Status-HOMA'!$1:$1,0)-2,0),0)","v":0},{"$f":"IF($A227>0,VLOOKUP($A227,'Last Document Status-HOMA'!$C:$Y,MATCH(M$9,'Last Document Status-HOMA'!$1:$1,0)-2,0),0)","v":"00:00:00"},{"$f":"IF($A227>0,VLOOKUP($A227,'Last Document Status-HOMA'!$C:$Y,MATCH(\"Outgoing Date\",'Last Document Status-HOMA'!$1:$1,0)-2,0),0)","v":"00:00:00"},{"$f":"IF($A227>0,VLOOKUP($A227,'Last Document Status-HOMA'!$C:$Y,MATCH(O$9,'Last Document Status-HOMA'!$1:$1,0)-2,0),0)","v":0}]
[null,null,null,null,null,{"$f":"IFERROR((VLOOKUP(#REF!,'5-PMS'!$F$14:$N$192,6,FALSE)),\"\")","v":""},null,null,null,null,{"$f":"IF($A228>0,VLOOKUP($A228,'Last Document Status-HOMA'!$C:$Y,MATCH(K$9,'Last Document Status-HOMA'!$1:$1,0)-2,0),0)","v":0},{"$f":"IF($A228>0,VLOOKUP($A228,'Last Document Status-HOMA'!$C:$Y,MATCH(L$9,'Last Document Status-HOMA'!$1:$1,0)-2,0),0)","v":0},{"$f":"IF($A228>0,VLOOKUP($A228,'Last Document Status-HOMA'!$C:$Y,MATCH(M$9,'Last Document Status-HOMA'!$1:$1,0)-2,0),0)","v":"00:00:00"},{"$f":"IF($A228>0,VLOOKUP($A228,'Last Document Status-HOMA'!$C:$Y,MATCH(\"Outgoing Date\",'Last Document Status-HOMA'!$1:$1,0)-2,0),0)","v":"00:00:00"},{"$f":"IF($A228>0,VLOOKUP($A228,'Last Document Status-HOMA'!$C:$Y,MATCH(O$9,'Last Document Status-HOMA'!$1:$1,0)-2,0),0)","v":0}]
[null,null,null,null,null,{"$f":"IFERROR((VLOOKUP(#REF!,'5-PMS'!$F$14:$N$192,6,FALSE)),\"\")","v":""},null,null,null,null,{"$f":"IF($A229>0,VLOOKUP($A229,'Last Document Status-HOMA'!$C:$Y,MATCH(K$9,'Last Document Status-HOMA'!$1:$1,0)-2,0),0)","v":0},{"$f":"IF($A229>0,VLOOKUP($A229,'Last Document Status-HOMA'!$C:$Y,MATCH(L$9,'Last Document Status-HOMA'!$1:$1,0)-2,0),0)","v":0},{"$f":"IF($A229>0,VLOOKUP($A229,'Last Document Status-HOMA'!$C:$Y,MATCH(M$9,'Last Document Status-HOMA'!$1:$1,0)-2,0),0)","v":"00:00:00"},{"$f":"IF($A229>0,VLOOKUP($A229,'Last Document Status-HOMA'!$C:$Y,MATCH(\"Outgoing Date\",'Last Document Status-HOMA'!$1:$1,0)-2,0),0)","v":"00:00:00"},{"$f":"IF($A229>0,VLOOKUP($A229,'Last Document Status-HOMA'!$C:$Y,MATCH(O$9,'Last Document Status-HOMA'!$1:$1,0)-2,0),0)","v":0}]
[null,null,null,null,null,{"$f":"IFERROR((VLOOKUP(#REF!,'5-PMS'!$F$14:$N$192,6,FALSE)),\"\")","v":""},null,null,null,null,{"$f":"IF($A230>0,VLOOKUP($A230,'Last Document Status-HOMA'!$C:$Y,MATCH(K$9,'Last Document Status-HOMA'!$1:$1,0)-2,0),0)","v":0},{"$f":"IF($A230>0,VLOOKUP($A230,'Last Document Status-HOMA'!$C:$Y,MATCH(L$9,'Last Document Status-HOMA'!$1:$1,0)-2,0),0)","v":0},{"$f":"IF($A230>0,VLOOKUP($A230,'Last Document Status-HOMA'!$C:$Y,MATCH(M$9,'Last Document Status-HOMA'!$1:$1,0)-2,0),0)","v":"00:00:00"},{"$f":"IF($A230>0,VLOOKUP($A230,'Last Document Status-HOMA'!$C:$Y,MATCH(\"Outgoing Date\",'Last Document Status-HOMA'!$1:$1,0)-2,0),0)","v":"00:00:00"},{"$f":"IF($A230>0,VLOOKUP($A230,'Last Document Status-HOMA'!$C:$Y,MATCH(O$9,'Last Document Status-HOMA'!$1:$1,0)-2,0),0)","v":0}]
[null,null,null,null,null,{"$f":"IFERROR((VLOOKUP(#REF!,'5-PMS'!$F$14:$N$192,6,FALSE)),\"\")","v":""},null,null,null,null,{"$f":"IF($A231>0,VLOOKUP($A231,'Last Document Status-HOMA'!$C:$Y,MATCH(K$9,'Last Document Status-HOMA'!$1:$1,0)-2,0),0)","v":0},{"$f":"IF($A231>0,VLOOKUP($A231,'Last Document Status-HOMA'!$C:$Y,MATCH(L$9,'Last Document Status-HOMA'!$1:$1,0)-2,0),0)","v":0},{"$f":"IF($A231>0,VLOOKUP($A231,'Last Document Status-HOMA'!$C:$Y,MATCH(M$9,'Last Document Status-HOMA'!$1:$1,0)-2,0),0)","v":"00:00:00"},{"$f":"IF($A231>0,VLOOKUP($A231,'Last Document Status-HOMA'!$C:$Y,MATCH(\"Outgoing Date\",'Last Document Status-HOMA'!$1:$1,0)-2,0),0)","v":"00:00:00"},{"$f":"IF($A231>0,VLOOKUP($A231,'Last Document Status-HOMA'!$C:$Y,MATCH(O$9,'Last Document Status-HOMA'!$1:$1,0)-2,0),0)","v":0}]
[null,null,null,null,null,{"$f":"IFERROR((VLOOKUP(#REF!,'5-PMS'!$F$14:$N$192,6,FALSE)),\"\")","v":""},null,null,null,null,{"$f":"IF($A232>0,VLOOKUP($A232,'Last Document Status-HOMA'!$C:$Y,MATCH(K$9,'Last Document Status-HOMA'!$1:$1,0)-2,0),0)","v":0},{"$f":"IF($A232>0,VLOOKUP($A232,'Last Document Status-HOMA'!$C:$Y,MATCH(L$9,'Last Document Status-HOMA'!$1:$1,0)-2,0),0)","v":0},{"$f":"IF($A232>0,VLOOKUP($A232,'Last Document Status-HOMA'!$C:$Y,MATCH(M$9,'Last Document Status-HOMA'!$1:$1,0)-2,0),0)","v":"00:00:00"},{"$f":"IF($A232>0,VLOOKUP($A232,'Last Document Status-HOMA'!$C:$Y,MATCH(\"Outgoing Date\",'Last Document Status-HOMA'!$1:$1,0)-2,0),0)","v":"00:00:00"},{"$f":"IF($A232>0,VLOOKUP($A232,'Last Document Status-HOMA'!$C:$Y,MATCH(O$9,'Last Document Status-HOMA'!$1:$1,0)-2,0),0)","v":0}]
[null,null,null,null,null,{"$f":"IFERROR((VLOOKUP(#REF!,'5-PMS'!$F$14:$N$192,6,FALSE)),\"\")","v":""},null,null,null,null,{"$f":"IF($A233>0,VLOOKUP($A233,'Last Document Status-HOMA'!$C:$Y,MATCH(K$9,'Last Document Status-HOMA'!$1:$1,0)-2,0),0)","v":0},{"$f":"IF($A233>0,VLOOKUP($A233,'Last Document Status-HOMA'!$C:$Y,MATCH(L$9,'Last Document Status-HOMA'!$1:$1,0)-2,0),0)","v":0},{"$f":"IF($A233>0,VLOOKUP($A233,'Last Document Status-HOMA'!$C:$Y,MATCH(M$9,'Last Document Status-HOMA'!$1:$1,0)-2,0),0)","v":"00:00:00"},{"$f":"IF($A233>0,VLOOKUP($A233,'Last Document Status-HOMA'!$C:$Y,MATCH(\"Outgoing Date\",'Last Document Status-HOMA'!$1:$1,0)-2,0),0)","v":"00:00:00"},{"$f":"IF($A233>0,VLOOKUP($A233,'Last Document Status-HOMA'!$C:$Y,MATCH(O$9,'Last Document Status-HOMA'!$1:$1,0)-2,0),0)","v":0}]
[null,null,null,null,null,{"$f":"IFERROR((VLOOKUP(#REF!,'5-PMS'!$F$14:$N$192,6,FALSE)),\"\")","v":""},null,null,null,null,{"$f":"IF($A234>0,VLOOKUP($A234,'Last Document Status-HOMA'!$C:$Y,MATCH(K$9,'Last Document Status-HOMA'!$1:$1,0)-2,0),0)","v":0},{"$f":"IF($A234>0,VLOOKUP($A234,'Last Document Status-HOMA'!$C:$Y,MATCH(L$9,'Last Document Status-HOMA'!$1:$1,0)-2,0),0)","v":0},{"$f":"IF($A234>0,VLOOKUP($A234,'Last Document Status-HOMA'!$C:$Y,MATCH(M$9,'Last Document Status-HOMA'!$1:$1,0)-2,0),0)","v":"00:00:00"},{"$f":"IF($A234>0,VLOOKUP($A234,'Last Document Status-HOMA'!$C:$Y,MATCH(\"Outgoing Date\",'Last Document Status-HOMA'!$1:$1,0)-2,0),0)","v":"00:00:00"},{"$f":"IF($A234>0,VLOOKUP($A234,'Last Document Status-HOMA'!$C:$Y,MATCH(O$9,'Last Document Status-HOMA'!$1:$1,0)-2,0),0)","v":0}]
[null,null,null,null,null,{"$f":"IFERROR((VLOOKUP(#REF!,'5-PMS'!$F$14:$N$192,6,FALSE)),\"\")","v":""},null,null,null,null,{"$f":"IF($A235>0,VLOOKUP($A235,'Last Document Status-HOMA'!$C:$Y,MATCH(K$9,'Last Document Status-HOMA'!$1:$1,0)-2,0),0)","v":0},{"$f":"IF($A235>0,VLOOKUP($A235,'Last Document Status-HOMA'!$C:$Y,MATCH(L$9,'Last Document Status-HOMA'!$1:$1,0)-2,0),0)","v":0},{"$f":"IF($A235>0,VLOOKUP($A235,'Last Document Status-HOMA'!$C:$Y,MATCH(M$9,'Last Document Status-HOMA'!$1:$1,0)-2,0),0)","v":"00:00:00"},{"$f":"IF($A235>0,VLOOKUP($A235,'Last Document Status-HOMA'!$C:$Y,MATCH(\"Outgoing Date\",'Last Document Status-HOMA'!$1:$1,0)-2,0),0)","v":"00:00:00"},{"$f":"IF($A235>0,VLOOKUP($A235,'Last Document Status-HOMA'!$C:$Y,MATCH(O$9,'Last Document Status-HOMA'!$1:$1,0)-2,0),0)","v":0}]
[null,null,null,null,null,{"$f":"IFERROR((VLOOKUP(#REF!,'5-PMS'!$F$14:$N$192,6,FALSE)),\"\")","v":""},null,null,null,null,{"$f":"IF($A236>0,VLOOKUP($A236,'Last Document Status-HOMA'!$C:$Y,MATCH(K$9,'Last Document Status-HOMA'!$1:$1,0)-2,0),0)","v":0},{"$f":"IF($A236>0,VLOOKUP($A236,'Last Document Status-HOMA'!$C:$Y,MATCH(L$9,'Last Document Status-HOMA'!$1:$1,0)-2,0),0)","v":0},{"$f":"IF($A236>0,VLOOKUP($A236,'Last Document Status-HOMA'!$C:$Y,MATCH(M$9,'Last Document Status-HOMA'!$1:$1,0)-2,0),0)","v":"00:00:00"},{"$f":"IF($A236>0,VLOOKUP($A236,'Last Document Status-HOMA'!$C:$Y,MATCH(\"Outgoing Date\",'Last Document Status-HOMA'!$1:$1,0)-2,0),0)","v":"00:00:00"},{"$f":"IF($A236>0,VLOOKUP($A236,'Last Document Status-HOMA'!$C:$Y,MATCH(O$9,'Last Document Status-HOMA'!$1:$1,0)-2,0),0)","v":0}]
[null,null,null,null,null,{"$f":"IFERROR((VLOOKUP(#REF!,'5-PMS'!$F$14:$N$192,6,FALSE)),\"\")","v":""},null,null,null,null,{"$f":"IF($A237>0,VLOOKUP($A237,'Last Document Status-HOMA'!$C:$Y,MATCH(K$9,'Last Document Status-HOMA'!$1:$1,0)-2,0),0)","v":0},{"$f":"IF($A237>0,VLOOKUP($A237,'Last Document Status-HOMA'!$C:$Y,MATCH(L$9,'Last Document Status-HOMA'!$1:$1,0)-2,0),0)","v":0},{"$f":"IF($A237>0,VLOOKUP($A237,'Last Document Status-HOMA'!$C:$Y,MATCH(M$9,'Last Document Status-HOMA'!$1:$1,0)-2,0),0)","v":"00:00:00"},{"$f":"IF($A237>0,VLOOKUP($A237,'Last Document Status-HOMA'!$C:$Y,MATCH(\"Outgoing Date\",'Last Document Status-HOMA'!$1:$1,0)-2,0),0)","v":"00:00:00"},{"$f":"IF($A237>0,VLOOKUP($A237,'Last Document Status-HOMA'!$C:$Y,MATCH(O$9,'Last Document Status-HOMA'!$1:$1,0)-2,0),0)","v":0}]
[null,null,null,null,null,{"$f":"IFERROR((VLOOKUP(#REF!,'5-PMS'!$F$14:$N$192,6,FALSE)),\"\")","v":""},null,null,null,null,{"$f":"IF($A238>0,VLOOKUP($A238,'Last Document Status-HOMA'!$C:$Y,MATCH(K$9,'Last Document Status-HOMA'!$1:$1,0)-2,0),0)","v":0},{"$f":"IF($A238>0,VLOOKUP($A238,'Last Document Status-HOMA'!$C:$Y,MATCH(L$9,'Last Document Status-HOMA'!$1:$1,0)-2,0),0)","v":0},{"$f":"IF($A238>0,VLOOKUP($A238,'Last Document Status-HOMA'!$C:$Y,MATCH(M$9,'Last Document Status-HOMA'!$1:$1,0)-2,0),0)","v":"00:00:00"},{"$f":"IF($A238>0,VLOOKUP($A238,'Last Document Status-HOMA'!$C:$Y,MATCH(\"Outgoing Date\",'Last Document Status-HOMA'!$1:$1,0)-2,0),0)","v":"00:00:00"},{"$f":"IF($A238>0,VLOOKUP($A238,'Last Document Status-HOMA'!$C:$Y,MATCH(O$9,'Last Document Status-HOMA'!$1:$1,0)-2,0),0)","v":0}]
[null,null,null,null,null,{"$f":"IFERROR((VLOOKUP(#REF!,'5-PMS'!$F$14:$N$192,6,FALSE)),\"\")","v":""},null,null,null,null,{"$f":"IF($A239>0,VLOOKUP($A239,'Last Document Status-HOMA'!$C:$Y,MATCH(K$9,'Last Document Status-HOMA'!$1:$1,0)-2,0),0)","v":0},{"$f":"IF($A239>0,VLOOKUP($A239,'Last Document Status-HOMA'!$C:$Y,MATCH(L$9,'Last Document Status-HOMA'!$1:$1,0)-2,0),0)","v":0},{"$f":"IF($A239>0,VLOOKUP($A239,'Last Document Status-HOMA'!$C:$Y,MATCH(M$9,'Last Document Status-HOMA'!$1:$1,0)-2,0),0)","v":"00:00:00"},{"$f":"IF($A239>0,VLOOKUP($A239,'Last Document Status-HOMA'!$C:$Y,MATCH(\"Outgoing Date\",'Last Document Status-HOMA'!$1:$1,0)-2,0),0)","v":"00:00:00"},{"$f":"IF($A239>0,VLOOKUP($A239,'Last Document Status-HOMA'!$C:$Y,MATCH(O$9,'Last Document Status-HOMA'!$1:$1,0)-2,0),0)","v":0}]
[null,null,null,null,null,{"$f":"IFERROR((VLOOKUP(#REF!,'5-PMS'!$F$14:$N$192,6,FALSE)),\"\")","v":""},null,null,null,null,{"$f":"IF($A240>0,VLOOKUP($A240,'Last Document Status-HOMA'!$C:$Y,MATCH(K$9,'Last Document Status-HOMA'!$1:$1,0)-2,0),0)","v":0},{"$f":"IF($A240>0,VLOOKUP($A240,'Last Document Status-HOMA'!$C:$Y,MATCH(L$9,'Last Document Status-HOMA'!$1:$1,0)-2,0),0)","v":0},{"$f":"IF($A240>0,VLOOKUP($A240,'Last Document Status-HOMA'!$C:$Y,MATCH(M$9,'Last Document Status-HOMA'!$1:$1,0)-2,0),0)","v":"00:00:00"},{"$f":"IF($A240>0,VLOOKUP($A240,'Last Document Status-HOMA'!$C:$Y,MATCH(\"Outgoing Date\",'Last Document Status-HOMA'!$1:$1,0)-2,0),0)","v":"00:00:00"},{"$f":"IF($A240>0,VLOOKUP($A240,'Last Document Status-HOMA'!$C:$Y,MATCH(O$9,'Last Document Status-HOMA'!$1:$1,0)-2,0),0)","v":0}]
[null,null,null,null,null,{"$f":"IFERROR((VLOOKUP(#REF!,'5-PMS'!$F$14:$N$192,6,FALSE)),\"\")","v":""},null,null,null,null,{"$f":"IF($A241>0,VLOOKUP($A241,'Last Document Status-HOMA'!$C:$Y,MATCH(K$9,'Last Document Status-HOMA'!$1:$1,0)-2,0),0)","v":0},{"$f":"IF($A241>0,VLOOKUP($A241,'Last Document Status-HOMA'!$C:$Y,MATCH(L$9,'Last Document Status-HOMA'!$1:$1,0)-2,0),0)","v":0},{"$f":"IF($A241>0,VLOOKUP($A241,'Last Document Status-HOMA'!$C:$Y,MATCH(M$9,'Last Document Status-HOMA'!$1:$1,0)-2,0),0)","v":"00:00:00"},{"$f":"IF($A241>0,VLOOKUP($A241,'Last Document Status-HOMA'!$C:$Y,MATCH(\"Outgoing Date\",'Last Document Status-HOMA'!$1:$1,0)-2,0),0)","v":"00:00:00"},{"$f":"IF($A241>0,VLOOKUP($A241,'Last Document Status-HOMA'!$C:$Y,MATCH(O$9,'Last Document Status-HOMA'!$1:$1,0)-2,0),0)","v":0}]
[null,null,null,null,null,{"$f":"IFERROR((VLOOKUP(#REF!,'5-PMS'!$F$14:$N$192,6,FALSE)),\"\")","v":""},null,null,null,null,{"$f":"IF($A242>0,VLOOKUP($A242,'Last Document Status-HOMA'!$C:$Y,MATCH(K$9,'Last Document Status-HOMA'!$1:$1,0)-2,0),0)","v":0},{"$f":"IF($A242>0,VLOOKUP($A242,'Last Document Status-HOMA'!$C:$Y,MATCH(L$9,'Last Document Status-HOMA'!$1:$1,0)-2,0),0)","v":0},{"$f":"IF($A242>0,VLOOKUP($A242,'Last Document Status-HOMA'!$C:$Y,MATCH(M$9,'Last Document Status-HOMA'!$1:$1,0)-2,0),0)","v":"00:00:00"},{"$f":"IF($A242>0,VLOOKUP($A242,'Last Document Status-HOMA'!$C:$Y,MATCH(\"Outgoing Date\",'Last Document Status-HOMA'!$1:$1,0)-2,0),0)","v":"00:00:00"},{"$f":"IF($A242>0,VLOOKUP($A242,'Last Document Status-HOMA'!$C:$Y,MATCH(O$9,'Last Document Status-HOMA'!$1:$1,0)-2,0),0)","v":0}]
[null,null,null,null,null,{"$f":"IFERROR((VLOOKUP(#REF!,'5-PMS'!$F$14:$N$192,6,FALSE)),\"\")","v":""},null,null,null,null,{"$f":"IF($A243>0,VLOOKUP($A243,'Last Document Status-HOMA'!$C:$Y,MATCH(K$9,'Last Document Status-HOMA'!$1:$1,0)-2,0),0)","v":0},{"$f":"IF($A243>0,VLOOKUP($A243,'Last Document Status-HOMA'!$C:$Y,MATCH(L$9,'Last Document Status-HOMA'!$1:$1,0)-2,0),0)","v":0},{"$f":"IF($A243>0,VLOOKUP($A243,'Last Document Status-HOMA'!$C:$Y,MATCH(M$9,'Last Document Status-HOMA'!$1:$1,0)-2,0),0)","v":"00:00:00"},{"$f":"IF($A243>0,VLOOKUP($A243,'Last Document Status-HOMA'!$C:$Y,MATCH(\"Outgoing Date\",'Last Document Status-HOMA'!$1:$1,0)-2,0),0)","v":"00:00:00"},{"$f":"IF($A243>0,VLOOKUP($A243,'Last Document Status-HOMA'!$C:$Y,MATCH(O$9,'Last Document Status-HOMA'!$1:$1,0)-2,0),0)","v":0}]
[null,null,null,null,null,{"$f":"IFERROR((VLOOKUP(#REF!,'5-PMS'!$F$14:$N$192,6,FALSE)),\"\")","v":""},null,null,null,null,{"$f":"IF($A244>0,VLOOKUP($A244,'Last Document Status-HOMA'!$C:$Y,MATCH(K$9,'Last Document Status-HOMA'!$1:$1,0)-2,0),0)","v":0},{"$f":"IF($A244>0,VLOOKUP($A244,'Last Document Status-HOMA'!$C:$Y,MATCH(L$9,'Last Document Status-HOMA'!$1:$1,0)-2,0),0)","v":0},{"$f":"IF($A244>0,VLOOKUP($A244,'Last Document Status-HOMA'!$C:$Y,MATCH(M$9,'Last Document Status-HOMA'!$1:$1,0)-2,0),0)","v":"00:00:00"},{"$f":"IF($A244>0,VLOOKUP($A244,'Last Document Status-HOMA'!$C:$Y,MATCH(\"Outgoing Date\",'Last Document Status-HOMA'!$1:$1,0)-2,0),0)","v":"00:00:00"},{"$f":"IF($A244>0,VLOOKUP($A244,'Last Document Status-HOMA'!$C:$Y,MATCH(O$9,'Last Document Status-HOMA'!$1:$1,0)-2,0),0)","v":0}]
[null,null,null,null,null,{"$f":"IFERROR((VLOOKUP(#REF!,'5-PMS'!$F$14:$N$192,6,FALSE)),\"\")","v":""},null,null,null,null,{"$f":"IF($A245>0,VLOOKUP($A245,'Last Document Status-HOMA'!$C:$Y,MATCH(K$9,'Last Document Status-HOMA'!$1:$1,0)-2,0),0)","v":0},{"$f":"IF($A245>0,VLOOKUP($A245,'Last Document Status-HOMA'!$C:$Y,MATCH(L$9,'Last Document Status-HOMA'!$1:$1,0)-2,0),0)","v":0},{"$f":"IF($A245>0,VLOOKUP($A245,'Last Document Status-HOMA'!$C:$Y,MATCH(M$9,'Last Document Status-HOMA'!$1:$1,0)-2,0),0)","v":"00:00:00"},{"$f":"IF($A245>0,VLOOKUP($A245,'Last Document Status-HOMA'!$C:$Y,MATCH(\"Outgoing Date\",'Last Document Status-HOMA'!$1:$1,0)-2,0),0)","v":"00:00:00"},{"$f":"IF($A245>0,VLOOKUP($A245,'Last Document Status-HOMA'!$C:$Y,MATCH(O$9,'Last Document Status-HOMA'!$1:$1,0)-2,0),0)","v":0}]
[null,null,null,null,null,{"$f":"IFERROR((VLOOKUP(#REF!,'5-PMS'!$F$14:$N$192,6,FALSE)),\"\")","v":""},null,null,null,null,{"$f":"IF($A246>0,VLOOKUP($A246,'Last Document Status-HOMA'!$C:$Y,MATCH(K$9,'Last Document Status-HOMA'!$1:$1,0)-2,0),0)","v":0},{"$f":"IF($A246>0,VLOOKUP($A246,'Last Document Status-HOMA'!$C:$Y,MATCH(L$9,'Last Document Status-HOMA'!$1:$1,0)-2,0),0)","v":0},{"$f":"IF($A246>0,VLOOKUP($A246,'Last Document Status-HOMA'!$C:$Y,MATCH(M$9,'Last Document Status-HOMA'!$1:$1,0)-2,0),0)","v":"00:00:00"},{"$f":"IF($A246>0,VLOOKUP($A246,'Last Document Status-HOMA'!$C:$Y,MATCH(\"Outgoing Date\",'Last Document Status-HOMA'!$1:$1,0)-2,0),0)","v":"00:00:00"},{"$f":"IF($A246>0,VLOOKUP($A246,'Last Document Status-HOMA'!$C:$Y,MATCH(O$9,'Last Document Status-HOMA'!$1:$1,0)-2,0),0)","v":0}]
[null,null,null,null,null,{"$f":"IFERROR((VLOOKUP(#REF!,'5-PMS'!$F$14:$N$192,6,FALSE)),\"\")","v":""},null,null,null,null,{"$f":"IF($A247>0,VLOOKUP($A247,'Last Document Status-HOMA'!$C:$Y,MATCH(K$9,'Last Document Status-HOMA'!$1:$1,0)-2,0),0)","v":0},{"$f":"IF($A247>0,VLOOKUP($A247,'Last Document Status-HOMA'!$C:$Y,MATCH(L$9,'Last Document Status-HOMA'!$1:$1,0)-2,0),0)","v":0},{"$f":"IF($A247>0,VLOOKUP($A247,'Last Document Status-HOMA'!$C:$Y,MATCH(M$9,'Last Document Status-HOMA'!$1:$1,0)-2,0),0)","v":"00:00:00"},{"$f":"IF($A247>0,VLOOKUP($A247,'Last Document Status-HOMA'!$C:$Y,MATCH(\"Outgoing Date\",'Last Document Status-HOMA'!$1:$1,0)-2,0),0)","v":"00:00:00"},{"$f":"IF($A247>0,VLOOKUP($A247,'Last Document Status-HOMA'!$C:$Y,MATCH(O$9,'Last Document Status-HOMA'!$1:$1,0)-2,0),0)","v":0}]
[null,null,null,null,null,{"$f":"IFERROR((VLOOKUP(#REF!,'5-PMS'!$F$14:$N$192,6,FALSE)),\"\")","v":""},null,null,null,null,{"$f":"IF($A248>0,VLOOKUP($A248,'Last Document Status-HOMA'!$C:$Y,MATCH(K$9,'Last Document Status-HOMA'!$1:$1,0)-2,0),0)","v":0},{"$f":"IF($A248>0,VLOOKUP($A248,'Last Document Status-HOMA'!$C:$Y,MATCH(L$9,'Last Document Status-HOMA'!$1:$1,0)-2,0),0)","v":0},{"$f":"IF($A248>0,VLOOKUP($A248,'Last Document Status-HOMA'!$C:$Y,MATCH(M$9,'Last Document Status-HOMA'!$1:$1,0)-2,0),0)","v":"00:00:00"},{"$f":"IF($A248>0,VLOOKUP($A248,'Last Document Status-HOMA'!$C:$Y,MATCH(\"Outgoing Date\",'Last Document Status-HOMA'!$1:$1,0)-2,0),0)","v":"00:00:00"},{"$f":"IF($A248>0,VLOOKUP($A248,'Last Document Status-HOMA'!$C:$Y,MATCH(O$9,'Last Document Status-HOMA'!$1:$1,0)-2,0),0)","v":0}]
[null,null,null,null,null,{"$f":"IFERROR((VLOOKUP(#REF!,'5-PMS'!$F$14:$N$192,6,FALSE)),\"\")","v":""},null,null,null,null,{"$f":"IF($A249>0,VLOOKUP($A249,'Last Document Status-HOMA'!$C:$Y,MATCH(K$9,'Last Document Status-HOMA'!$1:$1,0)-2,0),0)","v":0},{"$f":"IF($A249>0,VLOOKUP($A249,'Last Document Status-HOMA'!$C:$Y,MATCH(L$9,'Last Document Status-HOMA'!$1:$1,0)-2,0),0)","v":0},{"$f":"IF($A249>0,VLOOKUP($A249,'Last Document Status-HOMA'!$C:$Y,MATCH(M$9,'Last Document Status-HOMA'!$1:$1,0)-2,0),0)","v":"00:00:00"},{"$f":"IF($A249>0,VLOOKUP($A249,'Last Document Status-HOMA'!$C:$Y,MATCH(\"Outgoing Date\",'Last Document Status-HOMA'!$1:$1,0)-2,0),0)","v":"00:00:00"},{"$f":"IF($A249>0,VLOOKUP($A249,'Last Document Status-HOMA'!$C:$Y,MATCH(O$9,'Last Document Status-HOMA'!$1:$1,0)-2,0),0)","v":0}]
[null,null,null,null,null,{"$f":"IFERROR((VLOOKUP(#REF!,'5-PMS'!$F$14:$N$192,6,FALSE)),\"\")","v":""},null,null,null,null,{"$f":"IF($A250>0,VLOOKUP($A250,'Last Document Status-HOMA'!$C:$Y,MATCH(K$9,'Last Document Status-HOMA'!$1:$1,0)-2,0),0)","v":0},{"$f":"IF($A250>0,VLOOKUP($A250,'Last Document Status-HOMA'!$C:$Y,MATCH(L$9,'Last Document Status-HOMA'!$1:$1,0)-2,0),0)","v":0},{"$f":"IF($A250>0,VLOOKUP($A250,'Last Document Status-HOMA'!$C:$Y,MATCH(M$9,'Last Document Status-HOMA'!$1:$1,0)-2,0),0)","v":"00:00:00"},{"$f":"IF($A250>0,VLOOKUP($A250,'Last Document Status-HOMA'!$C:$Y,MATCH(\"Outgoing Date\",'Last Document Status-HOMA'!$1:$1,0)-2,0),0)","v":"00:00:00"},{"$f":"IF($A250>0,VLOOKUP($A250,'Last Document Status-HOMA'!$C:$Y,MATCH(O$9,'Last Document Status-HOMA'!$1:$1,0)-2,0),0)","v":0}]
[null,null,null,null,null,{"$f":"IFERROR((VLOOKUP(#REF!,'5-PMS'!$F$14:$N$192,6,FALSE)),\"\")","v":""},null,null,null,null,{"$f":"IF($A251>0,VLOOKUP($A251,'Last Document Status-HOMA'!$C:$Y,MATCH(K$9,'Last Document Status-HOMA'!$1:$1,0)-2,0),0)","v":0},{"$f":"IF($A251>0,VLOOKUP($A251,'Last Document Status-HOMA'!$C:$Y,MATCH(L$9,'Last Document Status-HOMA'!$1:$1,0)-2,0),0)","v":0},{"$f":"IF($A251>0,VLOOKUP($A251,'Last Document Status-HOMA'!$C:$Y,MATCH(M$9,'Last Document Status-HOMA'!$1:$1,0)-2,0),0)","v":"00:00:00"},{"$f":"IF($A251>0,VLOOKUP($A251,'Last Document Status-HOMA'!$C:$Y,MATCH(\"Outgoing Date\",'Last Document Status-HOMA'!$1:$1,0)-2,0),0)","v":"00:00:00"},{"$f":"IF($A251>0,VLOOKUP($A251,'Last Document Status-HOMA'!$C:$Y,MATCH(O$9,'Last Document Status-HOMA'!$1:$1,0)-2,0),0)","v":0}]
[null,null,null,null,null,{"$f":"IFERROR((VLOOKUP(#REF!,'5-PMS'!$F$14:$N$192,6,FALSE)),\"\")","v":""},null,null,null,null,{"$f":"IF($A252>0,VLOOKUP($A252,'Last Document Status-HOMA'!$C:$Y,MATCH(K$9,'Last Document Status-HOMA'!$1:$1,0)-2,0),0)","v":0},{"$f":"IF($A252>0,VLOOKUP($A252,'Last Document Status-HOMA'!$C:$Y,MATCH(L$9,'Last Document Status-HOMA'!$1:$1,0)-2,0),0)","v":0},{"$f":"IF($A252>0,VLOOKUP($A252,'Last Document Status-HOMA'!$C:$Y,MATCH(M$9,'Last Document Status-HOMA'!$1:$1,0)-2,0),0)","v":"00:00:00"},{"$f":"IF($A252>0,VLOOKUP($A252,'Last Document Status-HOMA'!$C:$Y,MATCH(\"Outgoing Date\",'Last Document Status-HOMA'!$1:$1,0)-2,0),0)","v":"00:00:00"},{"$f":"IF($A252>0,VLOOKUP($A252,'Last Document Status-HOMA'!$C:$Y,MATCH(O$9,'Last Document Status-HOMA'!$1:$1,0)-2,0),0)","v":0}]
[null,null,null,null,null,{"$f":"IFERROR((VLOOKUP(#REF!,'5-PMS'!$F$14:$N$192,6,FALSE)),\"\")","v":""},null,null,null,null,{"$f":"IF($A253>0,VLOOKUP($A253,'Last Document Status-HOMA'!$C:$Y,MATCH(K$9,'Last Document Status-HOMA'!$1:$1,0)-2,0),0)","v":0},{"$f":"IF($A253>0,VLOOKUP($A253,'Last Document Status-HOMA'!$C:$Y,MATCH(L$9,'Last Document Status-HOMA'!$1:$1,0)-2,0),0)","v":0},{"$f":"IF($A253>0,VLOOKUP($A253,'Last Document Status-HOMA'!$C:$Y,MATCH(M$9,'Last Document Status-HOMA'!$1:$1,0)-2,0),0)","v":"00:00:00"},{"$f":"IF($A253>0,VLOOKUP($A253,'Last Document Status-HOMA'!$C:$Y,MATCH(\"Outgoing Date\",'Last Document Status-HOMA'!$1:$1,0)-2,0),0)","v":"00:00:00"},{"$f":"IF($A253>0,VLOOKUP($A253,'Last Document Status-HOMA'!$C:$Y,MATCH(O$9,'Last Document Status-HOMA'!$1:$1,0)-2,0),0)","v":0}]
[null,null,null,null,null,{"$f":"IFERROR((VLOOKUP(#REF!,'5-PMS'!$F$14:$N$192,6,FALSE)),\"\")","v":""},null,null,null,null,{"$f":"IF($A254>0,VLOOKUP($A254,'Last Document Status-HOMA'!$C:$Y,MATCH(K$9,'Last Document Status-HOMA'!$1:$1,0)-2,0),0)","v":0},{"$f":"IF($A254>0,VLOOKUP($A254,'Last Document Status-HOMA'!$C:$Y,MATCH(L$9,'Last Document Status-HOMA'!$1:$1,0)-2,0),0)","v":0},{"$f":"IF($A254>0,VLOOKUP($A254,'Last Document Status-HOMA'!$C:$Y,MATCH(M$9,'Last Document Status-HOMA'!$1:$1,0)-2,0),0)","v":"00:00:00"},{"$f":"IF($A254>0,VLOOKUP($A254,'Last Document Status-HOMA'!$C:$Y,MATCH(\"Outgoing Date\",'Last Document Status-HOMA'!$1:$1,0)-2,0),0)","v":"00:00:00"},{"$f":"IF($A254>0,VLOOKUP($A254,'Last Document Status-HOMA'!$C:$Y,MATCH(O$9,'Last Document Status-HOMA'!$1:$1,0)-2,0),0)","v":0}]
[null,null,null,null,null,{"$f":"IFERROR((VLOOKUP(#REF!,'5-PMS'!$F$14:$N$192,6,FALSE)),\"\")","v":""},null,null,null,null,{"$f":"IF($A255>0,VLOOKUP($A255,'Last Document Status-HOMA'!$C:$Y,MATCH(K$9,'Last Document Status-HOMA'!$1:$1,0)-2,0),0)","v":0},{"$f":"IF($A255>0,VLOOKUP($A255,'Last Document Status-HOMA'!$C:$Y,MATCH(L$9,'Last Document Status-HOMA'!$1:$1,0)-2,0),0)","v":0},{"$f":"IF($A255>0,VLOOKUP($A255,'Last Document Status-HOMA'!$C:$Y,MATCH(M$9,'Last Document Status-HOMA'!$1:$1,0)-2,0),0)","v":"00:00:00"},{"$f":"IF($A255>0,VLOOKUP($A255,'Last Document Status-HOMA'!$C:$Y,MATCH(\"Outgoing Date\",'Last Document Status-HOMA'!$1:$1,0)-2,0),0)","v":"00:00:00"},{"$f":"IF($A255>0,VLOOKUP($A255,'Last Document Status-HOMA'!$C:$Y,MATCH(O$9,'Last Document Status-HOMA'!$1:$1,0)-2,0),0)","v":0}]
[null,null,null,null,null,{"$f":"IFERROR((VLOOKUP(#REF!,'5-PMS'!$F$14:$N$192,6,FALSE)),\"\")","v":""},null,null,null,null,{"$f":"IF($A256>0,VLOOKUP($A256,'Last Document Status-HOMA'!$C:$Y,MATCH(K$9,'Last Document Status-HOMA'!$1:$1,0)-2,0),0)","v":0},{"$f":"IF($A256>0,VLOOKUP($A256,'Last Document Status-HOMA'!$C:$Y,MATCH(L$9,'Last Document Status-HOMA'!$1:$1,0)-2,0),0)","v":0},{"$f":"IF($A256>0,VLOOKUP($A256,'Last Document Status-HOMA'!$C:$Y,MATCH(M$9,'Last Document Status-HOMA'!$1:$1,0)-2,0),0)","v":"00:00:00"},{"$f":"IF($A256>0,VLOOKUP($A256,'Last Document Status-HOMA'!$C:$Y,MATCH(\"Outgoing Date\",'Last Document Status-HOMA'!$1:$1,0)-2,0),0)","v":"00:00:00"},{"$f":"IF($A256>0,VLOOKUP($A256,'Last Document Status-HOMA'!$C:$Y,MATCH(O$9,'Last Document Status-HOMA'!$1:$1,0)-2,0),0)","v":0}]
[null,null,null,null,null,{"$f":"IFERROR((VLOOKUP(#REF!,'5-PMS'!$F$14:$N$192,6,FALSE)),\"\")","v":""},null,null,null,null,{"$f":"IF($A257>0,VLOOKUP($A257,'Last Document Status-HOMA'!$C:$Y,MATCH(K$9,'Last Document Status-HOMA'!$1:$1,0)-2,0),0)","v":0},{"$f":"IF($A257>0,VLOOKUP($A257,'Last Document Status-HOMA'!$C:$Y,MATCH(L$9,'Last Document Status-HOMA'!$1:$1,0)-2,0),0)","v":0},{"$f":"IF($A257>0,VLOOKUP($A257,'Last Document Status-HOMA'!$C:$Y,MATCH(M$9,'Last Document Status-HOMA'!$1:$1,0)-2,0),0)","v":"00:00:00"},{"$f":"IF($A257>0,VLOOKUP($A257,'Last Document Status-HOMA'!$C:$Y,MATCH(\"Outgoing Date\",'Last Document Status-HOMA'!$1:$1,0)-2,0),0)","v":"00:00:00"},{"$f":"IF($A257>0,VLOOKUP($A257,'Last Document Status-HOMA'!$C:$Y,MATCH(O$9,'Last Document Status-HOMA'!$1:$1,0)-2,0),0)","v":0}]
[null,null,null,null,null,{"$f":"IFERROR((VLOOKUP(#REF!,'5-PMS'!$F$14:$N$192,6,FALSE)),\"\")","v":""},null,null,null,null,{"$f":"IF($A258>0,VLOOKUP($A258,'Last Document Status-HOMA'!$C:$Y,MATCH(K$9,'Last Document Status-HOMA'!$1:$1,0)-2,0),0)","v":0},{"$f":"IF($A258>0,VLOOKUP($A258,'Last Document Status-HOMA'!$C:$Y,MATCH(L$9,'Last Document Status-HOMA'!$1:$1,0)-2,0),0)","v":0},{"$f":"IF($A258>0,VLOOKUP($A258,'Last Document Status-HOMA'!$C:$Y,MATCH(M$9,'Last Document Status-HOMA'!$1:$1,0)-2,0),0)","v":"00:00:00"},{"$f":"IF($A258>0,VLOOKUP($A258,'Last Document Status-HOMA'!$C:$Y,MATCH(\"Outgoing Date\",'Last Document Status-HOMA'!$1:$1,0)-2,0),0)","v":"00:00:00"},{"$f":"IF($A258>0,VLOOKUP($A258,'Last Document Status-HOMA'!$C:$Y,MATCH(O$9,'Last Document Status-HOMA'!$1:$1,0)-2,0),0)","v":0}]
[null,null,null,null,null,{"$f":"IFERROR((VLOOKUP(#REF!,'5-PMS'!$F$14:$N$192,6,FALSE)),\"\")","v":""},null,null,null,null,{"$f":"IF($A259>0,VLOOKUP($A259,'Last Document Status-HOMA'!$C:$Y,MATCH(K$9,'Last Document Status-HOMA'!$1:$1,0)-2,0),0)","v":0},{"$f":"IF($A259>0,VLOOKUP($A259,'Last Document Status-HOMA'!$C:$Y,MATCH(L$9,'Last Document Status-HOMA'!$1:$1,0)-2,0),0)","v":0},{"$f":"IF($A259>0,VLOOKUP($A259,'Last Document Status-HOMA'!$C:$Y,MATCH(M$9,'Last Document Status-HOMA'!$1:$1,0)-2,0),0)","v":"00:00:00"},{"$f":"IF($A259>0,VLOOKUP($A259,'Last Document Status-HOMA'!$C:$Y,MATCH(\"Outgoing Date\",'Last Document Status-HOMA'!$1:$1,0)-2,0),0)","v":"00:00:00"},{"$f":"IF($A259>0,VLOOKUP($A259,'Last Document Status-HOMA'!$C:$Y,MATCH(O$9,'Last Document Status-HOMA'!$1:$1,0)-2,0),0)","v":0}]
[null,null,null,null,null,{"$f":"IFERROR((VLOOKUP(#REF!,'5-PMS'!$F$14:$N$192,6,FALSE)),\"\")","v":""},null,null,null,null,{"$f":"IF($A260>0,VLOOKUP($A260,'Last Document Status-HOMA'!$C:$Y,MATCH(K$9,'Last Document Status-HOMA'!$1:$1,0)-2,0),0)","v":0},{"$f":"IF($A260>0,VLOOKUP($A260,'Last Document Status-HOMA'!$C:$Y,MATCH(L$9,'Last Document Status-HOMA'!$1:$1,0)-2,0),0)","v":0},{"$f":"IF($A260>0,VLOOKUP($A260,'Last Document Status-HOMA'!$C:$Y,MATCH(M$9,'Last Document Status-HOMA'!$1:$1,0)-2,0),0)","v":"00:00:00"},{"$f":"IF($A260>0,VLOOKUP($A260,'Last Document Status-HOMA'!$C:$Y,MATCH(\"Outgoing Date\",'Last Document Status-HOMA'!$1:$1,0)-2,0),0)","v":"00:00:00"},{"$f":"IF($A260>0,VLOOKUP($A260,'Last Document Status-HOMA'!$C:$Y,MATCH(O$9,'Last Document Status-HOMA'!$1:$1,0)-2,0),0)","v":0}]
[null,null,null,null,null,{"$f":"IFERROR((VLOOKUP(#REF!,'5-PMS'!$F$14:$N$192,6,FALSE)),\"\")","v":""},null,null,null,null,{"$f":"IF($A261>0,VLOOKUP($A261,'Last Document Status-HOMA'!$C:$Y,MATCH(K$9,'Last Document Status-HOMA'!$1:$1,0)-2,0),0)","v":0},{"$f":"IF($A261>0,VLOOKUP($A261,'Last Document Status-HOMA'!$C:$Y,MATCH(L$9,'Last Document Status-HOMA'!$1:$1,0)-2,0),0)","v":0},{"$f":"IF($A261>0,VLOOKUP($A261,'Last Document Status-HOMA'!$C:$Y,MATCH(M$9,'Last Document Status-HOMA'!$1:$1,0)-2,0),0)","v":"00:00:00"},{"$f":"IF($A261>0,VLOOKUP($A261,'Last Document Status-HOMA'!$C:$Y,MATCH(\"Outgoing Date\",'Last Document Status-HOMA'!$1:$1,0)-2,0),0)","v":"00:00:00"},{"$f":"IF($A261>0,VLOOKUP($A261,'Last Document Status-HOMA'!$C:$Y,MATCH(O$9,'Last Document Status-HOMA'!$1:$1,0)-2,0),0)","v":0}]
[null,null,null,null,null,{"$f":"IFERROR((VLOOKUP(#REF!,'5-PMS'!$F$14:$N$192,6,FALSE)),\"\")","v":""},null,null,null,null,{"$f":"IF($A262>0,VLOOKUP($A262,'Last Document Status-HOMA'!$C:$Y,MATCH(K$9,'Last Document Status-HOMA'!$1:$1,0)-2,0),0)","v":0},{"$f":"IF($A262>0,VLOOKUP($A262,'Last Document Status-HOMA'!$C:$Y,MATCH(L$9,'Last Document Status-HOMA'!$1:$1,0)-2,0),0)","v":0},{"$f":"IF($A262>0,VLOOKUP($A262,'Last Document Status-HOMA'!$C:$Y,MATCH(M$9,'Last Document Status-HOMA'!$1:$1,0)-2,0),0)","v":"00:00:00"},{"$f":"IF($A262>0,VLOOKUP($A262,'Last Document Status-HOMA'!$C:$Y,MATCH(\"Outgoing Date\",'Last Document Status-HOMA'!$1:$1,0)-2,0),0)","v":"00:00:00"},{"$f":"IF($A262>0,VLOOKUP($A262,'Last Document Status-HOMA'!$C:$Y,MATCH(O$9,'Last Document Status-HOMA'!$1:$1,0)-2,0),0)","v":0}]
[null,null,null,null,null,{"$f":"IFERROR((VLOOKUP(#REF!,'5-PMS'!$F$14:$N$192,6,FALSE)),\"\")","v":""},null,null,null,null,{"$f":"IF($A263>0,VLOOKUP($A263,'Last Document Status-HOMA'!$C:$Y,MATCH(K$9,'Last Document Status-HOMA'!$1:$1,0)-2,0),0)","v":0},{"$f":"IF($A263>0,VLOOKUP($A263,'Last Document Status-HOMA'!$C:$Y,MATCH(L$9,'Last Document Status-HOMA'!$1:$1,0)-2,0),0)","v":0},{"$f":"IF($A263>0,VLOOKUP($A263,'Last Document Status-HOMA'!$C:$Y,MATCH(M$9,'Last Document Status-HOMA'!$1:$1,0)-2,0),0)","v":"00:00:00"},{"$f":"IF($A263>0,VLOOKUP($A263,'Last Document Status-HOMA'!$C:$Y,MATCH(\"Outgoing Date\",'Last Document Status-HOMA'!$1:$1,0)-2,0),0)","v":"00:00:00"},{"$f":"IF($A263>0,VLOOKUP($A263,'Last Document Status-HOMA'!$C:$Y,MATCH(O$9,'Last Document Status-HOMA'!$1:$1,0)-2,0),0)","v":0}]
[null,null,null,null,null,{"$f":"IFERROR((VLOOKUP(#REF!,'5-PMS'!$F$14:$N$192,6,FALSE)),\"\")","v":""},null,null,null,null,{"$f":"IF($A264>0,VLOOKUP($A264,'Last Document Status-HOMA'!$C:$Y,MATCH(K$9,'Last Document Status-HOMA'!$1:$1,0)-2,0),0)","v":0},{"$f":"IF($A264>0,VLOOKUP($A264,'Last Document Status-HOMA'!$C:$Y,MATCH(L$9,'Last Document Status-HOMA'!$1:$1,0)-2,0),0)","v":0},{"$f":"IF($A264>0,VLOOKUP($A264,'Last Document Status-HOMA'!$C:$Y,MATCH(M$9,'Last Document Status-HOMA'!$1:$1,0)-2,0),0)","v":"00:00:00"},{"$f":"IF($A264>0,VLOOKUP($A264,'Last Document Status-HOMA'!$C:$Y,MATCH(\"Outgoing Date\",'Last Document Status-HOMA'!$1:$1,0)-2,0),0)","v":"00:00:00"},{"$f":"IF($A264>0,VLOOKUP($A264,'Last Document Status-HOMA'!$C:$Y,MATCH(O$9,'Last Document Status-HOMA'!$1:$1,0)-2,0),0)","v":0}]
[null,null,null,null,null,{"$f":"IFERROR((VLOOKUP(#REF!,'5-PMS'!$F$14:$N$192,6,FALSE)),\"\")","v":""},null,null,null,null,{"$f":"IF($A265>0,VLOOKUP($A265,'Last Document Status-HOMA'!$C:$Y,MATCH(K$9,'Last Document Status-HOMA'!$1:$1,0)-2,0),0)","v":0},{"$f":"IF($A265>0,VLOOKUP($A265,'Last Document Status-HOMA'!$C:$Y,MATCH(L$9,'Last Document Status-HOMA'!$1:$1,0)-2,0),0)","v":0},{"$f":"IF($A265>0,VLOOKUP($A265,'Last Document Status-HOMA'!$C:$Y,MATCH(M$9,'Last Document Status-HOMA'!$1:$1,0)-2,0),0)","v":"00:00:00"},{"$f":"IF($A265>0,VLOOKUP($A265,'Last Document Status-HOMA'!$C:$Y,MATCH(\"Outgoing Date\",'Last Document Status-HOMA'!$1:$1,0)-2,0),0)","v":"00:00:00"},{"$f":"IF($A265>0,VLOOKUP($A265,'Last Document Status-HOMA'!$C:$Y,MATCH(O$9,'Last Document Status-HOMA'!$1:$1,0)-2,0),0)","v":0}]
[null,null,null,null,null,{"$f":"IFERROR((VLOOKUP(#REF!,'5-PMS'!$F$14:$N$192,6,FALSE)),\"\")","v":""},null,null,null,null,{"$f":"IF($A266>0,VLOOKUP($A266,'Last Document Status-HOMA'!$C:$Y,MATCH(K$9,'Last Document Status-HOMA'!$1:$1,0)-2,0),0)","v":0},{"$f":"IF($A266>0,VLOOKUP($A266,'Last Document Status-HOMA'!$C:$Y,MATCH(L$9,'Last Document Status-HOMA'!$1:$1,0)-2,0),0)","v":0},{"$f":"IF($A266>0,VLOOKUP($A266,'Last Document Status-HOMA'!$C:$Y,MATCH(M$9,'Last Document Status-HOMA'!$1:$1,0)-2,0),0)","v":"00:00:00"},{"$f":"IF($A266>0,VLOOKUP($A266,'Last Document Status-HOMA'!$C:$Y,MATCH(\"Outgoing Date\",'Last Document Status-HOMA'!$1:$1,0)-2,0),0)","v":"00:00:00"},{"$f":"IF($A266>0,VLOOKUP($A266,'Last Document Status-HOMA'!$C:$Y,MATCH(O$9,'Last Document Status-HOMA'!$1:$1,0)-2,0),0)","v":0}]
[null,null,null,null,null,{"$f":"IFERROR((VLOOKUP(#REF!,'5-PMS'!$F$14:$N$192,6,FALSE)),\"\")","v":""},null,null,null,null,{"$f":"IF($A267>0,VLOOKUP($A267,'Last Document Status-HOMA'!$C:$Y,MATCH(K$9,'Last Document Status-HOMA'!$1:$1,0)-2,0),0)","v":0},{"$f":"IF($A267>0,VLOOKUP($A267,'Last Document Status-HOMA'!$C:$Y,MATCH(L$9,'Last Document Status-HOMA'!$1:$1,0)-2,0),0)","v":0},{"$f":"IF($A267>0,VLOOKUP($A267,'Last Document Status-HOMA'!$C:$Y,MATCH(M$9,'Last Document Status-HOMA'!$1:$1,0)-2,0),0)","v":"00:00:00"},{"$f":"IF($A267>0,VLOOKUP($A267,'Last Document Status-HOMA'!$C:$Y,MATCH(\"Outgoing Date\",'Last Document Status-HOMA'!$1:$1,0)-2,0),0)","v":"00:00:00"},{"$f":"IF($A267>0,VLOOKUP($A267,'Last Document Status-HOMA'!$C:$Y,MATCH(O$9,'Last Document Status-HOMA'!$1:$1,0)-2,0),0)","v":0}]
[null,null,null,null,null,{"$f":"IFERROR((VLOOKUP(#REF!,'5-PMS'!$F$14:$N$192,6,FALSE)),\"\")","v":""},null,null,null,null,{"$f":"IF($A268>0,VLOOKUP($A268,'Last Document Status-HOMA'!$C:$Y,MATCH(K$9,'Last Document Status-HOMA'!$1:$1,0)-2,0),0)","v":0},{"$f":"IF($A268>0,VLOOKUP($A268,'Last Document Status-HOMA'!$C:$Y,MATCH(L$9,'Last Document Status-HOMA'!$1:$1,0)-2,0),0)","v":0},{"$f":"IF($A268>0,VLOOKUP($A268,'Last Document Status-HOMA'!$C:$Y,MATCH(M$9,'Last Document Status-HOMA'!$1:$1,0)-2,0),0)","v":"00:00:00"},{"$f":"IF($A268>0,VLOOKUP($A268,'Last Document Status-HOMA'!$C:$Y,MATCH(\"Outgoing Date\",'Last Document Status-HOMA'!$1:$1,0)-2,0),0)","v":"00:00:00"},{"$f":"IF($A268>0,VLOOKUP($A268,'Last Document Status-HOMA'!$C:$Y,MATCH(O$9,'Last Document Status-HOMA'!$1:$1,0)-2,0),0)","v":0}]
[null,null,null,null,null,{"$f":"IFERROR((VLOOKUP(#REF!,'5-PMS'!$F$14:$N$192,6,FALSE)),\"\")","v":""},null,null,null,null,{"$f":"IF($A269>0,VLOOKUP($A269,'Last Document Status-HOMA'!$C:$Y,MATCH(K$9,'Last Document Status-HOMA'!$1:$1,0)-2,0),0)","v":0},{"$f":"IF($A269>0,VLOOKUP($A269,'Last Document Status-HOMA'!$C:$Y,MATCH(L$9,'Last Document Status-HOMA'!$1:$1,0)-2,0),0)","v":0},{"$f":"IF($A269>0,VLOOKUP($A269,'Last Document Status-HOMA'!$C:$Y,MATCH(M$9,'Last Document Status-HOMA'!$1:$1,0)-2,0),0)","v":"00:00:00"},{"$f":"IF($A269>0,VLOOKUP($A269,'Last Document Status-HOMA'!$C:$Y,MATCH(\"Outgoing Date\",'Last Document Status-HOMA'!$1:$1,0)-2,0),0)","v":"00:00:00"},{"$f":"IF($A269>0,VLOOKUP($A269,'Last Document Status-HOMA'!$C:$Y,MATCH(O$9,'Last Document Status-HOMA'!$1:$1,0)-2,0),0)","v":0}]
[null,null,null,null,null,{"$f":"IFERROR((VLOOKUP(#REF!,'5-PMS'!$F$14:$N$192,6,FALSE)),\"\")","v":""},null,null,null,null,{"$f":"IF($A270>0,VLOOKUP($A270,'Last Document Status-HOMA'!$C:$Y,MATCH(K$9,'Last Document Status-HOMA'!$1:$1,0)-2,0),0)","v":0},{"$f":"IF($A270>0,VLOOKUP($A270,'Last Document Status-HOMA'!$C:$Y,MATCH(L$9,'Last Document Status-HOMA'!$1:$1,0)-2,0),0)","v":0},{"$f":"IF($A270>0,VLOOKUP($A270,'Last Document Status-HOMA'!$C:$Y,MATCH(M$9,'Last Document Status-HOMA'!$1:$1,0)-2,0),0)","v":"00:00:00"},{"$f":"IF($A270>0,VLOOKUP($A270,'Last Document Status-HOMA'!$C:$Y,MATCH(\"Outgoing Date\",'Last Document Status-HOMA'!$1:$1,0)-2,0),0)","v":"00:00:00"},{"$f":"IF($A270>0,VLOOKUP($A270,'Last Document Status-HOMA'!$C:$Y,MATCH(O$9,'Last Document Status-HOMA'!$1:$1,0)-2,0),0)","v":0}]
[null,null,null,null,null,{"$f":"IFERROR((VLOOKUP(#REF!,'5-PMS'!$F$14:$N$192,6,FALSE)),\"\")","v":""},null,null,null,null,{"$f":"IF($A271>0,VLOOKUP($A271,'Last Document Status-HOMA'!$C:$Y,MATCH(K$9,'Last Document Status-HOMA'!$1:$1,0)-2,0),0)","v":0},{"$f":"IF($A271>0,VLOOKUP($A271,'Last Document Status-HOMA'!$C:$Y,MATCH(L$9,'Last Document Status-HOMA'!$1:$1,0)-2,0),0)","v":0},{"$f":"IF($A271>0,VLOOKUP($A271,'Last Document Status-HOMA'!$C:$Y,MATCH(M$9,'Last Document Status-HOMA'!$1:$1,0)-2,0),0)","v":"00:00:00"},{"$f":"IF($A271>0,VLOOKUP($A271,'Last Document Status-HOMA'!$C:$Y,MATCH(\"Outgoing Date\",'Last Document Status-HOMA'!$1:$1,0)-2,0),0)","v":"00:00:00"},{"$f":"IF($A271>0,VLOOKUP($A271,'Last Document Status-HOMA'!$C:$Y,MATCH(O$9,'Last Document Status-HOMA'!$1:$1,0)-2,0),0)","v":0}]
[null,null,null,null,null,{"$f":"IFERROR((VLOOKUP(#REF!,'5-PMS'!$F$14:$N$192,6,FALSE)),\"\")","v":""},null,null,null,null,{"$f":"IF($A272>0,VLOOKUP($A272,'Last Document Status-HOMA'!$C:$Y,MATCH(K$9,'Last Document Status-HOMA'!$1:$1,0)-2,0),0)","v":0},{"$f":"IF($A272>0,VLOOKUP($A272,'Last Document Status-HOMA'!$C:$Y,MATCH(L$9,'Last Document Status-HOMA'!$1:$1,0)-2,0),0)","v":0},{"$f":"IF($A272>0,VLOOKUP($A272,'Last Document Status-HOMA'!$C:$Y,MATCH(M$9,'Last Document Status-HOMA'!$1:$1,0)-2,0),0)","v":"00:00:00"},{"$f":"IF($A272>0,VLOOKUP($A272,'Last Document Status-HOMA'!$C:$Y,MATCH(\"Outgoing Date\",'Last Document Status-HOMA'!$1:$1,0)-2,0),0)","v":"00:00:00"},{"$f":"IF($A272>0,VLOOKUP($A272,'Last Document Status-HOMA'!$C:$Y,MATCH(O$9,'Last Document Status-HOMA'!$1:$1,0)-2,0),0)","v":0}]
[null,null,null,null,null,{"$f":"IFERROR((VLOOKUP(#REF!,'5-PMS'!$F$14:$N$192,6,FALSE)),\"\")","v":""},null,null,null,null,{"$f":"IF($A273>0,VLOOKUP($A273,'Last Document Status-HOMA'!$C:$Y,MATCH(K$9,'Last Document Status-HOMA'!$1:$1,0)-2,0),0)","v":0},{"$f":"IF($A273>0,VLOOKUP($A273,'Last Document Status-HOMA'!$C:$Y,MATCH(L$9,'Last Document Status-HOMA'!$1:$1,0)-2,0),0)","v":0},{"$f":"IF($A273>0,VLOOKUP($A273,'Last Document Status-HOMA'!$C:$Y,MATCH(M$9,'Last Document Status-HOMA'!$1:$1,0)-2,0),0)","v":"00:00:00"},{"$f":"IF($A273>0,VLOOKUP($A273,'Last Document Status-HOMA'!$C:$Y,MATCH(\"Outgoing Date\",'Last Document Status-HOMA'!$1:$1,0)-2,0),0)","v":"00:00:00"},{"$f":"IF($A273>0,VLOOKUP($A273,'Last Document Status-HOMA'!$C:$Y,MATCH(O$9,'Last Document Status-HOMA'!$1:$1,0)-2,0),0)","v":0}]
[null,null,null,null,null,{"$f":"IFERROR((VLOOKUP(#REF!,'5-PMS'!$F$14:$N$192,6,FALSE)),\"\")","v":""},null,null,null,null,{"$f":"IF($A274>0,VLOOKUP($A274,'Last Document Status-HOMA'!$C:$Y,MATCH(K$9,'Last Document Status-HOMA'!$1:$1,0)-2,0),0)","v":0},{"$f":"IF($A274>0,VLOOKUP($A274,'Last Document Status-HOMA'!$C:$Y,MATCH(L$9,'Last Document Status-HOMA'!$1:$1,0)-2,0),0)","v":0},{"$f":"IF($A274>0,VLOOKUP($A274,'Last Document Status-HOMA'!$C:$Y,MATCH(M$9,'Last Document Status-HOMA'!$1:$1,0)-2,0),0)","v":"00:00:00"},{"$f":"IF($A274>0,VLOOKUP($A274,'Last Document Status-HOMA'!$C:$Y,MATCH(\"Outgoing Date\",'Last Document Status-HOMA'!$1:$1,0)-2,0),0)","v":"00:00:00"},{"$f":"IF($A274>0,VLOOKUP($A274,'Last Document Status-HOMA'!$C:$Y,MATCH(O$9,'Last Document Status-HOMA'!$1:$1,0)-2,0),0)","v":0}]
[null,null,null,null,null,{"$f":"IFERROR((VLOOKUP(#REF!,'5-PMS'!$F$14:$N$192,6,FALSE)),\"\")","v":""},null,null,null,null,{"$f":"IF($A275>0,VLOOKUP($A275,'Last Document Status-HOMA'!$C:$Y,MATCH(K$9,'Last Document Status-HOMA'!$1:$1,0)-2,0),0)","v":0},{"$f":"IF($A275>0,VLOOKUP($A275,'Last Document Status-HOMA'!$C:$Y,MATCH(L$9,'Last Document Status-HOMA'!$1:$1,0)-2,0),0)","v":0},{"$f":"IF($A275>0,VLOOKUP($A275,'Last Document Status-HOMA'!$C:$Y,MATCH(M$9,'Last Document Status-HOMA'!$1:$1,0)-2,0),0)","v":"00:00:00"},{"$f":"IF($A275>0,VLOOKUP($A275,'Last Document Status-HOMA'!$C:$Y,MATCH(\"Outgoing Date\",'Last Document Status-HOMA'!$1:$1,0)-2,0),0)","v":"00:00:00"},{"$f":"IF($A275>0,VLOOKUP($A275,'Last Document Status-HOMA'!$C:$Y,MATCH(O$9,'Last Document Status-HOMA'!$1:$1,0)-2,0),0)","v":0}]
[null,null,null,null,null,{"$f":"IFERROR((VLOOKUP(#REF!,'5-PMS'!$F$14:$N$192,6,FALSE)),\"\")","v":""},null,null,null,null,{"$f":"IF($A276>0,VLOOKUP($A276,'Last Document Status-HOMA'!$C:$Y,MATCH(K$9,'Last Document Status-HOMA'!$1:$1,0)-2,0),0)","v":0},{"$f":"IF($A276>0,VLOOKUP($A276,'Last Document Status-HOMA'!$C:$Y,MATCH(L$9,'Last Document Status-HOMA'!$1:$1,0)-2,0),0)","v":0},{"$f":"IF($A276>0,VLOOKUP($A276,'Last Document Status-HOMA'!$C:$Y,MATCH(M$9,'Last Document Status-HOMA'!$1:$1,0)-2,0),0)","v":"00:00:00"},{"$f":"IF($A276>0,VLOOKUP($A276,'Last Document Status-HOMA'!$C:$Y,MATCH(\"Outgoing Date\",'Last Document Status-HOMA'!$1:$1,0)-2,0),0)","v":"00:00:00"},{"$f":"IF($A276>0,VLOOKUP($A276,'Last Document Status-HOMA'!$C:$Y,MATCH(O$9,'Last Document Status-HOMA'!$1:$1,0)-2,0),0)","v":0}]
[null,null,null,null,null,{"$f":"IFERROR((VLOOKUP(#REF!,'5-PMS'!$F$14:$N$192,6,FALSE)),\"\")","v":""},null,null,null,null,{"$f":"IF($A277>0,VLOOKUP($A277,'Last Document Status-HOMA'!$C:$Y,MATCH(K$9,'Last Document Status-HOMA'!$1:$1,0)-2,0),0)","v":0},{"$f":"IF($A277>0,VLOOKUP($A277,'Last Document Status-HOMA'!$C:$Y,MATCH(L$9,'Last Document Status-HOMA'!$1:$1,0)-2,0),0)","v":0},{"$f":"IF($A277>0,VLOOKUP($A277,'Last Document Status-HOMA'!$C:$Y,MATCH(M$9,'Last Document Status-HOMA'!$1:$1,0)-2,0),0)","v":"00:00:00"},{"$f":"IF($A277>0,VLOOKUP($A277,'Last Document Status-HOMA'!$C:$Y,MATCH(\"Outgoing Date\",'Last Document Status-HOMA'!$1:$1,0)-2,0),0)","v":"00:00:00"},{"$f":"IF($A277>0,VLOOKUP($A277,'Last Document Status-HOMA'!$C:$Y,MATCH(O$9,'Last Document Status-HOMA'!$1:$1,0)-2,0),0)","v":0}]
[null,null,null,null,null,{"$f":"IFERROR((VLOOKUP(#REF!,'5-PMS'!$F$14:$N$192,6,FALSE)),\"\")","v":""},null,null,null,null,{"$f":"IF($A278>0,VLOOKUP($A278,'Last Document Status-HOMA'!$C:$Y,MATCH(K$9,'Last Document Status-HOMA'!$1:$1,0)-2,0),0)","v":0},{"$f":"IF($A278>0,VLOOKUP($A278,'Last Document Status-HOMA'!$C:$Y,MATCH(L$9,'Last Document Status-HOMA'!$1:$1,0)-2,0),0)","v":0},{"$f":"IF($A278>0,VLOOKUP($A278,'Last Document Status-HOMA'!$C:$Y,MATCH(M$9,'Last Document Status-HOMA'!$1:$1,0)-2,0),0)","v":"00:00:00"},{"$f":"IF($A278>0,VLOOKUP($A278,'Last Document Status-HOMA'!$C:$Y,MATCH(\"Outgoing Date\",'Last Document Status-HOMA'!$1:$1,0)-2,0),0)","v":"00:00:00"},{"$f":"IF($A278>0,VLOOKUP($A278,'Last Document Status-HOMA'!$C:$Y,MATCH(O$9,'Last Document Status-HOMA'!$1:$1,0)-2,0),0)","v":0}]
[null,null,null,null,null,{"$f":"IFERROR((VLOOKUP(#REF!,'5-PMS'!$F$14:$N$192,6,FALSE)),\"\")","v":""},null,null,null,null,{"$f":"IF($A279>0,VLOOKUP($A279,'Last Document Status-HOMA'!$C:$Y,MATCH(K$9,'Last Document Status-HOMA'!$1:$1,0)-2,0),0)","v":0},{"$f":"IF($A279>0,VLOOKUP($A279,'Last Document Status-HOMA'!$C:$Y,MATCH(L$9,'Last Document Status-HOMA'!$1:$1,0)-2,0),0)","v":0},{"$f":"IF($A279>0,VLOOKUP($A279,'Last Document Status-HOMA'!$C:$Y,MATCH(M$9,'Last Document Status-HOMA'!$1:$1,0)-2,0),0)","v":"00:00:00"},{"$f":"IF($A279>0,VLOOKUP($A279,'Last Document Status-HOMA'!$C:$Y,MATCH(\"Outgoing Date\",'Last Document Status-HOMA'!$1:$1,0)-2,0),0)","v":"00:00:00"},{"$f":"IF($A279>0,VLOOKUP($A279,'Last Document Status-HOMA'!$C:$Y,MATCH(O$9,'Last Document Status-HOMA'!$1:$1,0)-2,0),0)","v":0}]
[null,null,null,null,null,{"$f":"IFERROR((VLOOKUP(#REF!,'5-PMS'!$F$14:$N$192,6,FALSE)),\"\")","v":""},null,null,null,null,{"$f":"IF($A280>0,VLOOKUP($A280,'Last Document Status-HOMA'!$C:$Y,MATCH(K$9,'Last Document Status-HOMA'!$1:$1,0)-2,0),0)","v":0},{"$f":"IF($A280>0,VLOOKUP($A280,'Last Document Status-HOMA'!$C:$Y,MATCH(L$9,'Last Document Status-HOMA'!$1:$1,0)-2,0),0)","v":0},{"$f":"IF($A280>0,VLOOKUP($A280,'Last Document Status-HOMA'!$C:$Y,MATCH(M$9,'Last Document Status-HOMA'!$1:$1,0)-2,0),0)","v":"00:00:00"},{"$f":"IF($A280>0,VLOOKUP($A280,'Last Document Status-HOMA'!$C:$Y,MATCH(\"Outgoing Date\",'Last Document Status-HOMA'!$1:$1,0)-2,0),0)","v":"00:00:00"},{"$f":"IF($A280>0,VLOOKUP($A280,'Last Document Status-HOMA'!$C:$Y,MATCH(O$9,'Last Document Status-HOMA'!$1:$1,0)-2,0),0)","v":0}]
[null,null,null,null,null,{"$f":"IFERROR((VLOOKUP(#REF!,'5-PMS'!$F$14:$N$192,6,FALSE)),\"\")","v":""},null,null,null,null,{"$f":"IF($A281>0,VLOOKUP($A281,'Last Document Status-HOMA'!$C:$Y,MATCH(K$9,'Last Document Status-HOMA'!$1:$1,0)-2,0),0)","v":0},{"$f":"IF($A281>0,VLOOKUP($A281,'Last Document Status-HOMA'!$C:$Y,MATCH(L$9,'Last Document Status-HOMA'!$1:$1,0)-2,0),0)","v":0},{"$f":"IF($A281>0,VLOOKUP($A281,'Last Document Status-HOMA'!$C:$Y,MATCH(M$9,'Last Document Status-HOMA'!$1:$1,0)-2,0),0)","v":"00:00:00"},{"$f":"IF($A281>0,VLOOKUP($A281,'Last Document Status-HOMA'!$C:$Y,MATCH(\"Outgoing Date\",'Last Document Status-HOMA'!$1:$1,0)-2,0),0)","v":"00:00:00"},{"$f":"IF($A281>0,VLOOKUP($A281,'Last Document Status-HOMA'!$C:$Y,MATCH(O$9,'Last Document Status-HOMA'!$1:$1,0)-2,0),0)","v":0}]
[null,null,null,null,null,{"$f":"IFERROR((VLOOKUP(#REF!,'5-PMS'!$F$14:$N$192,6,FALSE)),\"\")","v":""},null,null,null,null,{"$f":"IF($A282>0,VLOOKUP($A282,'Last Document Status-HOMA'!$C:$Y,MATCH(K$9,'Last Document Status-HOMA'!$1:$1,0)-2,0),0)","v":0},{"$f":"IF($A282>0,VLOOKUP($A282,'Last Document Status-HOMA'!$C:$Y,MATCH(L$9,'Last Document Status-HOMA'!$1:$1,0)-2,0),0)","v":0},{"$f":"IF($A282>0,VLOOKUP($A282,'Last Document Status-HOMA'!$C:$Y,MATCH(M$9,'Last Document Status-HOMA'!$1:$1,0)-2,0),0)","v":"00:00:00"},{"$f":"IF($A282>0,VLOOKUP($A282,'Last Document Status-HOMA'!$C:$Y,MATCH(\"Outgoing Date\",'Last Document Status-HOMA'!$1:$1,0)-2,0),0)","v":"00:00:00"},{"$f":"IF($A282>0,VLOOKUP($A282,'Last Document Status-HOMA'!$C:$Y,MATCH(O$9,'Last Document Status-HOMA'!$1:$1,0)-2,0),0)","v":0}]
[null,null,null,null,null,{"$f":"IFERROR((VLOOKUP(#REF!,'5-PMS'!$F$14:$N$192,6,FALSE)),\"\")","v":""},null,null,null,null,{"$f":"IF($A283>0,VLOOKUP($A283,'Last Document Status-HOMA'!$C:$Y,MATCH(K$9,'Last Document Status-HOMA'!$1:$1,0)-2,0),0)","v":0},{"$f":"IF($A283>0,VLOOKUP($A283,'Last Document Status-HOMA'!$C:$Y,MATCH(L$9,'Last Document Status-HOMA'!$1:$1,0)-2,0),0)","v":0},{"$f":"IF($A283>0,VLOOKUP($A283,'Last Document Status-HOMA'!$C:$Y,MATCH(M$9,'Last Document Status-HOMA'!$1:$1,0)-2,0),0)","v":"00:00:00"},{"$f":"IF($A283>0,VLOOKUP($A283,'Last Document Status-HOMA'!$C:$Y,MATCH(\"Outgoing Date\",'Last Document Status-HOMA'!$1:$1,0)-2,0),0)","v":"00:00:00"},{"$f":"IF($A283>0,VLOOKUP($A283,'Last Document Status-HOMA'!$C:$Y,MATCH(O$9,'Last Document Status-HOMA'!$1:$1,0)-2,0),0)","v":0}]
[null,null,null,null,null,{"$f":"IFERROR((VLOOKUP(#REF!,'5-PMS'!$F$14:$N$192,6,FALSE)),\"\")","v":""},null,null,null,null,{"$f":"IF($A284>0,VLOOKUP($A284,'Last Document Status-HOMA'!$C:$Y,MATCH(K$9,'Last Document Status-HOMA'!$1:$1,0)-2,0),0)","v":0},{"$f":"IF($A284>0,VLOOKUP($A284,'Last Document Status-HOMA'!$C:$Y,MATCH(L$9,'Last Document Status-HOMA'!$1:$1,0)-2,0),0)","v":0},{"$f":"IF($A284>0,VLOOKUP($A284,'Last Document Status-HOMA'!$C:$Y,MATCH(M$9,'Last Document Status-HOMA'!$1:$1,0)-2,0),0)","v":"00:00:00"},{"$f":"IF($A284>0,VLOOKUP($A284,'Last Document Status-HOMA'!$C:$Y,MATCH(\"Outgoing Date\",'Last Document Status-HOMA'!$1:$1,0)-2,0),0)","v":"00:00:00"},{"$f":"IF($A284>0,VLOOKUP($A284,'Last Document Status-HOMA'!$C:$Y,MATCH(O$9,'Last Document Status-HOMA'!$1:$1,0)-2,0),0)","v":0}]
[null,null,null,null,null,{"$f":"IFERROR((VLOOKUP(#REF!,'5-PMS'!$F$14:$N$192,6,FALSE)),\"\")","v":""},null,null,null,null,{"$f":"IF($A285>0,VLOOKUP($A285,'Last Document Status-HOMA'!$C:$Y,MATCH(K$9,'Last Document Status-HOMA'!$1:$1,0)-2,0),0)","v":0},{"$f":"IF($A285>0,VLOOKUP($A285,'Last Document Status-HOMA'!$C:$Y,MATCH(L$9,'Last Document Status-HOMA'!$1:$1,0)-2,0),0)","v":0},{"$f":"IF($A285>0,VLOOKUP($A285,'Last Document Status-HOMA'!$C:$Y,MATCH(M$9,'Last Document Status-HOMA'!$1:$1,0)-2,0),0)","v":"00:00:00"},{"$f":"IF($A285>0,VLOOKUP($A285,'Last Document Status-HOMA'!$C:$Y,MATCH(\"Outgoing Date\",'Last Document Status-HOMA'!$1:$1,0)-2,0),0)","v":"00:00:00"},{"$f":"IF($A285>0,VLOOKUP($A285,'Last Document Status-HOMA'!$C:$Y,MATCH(O$9,'Last Document Status-HOMA'!$1:$1,0)-2,0),0)","v":0}]
[null,null,null,null,null,{"$f":"IFERROR((VLOOKUP(#REF!,'5-PMS'!$F$14:$N$192,6,FALSE)),\"\")","v":""},null,null,null,null,{"$f":"IF($A286>0,VLOOKUP($A286,'Last Document Status-HOMA'!$C:$Y,MATCH(K$9,'Last Document Status-HOMA'!$1:$1,0)-2,0),0)","v":0},{"$f":"IF($A286>0,VLOOKUP($A286,'Last Document Status-HOMA'!$C:$Y,MATCH(L$9,'Last Document Status-HOMA'!$1:$1,0)-2,0),0)","v":0},{"$f":"IF($A286>0,VLOOKUP($A286,'Last Document Status-HOMA'!$C:$Y,MATCH(M$9,'Last Document Status-HOMA'!$1:$1,0)-2,0),0)","v":"00:00:00"},{"$f":"IF($A286>0,VLOOKUP($A286,'Last Document Status-HOMA'!$C:$Y,MATCH(\"Outgoing Date\",'Last Document Status-HOMA'!$1:$1,0)-2,0),0)","v":"00:00:00"},{"$f":"IF($A286>0,VLOOKUP($A286,'Last Document Status-HOMA'!$C:$Y,MATCH(O$9,'Last Document Status-HOMA'!$1:$1,0)-2,0),0)","v":0}]
[null,null,null,null,null,{"$f":"IFERROR((VLOOKUP(#REF!,'5-PMS'!$F$14:$N$192,6,FALSE)),\"\")","v":""},null,null,null,null,{"$f":"IF($A287>0,VLOOKUP($A287,'Last Document Status-HOMA'!$C:$Y,MATCH(K$9,'Last Document Status-HOMA'!$1:$1,0)-2,0),0)","v":0},{"$f":"IF($A287>0,VLOOKUP($A287,'Last Document Status-HOMA'!$C:$Y,MATCH(L$9,'Last Document Status-HOMA'!$1:$1,0)-2,0),0)","v":0},{"$f":"IF($A287>0,VLOOKUP($A287,'Last Document Status-HOMA'!$C:$Y,MATCH(M$9,'Last Document Status-HOMA'!$1:$1,0)-2,0),0)","v":"00:00:00"},{"$f":"IF($A287>0,VLOOKUP($A287,'Last Document Status-HOMA'!$C:$Y,MATCH(\"Outgoing Date\",'Last Document Status-HOMA'!$1:$1,0)-2,0),0)","v":"00:00:00"},{"$f":"IF($A287>0,VLOOKUP($A287,'Last Document Status-HOMA'!$C:$Y,MATCH(O$9,'Last Document Status-HOMA'!$1:$1,0)-2,0),0)","v":0}]
[null,null,null,null,null,{"$f":"IFERROR((VLOOKUP(#REF!,'5-PMS'!$F$14:$N$192,6,FALSE)),\"\")","v":""},null,null,null,null,{"$f":"IF($A288>0,VLOOKUP($A288,'Last Document Status-HOMA'!$C:$Y,MATCH(K$9,'Last Document Status-HOMA'!$1:$1,0)-2,0),0)","v":0},{"$f":"IF($A288>0,VLOOKUP($A288,'Last Document Status-HOMA'!$C:$Y,MATCH(L$9,'Last Document Status-HOMA'!$1:$1,0)-2,0),0)","v":0},{"$f":"IF($A288>0,VLOOKUP($A288,'Last Document Status-HOMA'!$C:$Y,MATCH(M$9,'Last Document Status-HOMA'!$1:$1,0)-2,0),0)","v":"00:00:00"},{"$f":"IF($A288>0,VLOOKUP($A288,'Last Document Status-HOMA'!$C:$Y,MATCH(\"Outgoing Date\",'Last Document Status-HOMA'!$1:$1,0)-2,0),0)","v":"00:00:00"},{"$f":"IF($A288>0,VLOOKUP($A288,'Last Document Status-HOMA'!$C:$Y,MATCH(O$9,'Last Document Status-HOMA'!$1:$1,0)-2,0),0)","v":0}]
[null,null,null,null,null,{"$f":"IFERROR((VLOOKUP(#REF!,'5-PMS'!$F$14:$N$192,6,FALSE)),\"\")","v":""},null,null,null,null,{"$f":"IF($A289>0,VLOOKUP($A289,'Last Document Status-HOMA'!$C:$Y,MATCH(K$9,'Last Document Status-HOMA'!$1:$1,0)-2,0),0)","v":0},{"$f":"IF($A289>0,VLOOKUP($A289,'Last Document Status-HOMA'!$C:$Y,MATCH(L$9,'Last Document Status-HOMA'!$1:$1,0)-2,0),0)","v":0},{"$f":"IF($A289>0,VLOOKUP($A289,'Last Document Status-HOMA'!$C:$Y,MATCH(M$9,'Last Document Status-HOMA'!$1:$1,0)-2,0),0)","v":"00:00:00"},{"$f":"IF($A289>0,VLOOKUP($A289,'Last Document Status-HOMA'!$C:$Y,MATCH(\"Outgoing Date\",'Last Document Status-HOMA'!$1:$1,0)-2,0),0)","v":"00:00:00"},{"$f":"IF($A289>0,VLOOKUP($A289,'Last Document Status-HOMA'!$C:$Y,MATCH(O$9,'Last Document Status-HOMA'!$1:$1,0)-2,0),0)","v":0}]
[null,null,null,null,null,{"$f":"IFERROR((VLOOKUP(#REF!,'5-PMS'!$F$14:$N$192,6,FALSE)),\"\")","v":""},null,null,null,null,{"$f":"IF($A290>0,VLOOKUP($A290,'Last Document Status-HOMA'!$C:$Y,MATCH(K$9,'Last Document Status-HOMA'!$1:$1,0)-2,0),0)","v":0},{"$f":"IF($A290>0,VLOOKUP($A290,'Last Document Status-HOMA'!$C:$Y,MATCH(L$9,'Last Document Status-HOMA'!$1:$1,0)-2,0),0)","v":0},{"$f":"IF($A290>0,VLOOKUP($A290,'Last Document Status-HOMA'!$C:$Y,MATCH(M$9,'Last Document Status-HOMA'!$1:$1,0)-2,0),0)","v":"00:00:00"},{"$f":"IF($A290>0,VLOOKUP($A290,'Last Document Status-HOMA'!$C:$Y,MATCH(\"Outgoing Date\",'Last Document Status-HOMA'!$1:$1,0)-2,0),0)","v":"00:00:00"},{"$f":"IF($A290>0,VLOOKUP($A290,'Last Document Status-HOMA'!$C:$Y,MATCH(O$9,'Last Document Status-HOMA'!$1:$1,0)-2,0),0)","v":0}]
[null,null,null,null,null,{"$f":"IFERROR((VLOOKUP(#REF!,'5-PMS'!$F$14:$N$192,6,FALSE)),\"\")","v":""},null,null,null,null,{"$f":"IF($A291>0,VLOOKUP($A291,'Last Document Status-HOMA'!$C:$Y,MATCH(K$9,'Last Document Status-HOMA'!$1:$1,0)-2,0),0)","v":0},{"$f":"IF($A291>0,VLOOKUP($A291,'Last Document Status-HOMA'!$C:$Y,MATCH(L$9,'Last Document Status-HOMA'!$1:$1,0)-2,0),0)","v":0},{"$f":"IF($A291>0,VLOOKUP($A291,'Last Document Status-HOMA'!$C:$Y,MATCH(M$9,'Last Document Status-HOMA'!$1:$1,0)-2,0),0)","v":"00:00:00"},{"$f":"IF($A291>0,VLOOKUP($A291,'Last Document Status-HOMA'!$C:$Y,MATCH(\"Outgoing Date\",'Last Document Status-HOMA'!$1:$1,0)-2,0),0)","v":"00:00:00"},{"$f":"IF($A291>0,VLOOKUP($A291,'Last Document Status-HOMA'!$C:$Y,MATCH(O$9,'Last Document Status-HOMA'!$1:$1,0)-2,0),0)","v":0}]
[null,null,null,null,null,{"$f":"IFERROR((VLOOKUP(#REF!,'5-PMS'!$F$14:$N$192,6,FALSE)),\"\")","v":""},null,null,null,null,{"$f":"IF($A292>0,VLOOKUP($A292,'Last Document Status-HOMA'!$C:$Y,MATCH(K$9,'Last Document Status-HOMA'!$1:$1,0)-2,0),0)","v":0},{"$f":"IF($A292>0,VLOOKUP($A292,'Last Document Status-HOMA'!$C:$Y,MATCH(L$9,'Last Document Status-HOMA'!$1:$1,0)-2,0),0)","v":0},{"$f":"IF($A292>0,VLOOKUP($A292,'Last Document Status-HOMA'!$C:$Y,MATCH(M$9,'Last Document Status-HOMA'!$1:$1,0)-2,0),0)","v":"00:00:00"},{"$f":"IF($A292>0,VLOOKUP($A292,'Last Document Status-HOMA'!$C:$Y,MATCH(\"Outgoing Date\",'Last Document Status-HOMA'!$1:$1,0)-2,0),0)","v":"00:00:00"},{"$f":"IF($A292>0,VLOOKUP($A292,'Last Document Status-HOMA'!$C:$Y,MATCH(O$9,'Last Document Status-HOMA'!$1:$1,0)-2,0),0)","v":0}]
[null,null,null,null,null,{"$f":"IFERROR((VLOOKUP(#REF!,'5-PMS'!$F$14:$N$192,6,FALSE)),\"\")","v":""},null,null,null,null,{"$f":"IF($A293>0,VLOOKUP($A293,'Last Document Status-HOMA'!$C:$Y,MATCH(K$9,'Last Document Status-HOMA'!$1:$1,0)-2,0),0)","v":0},{"$f":"IF($A293>0,VLOOKUP($A293,'Last Document Status-HOMA'!$C:$Y,MATCH(L$9,'Last Document Status-HOMA'!$1:$1,0)-2,0),0)","v":0},{"$f":"IF($A293>0,VLOOKUP($A293,'Last Document Status-HOMA'!$C:$Y,MATCH(M$9,'Last Document Status-HOMA'!$1:$1,0)-2,0),0)","v":"00:00:00"},{"$f":"IF($A293>0,VLOOKUP($A293,'Last Document Status-HOMA'!$C:$Y,MATCH(\"Outgoing Date\",'Last Document Status-HOMA'!$1:$1,0)-2,0),0)","v":"00:00:00"},{"$f":"IF($A293>0,VLOOKUP($A293,'Last Document Status-HOMA'!$C:$Y,MATCH(O$9,'Last Document Status-HOMA'!$1:$1,0)-2,0),0)","v":0}]
[null,null,null,null,null,{"$f":"IFERROR((VLOOKUP(#REF!,'5-PMS'!$F$14:$N$192,6,FALSE)),\"\")","v":""},null,null,null,null,{"$f":"IF($A294>0,VLOOKUP($A294,'Last Document Status-HOMA'!$C:$Y,MATCH(K$9,'Last Document Status-HOMA'!$1:$1,0)-2,0),0)","v":0},{"$f":"IF($A294>0,VLOOKUP($A294,'Last Document Status-HOMA'!$C:$Y,MATCH(L$9,'Last Document Status-HOMA'!$1:$1,0)-2,0),0)","v":0},{"$f":"IF($A294>0,VLOOKUP($A294,'Last Document Status-HOMA'!$C:$Y,MATCH(M$9,'Last Document Status-HOMA'!$1:$1,0)-2,0),0)","v":"00:00:00"},{"$f":"IF($A294>0,VLOOKUP($A294,'Last Document Status-HOMA'!$C:$Y,MATCH(\"Outgoing Date\",'Last Document Status-HOMA'!$1:$1,0)-2,0),0)","v":"00:00:00"},{"$f":"IF($A294>0,VLOOKUP($A294,'Last Document Status-HOMA'!$C:$Y,MATCH(O$9,'Last Document Status-HOMA'!$1:$1,0)-2,0),0)","v":0}]
[null,null,null,null,null,{"$f":"IFERROR((VLOOKUP(#REF!,'5-PMS'!$F$14:$N$192,6,FALSE)),\"\")","v":""},null,null,null,null,{"$f":"IF($A295>0,VLOOKUP($A295,'Last Document Status-HOMA'!$C:$Y,MATCH(K$9,'Last Document Status-HOMA'!$1:$1,0)-2,0),0)","v":0},{"$f":"IF($A295>0,VLOOKUP($A295,'Last Document Status-HOMA'!$C:$Y,MATCH(L$9,'Last Document Status-HOMA'!$1:$1,0)-2,0),0)","v":0},{"$f":"IF($A295>0,VLOOKUP($A295,'Last Document Status-HOMA'!$C:$Y,MATCH(M$9,'Last Document Status-HOMA'!$1:$1,0)-2,0),0)","v":"00:00:00"},{"$f":"IF($A295>0,VLOOKUP($A295,'Last Document Status-HOMA'!$C:$Y,MATCH(\"Outgoing Date\",'Last Document Status-HOMA'!$1:$1,0)-2,0),0)","v":"00:00:00"},{"$f":"IF($A295>0,VLOOKUP($A295,'Last Document Status-HOMA'!$C:$Y,MATCH(O$9,'Last Document Status-HOMA'!$1:$1,0)-2,0),0)","v":0}]
[null,null,null,null,null,{"$f":"IFERROR((VLOOKUP(#REF!,'5-PMS'!$F$14:$N$192,6,FALSE)),\"\")","v":""},null,null,null,null,{"$f":"IF($A296>0,VLOOKUP($A296,'Last Document Status-HOMA'!$C:$Y,MATCH(K$9,'Last Document Status-HOMA'!$1:$1,0)-2,0),0)","v":0},{"$f":"IF($A296>0,VLOOKUP($A296,'Last Document Status-HOMA'!$C:$Y,MATCH(L$9,'Last Document Status-HOMA'!$1:$1,0)-2,0),0)","v":0},{"$f":"IF($A296>0,VLOOKUP($A296,'Last Document Status-HOMA'!$C:$Y,MATCH(M$9,'Last Document Status-HOMA'!$1:$1,0)-2,0),0)","v":"00:00:00"},{"$f":"IF($A296>0,VLOOKUP($A296,'Last Document Status-HOMA'!$C:$Y,MATCH(\"Outgoing Date\",'Last Document Status-HOMA'!$1:$1,0)-2,0),0)","v":"00:00:00"},{"$f":"IF($A296>0,VLOOKUP($A296,'Last Document Status-HOMA'!$C:$Y,MATCH(O$9,'Last Document Status-HOMA'!$1:$1,0)-2,0),0)","v":0}]
[null,null,null,null,null,{"$f":"IFERROR((VLOOKUP(#REF!,'5-PMS'!$F$14:$N$192,6,FALSE)),\"\")","v":""},null,null,null,null,{"$f":"IF($A297>0,VLOOKUP($A297,'Last Document Status-HOMA'!$C:$Y,MATCH(K$9,'Last Document Status-HOMA'!$1:$1,0)-2,0),0)","v":0},{"$f":"IF($A297>0,VLOOKUP($A297,'Last Document Status-HOMA'!$C:$Y,MATCH(L$9,'Last Document Status-HOMA'!$1:$1,0)-2,0),0)","v":0},{"$f":"IF($A297>0,VLOOKUP($A297,'Last Document Status-HOMA'!$C:$Y,MATCH(M$9,'Last Document Status-HOMA'!$1:$1,0)-2,0),0)","v":"00:00:00"},{"$f":"IF($A297>0,VLOOKUP($A297,'Last Document Status-HOMA'!$C:$Y,MATCH(\"Outgoing Date\",'Last Document Status-HOMA'!$1:$1,0)-2,0),0)","v":"00:00:00"},{"$f":"IF($A297>0,VLOOKUP($A297,'Last Document Status-HOMA'!$C:$Y,MATCH(O$9,'Last Document Status-HOMA'!$1:$1,0)-2,0),0)","v":0}]
[null,null,null,null,null,{"$f":"IFERROR((VLOOKUP(#REF!,'5-PMS'!$F$14:$N$192,6,FALSE)),\"\")","v":""},null,null,null,null,{"$f":"IF($A298>0,VLOOKUP($A298,'Last Document Status-HOMA'!$C:$Y,MATCH(K$9,'Last Document Status-HOMA'!$1:$1,0)-2,0),0)","v":0},{"$f":"IF($A298>0,VLOOKUP($A298,'Last Document Status-HOMA'!$C:$Y,MATCH(L$9,'Last Document Status-HOMA'!$1:$1,0)-2,0),0)","v":0},{"$f":"IF($A298>0,VLOOKUP($A298,'Last Document Status-HOMA'!$C:$Y,MATCH(M$9,'Last Document Status-HOMA'!$1:$1,0)-2,0),0)","v":"00:00:00"},{"$f":"IF($A298>0,VLOOKUP($A298,'Last Document Status-HOMA'!$C:$Y,MATCH(\"Outgoing Date\",'Last Document Status-HOMA'!$1:$1,0)-2,0),0)","v":"00:00:00"},{"$f":"IF($A298>0,VLOOKUP($A298,'Last Document Status-HOMA'!$C:$Y,MATCH(O$9,'Last Document Status-HOMA'!$1:$1,0)-2,0),0)","v":0}]
[null,null,null,null,null,{"$f":"IFERROR((VLOOKUP(#REF!,'5-PMS'!$F$14:$N$192,6,FALSE)),\"\")","v":""},null,null,null,null,{"$f":"IF($A299>0,VLOOKUP($A299,'Last Document Status-HOMA'!$C:$Y,MATCH(K$9,'Last Document Status-HOMA'!$1:$1,0)-2,0),0)","v":0},{"$f":"IF($A299>0,VLOOKUP($A299,'Last Document Status-HOMA'!$C:$Y,MATCH(L$9,'Last Document Status-HOMA'!$1:$1,0)-2,0),0)","v":0},{"$f":"IF($A299>0,VLOOKUP($A299,'Last Document Status-HOMA'!$C:$Y,MATCH(M$9,'Last Document Status-HOMA'!$1:$1,0)-2,0),0)","v":"00:00:00"},{"$f":"IF($A299>0,VLOOKUP($A299,'Last Document Status-HOMA'!$C:$Y,MATCH(\"Outgoing Date\",'Last Document Status-HOMA'!$1:$1,0)-2,0),0)","v":"00:00:00"},{"$f":"IF($A299>0,VLOOKUP($A299,'Last Document Status-HOMA'!$C:$Y,MATCH(O$9,'Last Document Status-HOMA'!$1:$1,0)-2,0),0)","v":0}]
[null,null,null,null,null,{"$f":"IFERROR((VLOOKUP(#REF!,'5-PMS'!$F$14:$N$192,6,FALSE)),\"\")","v":""},null,null,null,null,{"$f":"IF($A300>0,VLOOKUP($A300,'Last Document Status-HOMA'!$C:$Y,MATCH(K$9,'Last Document Status-HOMA'!$1:$1,0)-2,0),0)","v":0},{"$f":"IF($A300>0,VLOOKUP($A300,'Last Document Status-HOMA'!$C:$Y,MATCH(L$9,'Last Document Status-HOMA'!$1:$1,0)-2,0),0)","v":0},{"$f":"IF($A300>0,VLOOKUP($A300,'Last Document Status-HOMA'!$C:$Y,MATCH(M$9,'Last Document Status-HOMA'!$1:$1,0)-2,0),0)","v":"00:00:00"},{"$f":"IF($A300>0,VLOOKUP($A300,'Last Document Status-HOMA'!$C:$Y,MATCH(\"Outgoing Date\",'Last Document Status-HOMA'!$1:$1,0)-2,0),0)","v":"00:00:00"},{"$f":"IF($A300>0,VLOOKUP($A300,'Last Document Status-HOMA'!$C:$Y,MATCH(O$9,'Last Document Status-HOMA'!$1:$1,0)-2,0),0)","v":0}]
[null,null,null,null,null,{"$f":"IFERROR((VLOOKUP(#REF!,'5-PMS'!$F$14:$N$192,6,FALSE)),\"\")","v":""},null,null,null,null,{"$f":"IF($A301>0,VLOOKUP($A301,'Last Document Status-HOMA'!$C:$Y,MATCH(K$9,'Last Document Status-HOMA'!$1:$1,0)-2,0),0)","v":0},{"$f":"IF($A301>0,VLOOKUP($A301,'Last Document Status-HOMA'!$C:$Y,MATCH(L$9,'Last Document Status-HOMA'!$1:$1,0)-2,0),0)","v":0},{"$f":"IF($A301>0,VLOOKUP($A301,'Last Document Status-HOMA'!$C:$Y,MATCH(M$9,'Last Document Status-HOMA'!$1:$1,0)-2,0),0)","v":"00:00:00"},{"$f":"IF($A301>0,VLOOKUP($A301,'Last Document Status-HOMA'!$C:$Y,MATCH(\"Outgoing Date\",'Last Document Status-HOMA'!$1:$1,0)-2,0),0)","v":"00:00:00"},{"$f":"IF($A301>0,VLOOKUP($A301,'Last Document Status-HOMA'!$C:$Y,MATCH(O$9,'Last Document Status-HOMA'!$1:$1,0)-2,0),0)","v":0}]
[null,null,null,null,null,{"$f":"IFERROR((VLOOKUP(#REF!,'5-PMS'!$F$14:$N$192,6,FALSE)),\"\")","v":""},null,null,null,null,{"$f":"IF($A302>0,VLOOKUP($A302,'Last Document Status-HOMA'!$C:$Y,MATCH(K$9,'Last Document Status-HOMA'!$1:$1,0)-2,0),0)","v":0},{"$f":"IF($A302>0,VLOOKUP($A302,'Last Document Status-HOMA'!$C:$Y,MATCH(L$9,'Last Document Status-HOMA'!$1:$1,0)-2,0),0)","v":0},{"$f":"IF($A302>0,VLOOKUP($A302,'Last Document Status-HOMA'!$C:$Y,MATCH(M$9,'Last Document Status-HOMA'!$1:$1,0)-2,0),0)","v":"00:00:00"},{"$f":"IF($A302>0,VLOOKUP($A302,'Last Document Status-HOMA'!$C:$Y,MATCH(\"Outgoing Date\",'Last Document Status-HOMA'!$1:$1,0)-2,0),0)","v":"00:00:00"},{"$f":"IF($A302>0,VLOOKUP($A302,'Last Document Status-HOMA'!$C:$Y,MATCH(O$9,'Last Document Status-HOMA'!$1:$1,0)-2,0),0)","v":0}]
[null,null,null,null,null,{"$f":"IFERROR((VLOOKUP(#REF!,'5-PMS'!$F$14:$N$192,6,FALSE)),\"\")","v":""},null,null,null,null,{"$f":"IF($A303>0,VLOOKUP($A303,'Last Document Status-HOMA'!$C:$Y,MATCH(K$9,'Last Document Status-HOMA'!$1:$1,0)-2,0),0)","v":0},{"$f":"IF($A303>0,VLOOKUP($A303,'Last Document Status-HOMA'!$C:$Y,MATCH(L$9,'Last Document Status-HOMA'!$1:$1,0)-2,0),0)","v":0},{"$f":"IF($A303>0,VLOOKUP($A303,'Last Document Status-HOMA'!$C:$Y,MATCH(M$9,'Last Document Status-HOMA'!$1:$1,0)-2,0),0)","v":"00:00:00"},{"$f":"IF($A303>0,VLOOKUP($A303,'Last Document Status-HOMA'!$C:$Y,MATCH(\"Outgoing Date\",'Last Document Status-HOMA'!$1:$1,0)-2,0),0)","v":"00:00:00"},{"$f":"IF($A303>0,VLOOKUP($A303,'Last Document Status-HOMA'!$C:$Y,MATCH(O$9,'Last Document Status-HOMA'!$1:$1,0)-2,0),0)","v":0}]
[null,null,null,null,null,{"$f":"IFERROR((VLOOKUP(#REF!,'5-PMS'!$F$14:$N$192,6,FALSE)),\"\")","v":""},null,null,null,null,{"$f":"IF($A304>0,VLOOKUP($A304,'Last Document Status-HOMA'!$C:$Y,MATCH(K$9,'Last Document Status-HOMA'!$1:$1,0)-2,0),0)","v":0},{"$f":"IF($A304>0,VLOOKUP($A304,'Last Document Status-HOMA'!$C:$Y,MATCH(L$9,'Last Document Status-HOMA'!$1:$1,0)-2,0),0)","v":0},{"$f":"IF($A304>0,VLOOKUP($A304,'Last Document Status-HOMA'!$C:$Y,MATCH(M$9,'Last Document Status-HOMA'!$1:$1,0)-2,0),0)","v":"00:00:00"},{"$f":"IF($A304>0,VLOOKUP($A304,'Last Document Status-HOMA'!$C:$Y,MATCH(\"Outgoing Date\",'Last Document Status-HOMA'!$1:$1,0)-2,0),0)","v":"00:00:00"},{"$f":"IF($A304>0,VLOOKUP($A304,'Last Document Status-HOMA'!$C:$Y,MATCH(O$9,'Last Document Status-HOMA'!$1:$1,0)-2,0),0)","v":0}]
[null,null,null,null,null,{"$f":"IFERROR((VLOOKUP(#REF!,'5-PMS'!$F$14:$N$192,6,FALSE)),\"\")","v":""},null,null,null,null,{"$f":"IF($A305>0,VLOOKUP($A305,'Last Document Status-HOMA'!$C:$Y,MATCH(K$9,'Last Document Status-HOMA'!$1:$1,0)-2,0),0)","v":0},{"$f":"IF($A305>0,VLOOKUP($A305,'Last Document Status-HOMA'!$C:$Y,MATCH(L$9,'Last Document Status-HOMA'!$1:$1,0)-2,0),0)","v":0},{"$f":"IF($A305>0,VLOOKUP($A305,'Last Document Status-HOMA'!$C:$Y,MATCH(M$9,'Last Document Status-HOMA'!$1:$1,0)-2,0),0)","v":"00:00:00"},{"$f":"IF($A305>0,VLOOKUP($A305,'Last Document Status-HOMA'!$C:$Y,MATCH(\"Outgoing Date\",'Last Document Status-HOMA'!$1:$1,0)-2,0),0)","v":"00:00:00"},{"$f":"IF($A305>0,VLOOKUP($A305,'Last Document Status-HOMA'!$C:$Y,MATCH(O$9,'Last Document Status-HOMA'!$1:$1,0)-2,0),0)","v":0}]
[null,null,null,null,null,{"$f":"IFERROR((VLOOKUP(#REF!,'5-PMS'!$F$14:$N$192,6,FALSE)),\"\")","v":""},null,null,null,null,{"$f":"IF($A306>0,VLOOKUP($A306,'Last Document Status-HOMA'!$C:$Y,MATCH(K$9,'Last Document Status-HOMA'!$1:$1,0)-2,0),0)","v":0},{"$f":"IF($A306>0,VLOOKUP($A306,'Last Document Status-HOMA'!$C:$Y,MATCH(L$9,'Last Document Status-HOMA'!$1:$1,0)-2,0),0)","v":0},{"$f":"IF($A306>0,VLOOKUP($A306,'Last Document Status-HOMA'!$C:$Y,MATCH(M$9,'Last Document Status-HOMA'!$1:$1,0)-2,0),0)","v":"00:00:00"},{"$f":"IF($A306>0,VLOOKUP($A306,'Last Document Status-HOMA'!$C:$Y,MATCH(\"Outgoing Date\",'Last Document Status-HOMA'!$1:$1,0)-2,0),0)","v":"00:00:00"},{"$f":"IF($A306>0,VLOOKUP($A306,'Last Document Status-HOMA'!$C:$Y,MATCH(O$9,'Last Document Status-HOMA'!$1:$1,0)-2,0),0)","v":0}]
[null,null,null,null,null,{"$f":"IFERROR((VLOOKUP(#REF!,'5-PMS'!$F$14:$N$192,6,FALSE)),\"\")","v":""},null,null,null,null,{"$f":"IF($A307>0,VLOOKUP($A307,'Last Document Status-HOMA'!$C:$Y,MATCH(K$9,'Last Document Status-HOMA'!$1:$1,0)-2,0),0)","v":0},{"$f":"IF($A307>0,VLOOKUP($A307,'Last Document Status-HOMA'!$C:$Y,MATCH(L$9,'Last Document Status-HOMA'!$1:$1,0)-2,0),0)","v":0},{"$f":"IF($A307>0,VLOOKUP($A307,'Last Document Status-HOMA'!$C:$Y,MATCH(M$9,'Last Document Status-HOMA'!$1:$1,0)-2,0),0)","v":"00:00:00"},{"$f":"IF($A307>0,VLOOKUP($A307,'Last Document Status-HOMA'!$C:$Y,MATCH(\"Outgoing Date\",'Last Document Status-HOMA'!$1:$1,0)-2,0),0)","v":"00:00:00"},{"$f":"IF($A307>0,VLOOKUP($A307,'Last Document Status-HOMA'!$C:$Y,MATCH(O$9,'Last Document Status-HOMA'!$1:$1,0)-2,0),0)","v":0}]
[null,null,null,null,null,{"$f":"IFERROR((VLOOKUP(#REF!,'5-PMS'!$F$14:$N$192,6,FALSE)),\"\")","v":""},null,null,null,null,{"$f":"IF($A308>0,VLOOKUP($A308,'Last Document Status-HOMA'!$C:$Y,MATCH(K$9,'Last Document Status-HOMA'!$1:$1,0)-2,0),0)","v":0},{"$f":"IF($A308>0,VLOOKUP($A308,'Last Document Status-HOMA'!$C:$Y,MATCH(L$9,'Last Document Status-HOMA'!$1:$1,0)-2,0),0)","v":0},{"$f":"IF($A308>0,VLOOKUP($A308,'Last Document Status-HOMA'!$C:$Y,MATCH(M$9,'Last Document Status-HOMA'!$1:$1,0)-2,0),0)","v":"00:00:00"},{"$f":"IF($A308>0,VLOOKUP($A308,'Last Document Status-HOMA'!$C:$Y,MATCH(\"Outgoing Date\",'Last Document Status-HOMA'!$1:$1,0)-2,0),0)","v":"00:00:00"},{"$f":"IF($A308>0,VLOOKUP($A308,'Last Document Status-HOMA'!$C:$Y,MATCH(O$9,'Last Document Status-HOMA'!$1:$1,0)-2,0),0)","v":0}]
[null,null,null,null,null,{"$f":"IFERROR((VLOOKUP(#REF!,'5-PMS'!$F$14:$N$192,6,FALSE)),\"\")","v":""},null,null,null,null,{"$f":"IF($A309>0,VLOOKUP($A309,'Last Document Status-HOMA'!$C:$Y,MATCH(K$9,'Last Document Status-HOMA'!$1:$1,0)-2,0),0)","v":0},{"$f":"IF($A309>0,VLOOKUP($A309,'Last Document Status-HOMA'!$C:$Y,MATCH(L$9,'Last Document Status-HOMA'!$1:$1,0)-2,0),0)","v":0},{"$f":"IF($A309>0,VLOOKUP($A309,'Last Document Status-HOMA'!$C:$Y,MATCH(M$9,'Last Document Status-HOMA'!$1:$1,0)-2,0),0)","v":"00:00:00"},{"$f":"IF($A309>0,VLOOKUP($A309,'Last Document Status-HOMA'!$C:$Y,MATCH(\"Outgoing Date\",'Last Document Status-HOMA'!$1:$1,0)-2,0),0)","v":"00:00:00"},{"$f":"IF($A309>0,VLOOKUP($A309,'Last Document Status-HOMA'!$C:$Y,MATCH(O$9,'Last Document Status-HOMA'!$1:$1,0)-2,0),0)","v":0}]
[null,null,null,null,null,{"$f":"IFERROR((VLOOKUP(#REF!,'5-PMS'!$F$14:$N$192,6,FALSE)),\"\")","v":""},null,null,null,null,{"$f":"IF($A310>0,VLOOKUP($A310,'Last Document Status-HOMA'!$C:$Y,MATCH(K$9,'Last Document Status-HOMA'!$1:$1,0)-2,0),0)","v":0},{"$f":"IF($A310>0,VLOOKUP($A310,'Last Document Status-HOMA'!$C:$Y,MATCH(L$9,'Last Document Status-HOMA'!$1:$1,0)-2,0),0)","v":0},{"$f":"IF($A310>0,VLOOKUP($A310,'Last Document Status-HOMA'!$C:$Y,MATCH(M$9,'Last Document Status-HOMA'!$1:$1,0)-2,0),0)","v":"00:00:00"},{"$f":"IF($A310>0,VLOOKUP($A310,'Last Document Status-HOMA'!$C:$Y,MATCH(\"Outgoing Date\",'Last Document Status-HOMA'!$1:$1,0)-2,0),0)","v":"00:00:00"},{"$f":"IF($A310>0,VLOOKUP($A310,'Last Document Status-HOMA'!$C:$Y,MATCH(O$9,'Last Document Status-HOMA'!$1:$1,0)-2,0),0)","v":0}]
[null,null,null,null,null,{"$f":"IFERROR((VLOOKUP(#REF!,'5-PMS'!$F$14:$N$192,6,FALSE)),\"\")","v":""},null,null,null,null,{"$f":"IF($A311>0,VLOOKUP($A311,'Last Document Status-HOMA'!$C:$Y,MATCH(K$9,'Last Document Status-HOMA'!$1:$1,0)-2,0),0)","v":0},{"$f":"IF($A311>0,VLOOKUP($A311,'Last Document Status-HOMA'!$C:$Y,MATCH(L$9,'Last Document Status-HOMA'!$1:$1,0)-2,0),0)","v":0},{"$f":"IF($A311>0,VLOOKUP($A311,'Last Document Status-HOMA'!$C:$Y,MATCH(M$9,'Last Document Status-HOMA'!$1:$1,0)-2,0),0)","v":"00:00:00"},{"$f":"IF($A311>0,VLOOKUP($A311,'Last Document Status-HOMA'!$C:$Y,MATCH(\"Outgoing Date\",'Last Document Status-HOMA'!$1:$1,0)-2,0),0)","v":"00:00:00"},{"$f":"IF($A311>0,VLOOKUP($A311,'Last Document Status-HOMA'!$C:$Y,MATCH(O$9,'Last Document Status-HOMA'!$1:$1,0)-2,0),0)","v":0}]
[null,null,null,null,null,{"$f":"IFERROR((VLOOKUP(#REF!,'5-PMS'!$F$14:$N$192,6,FALSE)),\"\")","v":""},null,null,null,null,{"$f":"IF($A312>0,VLOOKUP($A312,'Last Document Status-HOMA'!$C:$Y,MATCH(K$9,'Last Document Status-HOMA'!$1:$1,0)-2,0),0)","v":0},{"$f":"IF($A312>0,VLOOKUP($A312,'Last Document Status-HOMA'!$C:$Y,MATCH(L$9,'Last Document Status-HOMA'!$1:$1,0)-2,0),0)","v":0},{"$f":"IF($A312>0,VLOOKUP($A312,'Last Document Status-HOMA'!$C:$Y,MATCH(M$9,'Last Document Status-HOMA'!$1:$1,0)-2,0),0)","v":"00:00:00"},{"$f":"IF($A312>0,VLOOKUP($A312,'Last Document Status-HOMA'!$C:$Y,MATCH(\"Outgoing Date\",'Last Document Status-HOMA'!$1:$1,0)-2,0),0)","v":"00:00:00"},{"$f":"IF($A312>0,VLOOKUP($A312,'Last Document Status-HOMA'!$C:$Y,MATCH(O$9,'Last Document Status-HOMA'!$1:$1,0)-2,0),0)","v":0}]
[null,null,null,null,null,{"$f":"IFERROR((VLOOKUP(#REF!,'5-PMS'!$F$14:$N$192,6,FALSE)),\"\")","v":""},null,null,null,null,{"$f":"IF($A313>0,VLOOKUP($A313,'Last Document Status-HOMA'!$C:$Y,MATCH(K$9,'Last Document Status-HOMA'!$1:$1,0)-2,0),0)","v":0},{"$f":"IF($A313>0,VLOOKUP($A313,'Last Document Status-HOMA'!$C:$Y,MATCH(L$9,'Last Document Status-HOMA'!$1:$1,0)-2,0),0)","v":0},{"$f":"IF($A313>0,VLOOKUP($A313,'Last Document Status-HOMA'!$C:$Y,MATCH(M$9,'Last Document Status-HOMA'!$1:$1,0)-2,0),0)","v":"00:00:00"},{"$f":"IF($A313>0,VLOOKUP($A313,'Last Document Status-HOMA'!$C:$Y,MATCH(\"Outgoing Date\",'Last Document Status-HOMA'!$1:$1,0)-2,0),0)","v":"00:00:00"},{"$f":"IF($A313>0,VLOOKUP($A313,'Last Document Status-HOMA'!$C:$Y,MATCH(O$9,'Last Document Status-HOMA'!$1:$1,0)-2,0),0)","v":0}]
[null,null,null,null,null,{"$f":"IFERROR((VLOOKUP(#REF!,'5-PMS'!$F$14:$N$192,6,FALSE)),\"\")","v":""},null,null,null,null,{"$f":"IF($A314>0,VLOOKUP($A314,'Last Document Status-HOMA'!$C:$Y,MATCH(K$9,'Last Document Status-HOMA'!$1:$1,0)-2,0),0)","v":0},{"$f":"IF($A314>0,VLOOKUP($A314,'Last Document Status-HOMA'!$C:$Y,MATCH(L$9,'Last Document Status-HOMA'!$1:$1,0)-2,0),0)","v":0},{"$f":"IF($A314>0,VLOOKUP($A314,'Last Document Status-HOMA'!$C:$Y,MATCH(M$9,'Last Document Status-HOMA'!$1:$1,0)-2,0),0)","v":"00:00:00"},{"$f":"IF($A314>0,VLOOKUP($A314,'Last Document Status-HOMA'!$C:$Y,MATCH(\"Outgoing Date\",'Last Document Status-HOMA'!$1:$1,0)-2,0),0)","v":"00:00:00"},{"$f":"IF($A314>0,VLOOKUP($A314,'Last Document Status-HOMA'!$C:$Y,MATCH(O$9,'Last Document Status-HOMA'!$1:$1,0)-2,0),0)","v":0}]
[null,null,null,null,null,{"$f":"IFERROR((VLOOKUP(#REF!,'5-PMS'!$F$14:$N$192,6,FALSE)),\"\")","v":""},null,null,null,null,{"$f":"IF($A315>0,VLOOKUP($A315,'Last Document Status-HOMA'!$C:$Y,MATCH(K$9,'Last Document Status-HOMA'!$1:$1,0)-2,0),0)","v":0},{"$f":"IF($A315>0,VLOOKUP($A315,'Last Document Status-HOMA'!$C:$Y,MATCH(L$9,'Last Document Status-HOMA'!$1:$1,0)-2,0),0)","v":0},{"$f":"IF($A315>0,VLOOKUP($A315,'Last Document Status-HOMA'!$C:$Y,MATCH(M$9,'Last Document Status-HOMA'!$1:$1,0)-2,0),0)","v":"00:00:00"},{"$f":"IF($A315>0,VLOOKUP($A315,'Last Document Status-HOMA'!$C:$Y,MATCH(\"Outgoing Date\",'Last Document Status-HOMA'!$1:$1,0)-2,0),0)","v":"00:00:00"},{"$f":"IF($A315>0,VLOOKUP($A315,'Last Document Status-HOMA'!$C:$Y,MATCH(O$9,'Last Document Status-HOMA'!$1:$1,0)-2,0),0)","v":0}]
[null,null,null,null,null,{"$f":"IFERROR((VLOOKUP(#REF!,'5-PMS'!$F$14:$N$192,6,FALSE)),\"\")","v":""},null,null,null,null,{"$f":"IF($A316>0,VLOOKUP($A316,'Last Document Status-HOMA'!$C:$Y,MATCH(K$9,'Last Document Status-HOMA'!$1:$1,0)-2,0),0)","v":0},{"$f":"IF($A316>0,VLOOKUP($A316,'Last Document Status-HOMA'!$C:$Y,MATCH(L$9,'Last Document Status-HOMA'!$1:$1,0)-2,0),0)","v":0},{"$f":"IF($A316>0,VLOOKUP($A316,'Last Document Status-HOMA'!$C:$Y,MATCH(M$9,'Last Document Status-HOMA'!$1:$1,0)-2,0),0)","v":"00:00:00"},{"$f":"IF($A316>0,VLOOKUP($A316,'Last Document Status-HOMA'!$C:$Y,MATCH(\"Outgoing Date\",'Last Document Status-HOMA'!$1:$1,0)-2,0),0)","v":"00:00:00"},{"$f":"IF($A316>0,VLOOKUP($A316,'Last Document Status-HOMA'!$C:$Y,MATCH(O$9,'Last Document Status-HOMA'!$1:$1,0)-2,0),0)","v":0}]
[null,null,null,null,null,{"$f":"IFERROR((VLOOKUP(#REF!,'5-PMS'!$F$14:$N$192,6,FALSE)),\"\")","v":""},null,null,null,null,{"$f":"IF($A317>0,VLOOKUP($A317,'Last Document Status-HOMA'!$C:$Y,MATCH(K$9,'Last Document Status-HOMA'!$1:$1,0)-2,0),0)","v":0},{"$f":"IF($A317>0,VLOOKUP($A317,'Last Document Status-HOMA'!$C:$Y,MATCH(L$9,'Last Document Status-HOMA'!$1:$1,0)-2,0),0)","v":0},{"$f":"IF($A317>0,VLOOKUP($A317,'Last Document Status-HOMA'!$C:$Y,MATCH(M$9,'Last Document Status-HOMA'!$1:$1,0)-2,0),0)","v":"00:00:00"},{"$f":"IF($A317>0,VLOOKUP($A317,'Last Document Status-HOMA'!$C:$Y,MATCH(\"Outgoing Date\",'Last Document Status-HOMA'!$1:$1,0)-2,0),0)","v":"00:00:00"},{"$f":"IF($A317>0,VLOOKUP($A317,'Last Document Status-HOMA'!$C:$Y,MATCH(O$9,'Last Document Status-HOMA'!$1:$1,0)-2,0),0)","v":0}]
[null,null,null,null,null,{"$f":"IFERROR((VLOOKUP(#REF!,'5-PMS'!$F$14:$N$192,6,FALSE)),\"\")","v":""},null,null,null,null,{"$f":"IF($A318>0,VLOOKUP($A318,'Last Document Status-HOMA'!$C:$Y,MATCH(K$9,'Last Document Status-HOMA'!$1:$1,0)-2,0),0)","v":0},{"$f":"IF($A318>0,VLOOKUP($A318,'Last Document Status-HOMA'!$C:$Y,MATCH(L$9,'Last Document Status-HOMA'!$1:$1,0)-2,0),0)","v":0},{"$f":"IF($A318>0,VLOOKUP($A318,'Last Document Status-HOMA'!$C:$Y,MATCH(M$9,'Last Document Status-HOMA'!$1:$1,0)-2,0),0)","v":"00:00:00"},{"$f":"IF($A318>0,VLOOKUP($A318,'Last Document Status-HOMA'!$C:$Y,MATCH(\"Outgoing Date\",'Last Document Status-HOMA'!$1:$1,0)-2,0),0)","v":"00:00:00"},{"$f":"IF($A318>0,VLOOKUP($A318,'Last Document Status-HOMA'!$C:$Y,MATCH(O$9,'Last Document Status-HOMA'!$1:$1,0)-2,0),0)","v":0}]
[null,null,null,null,null,{"$f":"IFERROR((VLOOKUP(#REF!,'5-PMS'!$F$14:$N$192,6,FALSE)),\"\")","v":""},null,null,null,null,{"$f":"IF($A319>0,VLOOKUP($A319,'Last Document Status-HOMA'!$C:$Y,MATCH(K$9,'Last Document Status-HOMA'!$1:$1,0)-2,0),0)","v":0},{"$f":"IF($A319>0,VLOOKUP($A319,'Last Document Status-HOMA'!$C:$Y,MATCH(L$9,'Last Document Status-HOMA'!$1:$1,0)-2,0),0)","v":0},{"$f":"IF($A319>0,VLOOKUP($A319,'Last Document Status-HOMA'!$C:$Y,MATCH(M$9,'Last Document Status-HOMA'!$1:$1,0)-2,0),0)","v":"00:00:00"},{"$f":"IF($A319>0,VLOOKUP($A319,'Last Document Status-HOMA'!$C:$Y,MATCH(\"Outgoing Date\",'Last Document Status-HOMA'!$1:$1,0)-2,0),0)","v":"00:00:00"},{"$f":"IF($A319>0,VLOOKUP($A319,'Last Document Status-HOMA'!$C:$Y,MATCH(O$9,'Last Document Status-HOMA'!$1:$1,0)-2,0),0)","v":0}]
[null,null,null,null,null,{"$f":"IFERROR((VLOOKUP(#REF!,'5-PMS'!$F$14:$N$192,6,FALSE)),\"\")","v":""},null,null,null,null,{"$f":"IF($A320>0,VLOOKUP($A320,'Last Document Status-HOMA'!$C:$Y,MATCH(K$9,'Last Document Status-HOMA'!$1:$1,0)-2,0),0)","v":0},{"$f":"IF($A320>0,VLOOKUP($A320,'Last Document Status-HOMA'!$C:$Y,MATCH(L$9,'Last Document Status-HOMA'!$1:$1,0)-2,0),0)","v":0},{"$f":"IF($A320>0,VLOOKUP($A320,'Last Document Status-HOMA'!$C:$Y,MATCH(M$9,'Last Document Status-HOMA'!$1:$1,0)-2,0),0)","v":"00:00:00"},{"$f":"IF($A320>0,VLOOKUP($A320,'Last Document Status-HOMA'!$C:$Y,MATCH(\"Outgoing Date\",'Last Document Status-HOMA'!$1:$1,0)-2,0),0)","v":"00:00:00"},{"$f":"IF($A320>0,VLOOKUP($A320,'Last Document Status-HOMA'!$C:$Y,MATCH(O$9,'Last Document Status-HOMA'!$1:$1,0)-2,0),0)","v":0}]
[null,null,null,null,null,{"$f":"IFERROR((VLOOKUP(#REF!,'5-PMS'!$F$14:$N$192,6,FALSE)),\"\")","v":""},null,null,null,null,{"$f":"IF($A321>0,VLOOKUP($A321,'Last Document Status-HOMA'!$C:$Y,MATCH(K$9,'Last Document Status-HOMA'!$1:$1,0)-2,0),0)","v":0},{"$f":"IF($A321>0,VLOOKUP($A321,'Last Document Status-HOMA'!$C:$Y,MATCH(L$9,'Last Document Status-HOMA'!$1:$1,0)-2,0),0)","v":0},{"$f":"IF($A321>0,VLOOKUP($A321,'Last Document Status-HOMA'!$C:$Y,MATCH(M$9,'Last Document Status-HOMA'!$1:$1,0)-2,0),0)","v":"00:00:00"},{"$f":"IF($A321>0,VLOOKUP($A321,'Last Document Status-HOMA'!$C:$Y,MATCH(\"Outgoing Date\",'Last Document Status-HOMA'!$1:$1,0)-2,0),0)","v":"00:00:00"},{"$f":"IF($A321>0,VLOOKUP($A321,'Last Document Status-HOMA'!$C:$Y,MATCH(O$9,'Last Document Status-HOMA'!$1:$1,0)-2,0),0)","v":0}]
[null,null,null,null,null,{"$f":"IFERROR((VLOOKUP(#REF!,'5-PMS'!$F$14:$N$192,6,FALSE)),\"\")","v":""},null,null,null,null,{"$f":"IF($A322>0,VLOOKUP($A322,'Last Document Status-HOMA'!$C:$Y,MATCH(K$9,'Last Document Status-HOMA'!$1:$1,0)-2,0),0)","v":0},{"$f":"IF($A322>0,VLOOKUP($A322,'Last Document Status-HOMA'!$C:$Y,MATCH(L$9,'Last Document Status-HOMA'!$1:$1,0)-2,0),0)","v":0},{"$f":"IF($A322>0,VLOOKUP($A322,'Last Document Status-HOMA'!$C:$Y,MATCH(M$9,'Last Document Status-HOMA'!$1:$1,0)-2,0),0)","v":"00:00:00"},{"$f":"IF($A322>0,VLOOKUP($A322,'Last Document Status-HOMA'!$C:$Y,MATCH(\"Outgoing Date\",'Last Document Status-HOMA'!$1:$1,0)-2,0),0)","v":"00:00:00"},{"$f":"IF($A322>0,VLOOKUP($A322,'Last Document Status-HOMA'!$C:$Y,MATCH(O$9,'Last Document Status-HOMA'!$1:$1,0)-2,0),0)","v":0}]
[null,null,null,null,null,{"$f":"IFERROR((VLOOKUP(#REF!,'5-PMS'!$F$14:$N$192,6,FALSE)),\"\")","v":""},null,null,null,null,{"$f":"IF($A323>0,VLOOKUP($A323,'Last Document Status-HOMA'!$C:$Y,MATCH(K$9,'Last Document Status-HOMA'!$1:$1,0)-2,0),0)","v":0},{"$f":"IF($A323>0,VLOOKUP($A323,'Last Document Status-HOMA'!$C:$Y,MATCH(L$9,'Last Document Status-HOMA'!$1:$1,0)-2,0),0)","v":0},{"$f":"IF($A323>0,VLOOKUP($A323,'Last Document Status-HOMA'!$C:$Y,MATCH(M$9,'Last Document Status-HOMA'!$1:$1,0)-2,0),0)","v":"00:00:00"},{"$f":"IF($A323>0,VLOOKUP($A323,'Last Document Status-HOMA'!$C:$Y,MATCH(\"Outgoing Date\",'Last Document Status-HOMA'!$1:$1,0)-2,0),0)","v":"00:00:00"},{"$f":"IF($A323>0,VLOOKUP($A323,'Last Document Status-HOMA'!$C:$Y,MATCH(O$9,'Last Document Status-HOMA'!$1:$1,0)-2,0),0)","v":0}]
[null,null,null,null,null,{"$f":"IFERROR((VLOOKUP(#REF!,'5-PMS'!$F$14:$N$192,6,FALSE)),\"\")","v":""},null,null,null,null,{"$f":"IF($A324>0,VLOOKUP($A324,'Last Document Status-HOMA'!$C:$Y,MATCH(K$9,'Last Document Status-HOMA'!$1:$1,0)-2,0),0)","v":0},{"$f":"IF($A324>0,VLOOKUP($A324,'Last Document Status-HOMA'!$C:$Y,MATCH(L$9,'Last Document Status-HOMA'!$1:$1,0)-2,0),0)","v":0},{"$f":"IF($A324>0,VLOOKUP($A324,'Last Document Status-HOMA'!$C:$Y,MATCH(M$9,'Last Document Status-HOMA'!$1:$1,0)-2,0),0)","v":"00:00:00"},{"$f":"IF($A324>0,VLOOKUP($A324,'Last Document Status-HOMA'!$C:$Y,MATCH(\"Outgoing Date\",'Last Document Status-HOMA'!$1:$1,0)-2,0),0)","v":"00:00:00"},{"$f":"IF($A324>0,VLOOKUP($A324,'Last Document Status-HOMA'!$C:$Y,MATCH(O$9,'Last Document Status-HOMA'!$1:$1,0)-2,0),0)","v":0}]
[null,null,null,null,null,{"$f":"IFERROR((VLOOKUP(#REF!,'5-PMS'!$F$14:$N$192,6,FALSE)),\"\")","v":""},null,null,null,null,{"$f":"IF($A325>0,VLOOKUP($A325,'Last Document Status-HOMA'!$C:$Y,MATCH(K$9,'Last Document Status-HOMA'!$1:$1,0)-2,0),0)","v":0},{"$f":"IF($A325>0,VLOOKUP($A325,'Last Document Status-HOMA'!$C:$Y,MATCH(L$9,'Last Document Status-HOMA'!$1:$1,0)-2,0),0)","v":0},{"$f":"IF($A325>0,VLOOKUP($A325,'Last Document Status-HOMA'!$C:$Y,MATCH(M$9,'Last Document Status-HOMA'!$1:$1,0)-2,0),0)","v":"00:00:00"},{"$f":"IF($A325>0,VLOOKUP($A325,'Last Document Status-HOMA'!$C:$Y,MATCH(\"Outgoing Date\",'Last Document Status-HOMA'!$1:$1,0)-2,0),0)","v":"00:00:00"},{"$f":"IF($A325>0,VLOOKUP($A325,'Last Document Status-HOMA'!$C:$Y,MATCH(O$9,'Last Document Status-HOMA'!$1:$1,0)-2,0),0)","v":0}]
[null,null,null,null,null,{"$f":"IFERROR((VLOOKUP(#REF!,'5-PMS'!$F$14:$N$192,6,FALSE)),\"\")","v":""},null,null,null,null,{"$f":"IF($A326>0,VLOOKUP($A326,'Last Document Status-HOMA'!$C:$Y,MATCH(K$9,'Last Document Status-HOMA'!$1:$1,0)-2,0),0)","v":0},{"$f":"IF($A326>0,VLOOKUP($A326,'Last Document Status-HOMA'!$C:$Y,MATCH(L$9,'Last Document Status-HOMA'!$1:$1,0)-2,0),0)","v":0},{"$f":"IF($A326>0,VLOOKUP($A326,'Last Document Status-HOMA'!$C:$Y,MATCH(M$9,'Last Document Status-HOMA'!$1:$1,0)-2,0),0)","v":"00:00:00"},{"$f":"IF($A326>0,VLOOKUP($A326,'Last Document Status-HOMA'!$C:$Y,MATCH(\"Outgoing Date\",'Last Document Status-HOMA'!$1:$1,0)-2,0),0)","v":"00:00:00"},{"$f":"IF($A326>0,VLOOKUP($A326,'Last Document Status-HOMA'!$C:$Y,MATCH(O$9,'Last Document Status-HOMA'!$1:$1,0)-2,0),0)","v":0}]
[null,null,null,null,null,{"$f":"IFERROR((VLOOKUP(#REF!,'5-PMS'!$F$14:$N$192,6,FALSE)),\"\")","v":""},null,null,null,null,{"$f":"IF($A327>0,VLOOKUP($A327,'Last Document Status-HOMA'!$C:$Y,MATCH(K$9,'Last Document Status-HOMA'!$1:$1,0)-2,0),0)","v":0},{"$f":"IF($A327>0,VLOOKUP($A327,'Last Document Status-HOMA'!$C:$Y,MATCH(L$9,'Last Document Status-HOMA'!$1:$1,0)-2,0),0)","v":0},{"$f":"IF($A327>0,VLOOKUP($A327,'Last Document Status-HOMA'!$C:$Y,MATCH(M$9,'Last Document Status-HOMA'!$1:$1,0)-2,0),0)","v":"00:00:00"},{"$f":"IF($A327>0,VLOOKUP($A327,'Last Document Status-HOMA'!$C:$Y,MATCH(\"Outgoing Date\",'Last Document Status-HOMA'!$1:$1,0)-2,0),0)","v":"00:00:00"},{"$f":"IF($A327>0,VLOOKUP($A327,'Last Document Status-HOMA'!$C:$Y,MATCH(O$9,'Last Document Status-HOMA'!$1:$1,0)-2,0),0)","v":0}]
[null,null,null,null,null,{"$f":"IFERROR((VLOOKUP(#REF!,'5-PMS'!$F$14:$N$192,6,FALSE)),\"\")","v":""},null,null,null,null,{"$f":"IF($A328>0,VLOOKUP($A328,'Last Document Status-HOMA'!$C:$Y,MATCH(K$9,'Last Document Status-HOMA'!$1:$1,0)-2,0),0)","v":0},{"$f":"IF($A328>0,VLOOKUP($A328,'Last Document Status-HOMA'!$C:$Y,MATCH(L$9,'Last Document Status-HOMA'!$1:$1,0)-2,0),0)","v":0},{"$f":"IF($A328>0,VLOOKUP($A328,'Last Document Status-HOMA'!$C:$Y,MATCH(M$9,'Last Document Status-HOMA'!$1:$1,0)-2,0),0)","v":"00:00:00"},{"$f":"IF($A328>0,VLOOKUP($A328,'Last Document Status-HOMA'!$C:$Y,MATCH(\"Outgoing Date\",'Last Document Status-HOMA'!$1:$1,0)-2,0),0)","v":"00:00:00"},{"$f":"IF($A328>0,VLOOKUP($A328,'Last Document Status-HOMA'!$C:$Y,MATCH(O$9,'Last Document Status-HOMA'!$1:$1,0)-2,0),0)","v":0}]
[null,null,null,null,null,{"$f":"IFERROR((VLOOKUP(#REF!,'5-PMS'!$F$14:$N$192,6,FALSE)),\"\")","v":""},null,null,null,null,{"$f":"IF($A329>0,VLOOKUP($A329,'Last Document Status-HOMA'!$C:$Y,MATCH(K$9,'Last Document Status-HOMA'!$1:$1,0)-2,0),0)","v":0},{"$f":"IF($A329>0,VLOOKUP($A329,'Last Document Status-HOMA'!$C:$Y,MATCH(L$9,'Last Document Status-HOMA'!$1:$1,0)-2,0),0)","v":0},{"$f":"IF($A329>0,VLOOKUP($A329,'Last Document Status-HOMA'!$C:$Y,MATCH(M$9,'Last Document Status-HOMA'!$1:$1,0)-2,0),0)","v":"00:00:00"},{"$f":"IF($A329>0,VLOOKUP($A329,'Last Document Status-HOMA'!$C:$Y,MATCH(\"Outgoing Date\",'Last Document Status-HOMA'!$1:$1,0)-2,0),0)","v":"00:00:00"},{"$f":"IF($A329>0,VLOOKUP($A329,'Last Document Status-HOMA'!$C:$Y,MATCH(O$9,'Last Document Status-HOMA'!$1:$1,0)-2,0),0)","v":0}]
[null,null,null,null,null,{"$f":"IFERROR((VLOOKUP(#REF!,'5-PMS'!$F$14:$N$192,6,FALSE)),\"\")","v":""},null,null,null,null,{"$f":"IF($A330>0,VLOOKUP($A330,'Last Document Status-HOMA'!$C:$Y,MATCH(K$9,'Last Document Status-HOMA'!$1:$1,0)-2,0),0)","v":0},{"$f":"IF($A330>0,VLOOKUP($A330,'Last Document Status-HOMA'!$C:$Y,MATCH(L$9,'Last Document Status-HOMA'!$1:$1,0)-2,0),0)","v":0},{"$f":"IF($A330>0,VLOOKUP($A330,'Last Document Status-HOMA'!$C:$Y,MATCH(M$9,'Last Document Status-HOMA'!$1:$1,0)-2,0),0)","v":"00:00:00"},{"$f":"IF($A330>0,VLOOKUP($A330,'Last Document Status-HOMA'!$C:$Y,MATCH(\"Outgoing Date\",'Last Document Status-HOMA'!$1:$1,0)-2,0),0)","v":"00:00:00"},{"$f":"IF($A330>0,VLOOKUP($A330,'Last Document Status-HOMA'!$C:$Y,MATCH(O$9,'Last Document Status-HOMA'!$1:$1,0)-2,0),0)","v":0}]
[null,null,null,null,null,{"$f":"IFERROR((VLOOKUP(#REF!,'5-PMS'!$F$14:$N$192,6,FALSE)),\"\")","v":""},null,null,null,null,{"$f":"IF($A331>0,VLOOKUP($A331,'Last Document Status-HOMA'!$C:$Y,MATCH(K$9,'Last Document Status-HOMA'!$1:$1,0)-2,0),0)","v":0},{"$f":"IF($A331>0,VLOOKUP($A331,'Last Document Status-HOMA'!$C:$Y,MATCH(L$9,'Last Document Status-HOMA'!$1:$1,0)-2,0),0)","v":0},{"$f":"IF($A331>0,VLOOKUP($A331,'Last Document Status-HOMA'!$C:$Y,MATCH(M$9,'Last Document Status-HOMA'!$1:$1,0)-2,0),0)","v":"00:00:00"},{"$f":"IF($A331>0,VLOOKUP($A331,'Last Document Status-HOMA'!$C:$Y,MATCH(\"Outgoing Date\",'Last Document Status-HOMA'!$1:$1,0)-2,0),0)","v":"00:00:00"},{"$f":"IF($A331>0,VLOOKUP($A331,'Last Document Status-HOMA'!$C:$Y,MATCH(O$9,'Last Document Status-HOMA'!$1:$1,0)-2,0),0)","v":0}]
[null,null,null,null,null,{"$f":"IFERROR((VLOOKUP(#REF!,'5-PMS'!$F$14:$N$192,6,FALSE)),\"\")","v":""},null,null,null,null,{"$f":"IF($A332>0,VLOOKUP($A332,'Last Document Status-HOMA'!$C:$Y,MATCH(K$9,'Last Document Status-HOMA'!$1:$1,0)-2,0),0)","v":0},{"$f":"IF($A332>0,VLOOKUP($A332,'Last Document Status-HOMA'!$C:$Y,MATCH(L$9,'Last Document Status-HOMA'!$1:$1,0)-2,0),0)","v":0},{"$f":"IF($A332>0,VLOOKUP($A332,'Last Document Status-HOMA'!$C:$Y,MATCH(M$9,'Last Document Status-HOMA'!$1:$1,0)-2,0),0)","v":"00:00:00"},{"$f":"IF($A332>0,VLOOKUP($A332,'Last Document Status-HOMA'!$C:$Y,MATCH(\"Outgoing Date\",'Last Document Status-HOMA'!$1:$1,0)-2,0),0)","v":"00:00:00"},{"$f":"IF($A332>0,VLOOKUP($A332,'Last Document Status-HOMA'!$C:$Y,MATCH(O$9,'Last Document Status-HOMA'!$1:$1,0)-2,0),0)","v":0}]
[null,null,null,null,null,{"$f":"IFERROR((VLOOKUP(#REF!,'5-PMS'!$F$14:$N$192,6,FALSE)),\"\")","v":""},null,null,null,null,{"$f":"IF($A333>0,VLOOKUP($A333,'Last Document Status-HOMA'!$C:$Y,MATCH(K$9,'Last Document Status-HOMA'!$1:$1,0)-2,0),0)","v":0},{"$f":"IF($A333>0,VLOOKUP($A333,'Last Document Status-HOMA'!$C:$Y,MATCH(L$9,'Last Document Status-HOMA'!$1:$1,0)-2,0),0)","v":0},{"$f":"IF($A333>0,VLOOKUP($A333,'Last Document Status-HOMA'!$C:$Y,MATCH(M$9,'Last Document Status-HOMA'!$1:$1,0)-2,0),0)","v":"00:00:00"},{"$f":"IF($A333>0,VLOOKUP($A333,'Last Document Status-HOMA'!$C:$Y,MATCH(\"Outgoing Date\",'Last Document Status-HOMA'!$1:$1,0)-2,0),0)","v":"00:00:00"},{"$f":"IF($A333>0,VLOOKUP($A333,'Last Document Status-HOMA'!$C:$Y,MATCH(O$9,'Last Document Status-HOMA'!$1:$1,0)-2,0),0)","v":0}]
[null,null,null,null,null,{"$f":"IFERROR((VLOOKUP(#REF!,'5-PMS'!$F$14:$N$192,6,FALSE)),\"\")","v":""},null,null,null,null,{"$f":"IF($A334>0,VLOOKUP($A334,'Last Document Status-HOMA'!$C:$Y,MATCH(K$9,'Last Document Status-HOMA'!$1:$1,0)-2,0),0)","v":0},{"$f":"IF($A334>0,VLOOKUP($A334,'Last Document Status-HOMA'!$C:$Y,MATCH(L$9,'Last Document Status-HOMA'!$1:$1,0)-2,0),0)","v":0},{"$f":"IF($A334>0,VLOOKUP($A334,'Last Document Status-HOMA'!$C:$Y,MATCH(M$9,'Last Document Status-HOMA'!$1:$1,0)-2,0),0)","v":"00:00:00"},{"$f":"IF($A334>0,VLOOKUP($A334,'Last Document Status-HOMA'!$C:$Y,MATCH(\"Outgoing Date\",'Last Document Status-HOMA'!$1:$1,0)-2,0),0)","v":"00:00:00"},{"$f":"IF($A334>0,VLOOKUP($A334,'Last Document Status-HOMA'!$C:$Y,MATCH(O$9,'Last Document Status-HOMA'!$1:$1,0)-2,0),0)","v":0}]
[null,null,null,null,null,{"$f":"IFERROR((VLOOKUP(#REF!,'5-PMS'!$F$14:$N$192,6,FALSE)),\"\")","v":""},null,null,null,null,{"$f":"IF($A335>0,VLOOKUP($A335,'Last Document Status-HOMA'!$C:$Y,MATCH(K$9,'Last Document Status-HOMA'!$1:$1,0)-2,0),0)","v":0},{"$f":"IF($A335>0,VLOOKUP($A335,'Last Document Status-HOMA'!$C:$Y,MATCH(L$9,'Last Document Status-HOMA'!$1:$1,0)-2,0),0)","v":0},{"$f":"IF($A335>0,VLOOKUP($A335,'Last Document Status-HOMA'!$C:$Y,MATCH(M$9,'Last Document Status-HOMA'!$1:$1,0)-2,0),0)","v":"00:00:00"},{"$f":"IF($A335>0,VLOOKUP($A335,'Last Document Status-HOMA'!$C:$Y,MATCH(\"Outgoing Date\",'Last Document Status-HOMA'!$1:$1,0)-2,0),0)","v":"00:00:00"},{"$f":"IF($A335>0,VLOOKUP($A335,'Last Document Status-HOMA'!$C:$Y,MATCH(O$9,'Last Document Status-HOMA'!$1:$1,0)-2,0),0)","v":0}]
[null,null,null,null,null,{"$f":"IFERROR((VLOOKUP(#REF!,'5-PMS'!$F$14:$N$192,6,FALSE)),\"\")","v":""},null,null,null,null,{"$f":"IF($A336>0,VLOOKUP($A336,'Last Document Status-HOMA'!$C:$Y,MATCH(K$9,'Last Document Status-HOMA'!$1:$1,0)-2,0),0)","v":0},{"$f":"IF($A336>0,VLOOKUP($A336,'Last Document Status-HOMA'!$C:$Y,MATCH(L$9,'Last Document Status-HOMA'!$1:$1,0)-2,0),0)","v":0},{"$f":"IF($A336>0,VLOOKUP($A336,'Last Document Status-HOMA'!$C:$Y,MATCH(M$9,'Last Document Status-HOMA'!$1:$1,0)-2,0),0)","v":"00:00:00"},{"$f":"IF($A336>0,VLOOKUP($A336,'Last Document Status-HOMA'!$C:$Y,MATCH(\"Outgoing Date\",'Last Document Status-HOMA'!$1:$1,0)-2,0),0)","v":"00:00:00"},{"$f":"IF($A336>0,VLOOKUP($A336,'Last Document Status-HOMA'!$C:$Y,MATCH(O$9,'Last Document Status-HOMA'!$1:$1,0)-2,0),0)","v":0}]
[null,null,null,null,null,{"$f":"IFERROR((VLOOKUP(#REF!,'5-PMS'!$F$14:$N$192,6,FALSE)),\"\")","v":""},null,null,null,null,{"$f":"IF($A337>0,VLOOKUP($A337,'Last Document Status-HOMA'!$C:$Y,MATCH(K$9,'Last Document Status-HOMA'!$1:$1,0)-2,0),0)","v":0},{"$f":"IF($A337>0,VLOOKUP($A337,'Last Document Status-HOMA'!$C:$Y,MATCH(L$9,'Last Document Status-HOMA'!$1:$1,0)-2,0),0)","v":0},{"$f":"IF($A337>0,VLOOKUP($A337,'Last Document Status-HOMA'!$C:$Y,MATCH(M$9,'Last Document Status-HOMA'!$1:$1,0)-2,0),0)","v":"00:00:00"},{"$f":"IF($A337>0,VLOOKUP($A337,'Last Document Status-HOMA'!$C:$Y,MATCH(\"Outgoing Date\",'Last Document Status-HOMA'!$1:$1,0)-2,0),0)","v":"00:00:00"},{"$f":"IF($A337>0,VLOOKUP($A337,'Last Document Status-HOMA'!$C:$Y,MATCH(O$9,'Last Document Status-HOMA'!$1:$1,0)-2,0),0)","v":0}]
[null,null,null,null,null,{"$f":"IFERROR((VLOOKUP(#REF!,'5-PMS'!$F$14:$N$192,6,FALSE)),\"\")","v":""},null,null,null,null,{"$f":"IF($A338>0,VLOOKUP($A338,'Last Document Status-HOMA'!$C:$Y,MATCH(K$9,'Last Document Status-HOMA'!$1:$1,0)-2,0),0)","v":0},{"$f":"IF($A338>0,VLOOKUP($A338,'Last Document Status-HOMA'!$C:$Y,MATCH(L$9,'Last Document Status-HOMA'!$1:$1,0)-2,0),0)","v":0},{"$f":"IF($A338>0,VLOOKUP($A338,'Last Document Status-HOMA'!$C:$Y,MATCH(M$9,'Last Document Status-HOMA'!$1:$1,0)-2,0),0)","v":"00:00:00"},{"$f":"IF($A338>0,VLOOKUP($A338,'Last Document Status-HOMA'!$C:$Y,MATCH(\"Outgoing Date\",'Last Document Status-HOMA'!$1:$1,0)-2,0),0)","v":"00:00:00"},{"$f":"IF($A338>0,VLOOKUP($A338,'Last Document Status-HOMA'!$C:$Y,MATCH(O$9,'Last Document Status-HOMA'!$1:$1,0)-2,0),0)","v":0}]
[null,null,null,null,null,{"$f":"IFERROR((VLOOKUP(#REF!,'5-PMS'!$F$14:$N$192,6,FALSE)),\"\")","v":""},null,null,null,null,{"$f":"IF($A339>0,VLOOKUP($A339,'Last Document Status-HOMA'!$C:$Y,MATCH(K$9,'Last Document Status-HOMA'!$1:$1,0)-2,0),0)","v":0},{"$f":"IF($A339>0,VLOOKUP($A339,'Last Document Status-HOMA'!$C:$Y,MATCH(L$9,'Last Document Status-HOMA'!$1:$1,0)-2,0),0)","v":0},{"$f":"IF($A339>0,VLOOKUP($A339,'Last Document Status-HOMA'!$C:$Y,MATCH(M$9,'Last Document Status-HOMA'!$1:$1,0)-2,0),0)","v":"00:00:00"},{"$f":"IF($A339>0,VLOOKUP($A339,'Last Document Status-HOMA'!$C:$Y,MATCH(\"Outgoing Date\",'Last Document Status-HOMA'!$1:$1,0)-2,0),0)","v":"00:00:00"},{"$f":"IF($A339>0,VLOOKUP($A339,'Last Document Status-HOMA'!$C:$Y,MATCH(O$9,'Last Document Status-HOMA'!$1:$1,0)-2,0),0)","v":0}]
[null,null,null,null,null,{"$f":"IFERROR((VLOOKUP(#REF!,'5-PMS'!$F$14:$N$192,6,FALSE)),\"\")","v":""},null,null,null,null,{"$f":"IF($A340>0,VLOOKUP($A340,'Last Document Status-HOMA'!$C:$Y,MATCH(K$9,'Last Document Status-HOMA'!$1:$1,0)-2,0),0)","v":0},{"$f":"IF($A340>0,VLOOKUP($A340,'Last Document Status-HOMA'!$C:$Y,MATCH(L$9,'Last Document Status-HOMA'!$1:$1,0)-2,0),0)","v":0},{"$f":"IF($A340>0,VLOOKUP($A340,'Last Document Status-HOMA'!$C:$Y,MATCH(M$9,'Last Document Status-HOMA'!$1:$1,0)-2,0),0)","v":"00:00:00"},{"$f":"IF($A340>0,VLOOKUP($A340,'Last Document Status-HOMA'!$C:$Y,MATCH(\"Outgoing Date\",'Last Document Status-HOMA'!$1:$1,0)-2,0),0)","v":"00:00:00"},{"$f":"IF($A340>0,VLOOKUP($A340,'Last Document Status-HOMA'!$C:$Y,MATCH(O$9,'Last Document Status-HOMA'!$1:$1,0)-2,0),0)","v":0}]
[null,null,null,null,null,{"$f":"IFERROR((VLOOKUP(#REF!,'5-PMS'!$F$14:$N$192,6,FALSE)),\"\")","v":""},null,null,null,null,{"$f":"IF($A341>0,VLOOKUP($A341,'Last Document Status-HOMA'!$C:$Y,MATCH(K$9,'Last Document Status-HOMA'!$1:$1,0)-2,0),0)","v":0},{"$f":"IF($A341>0,VLOOKUP($A341,'Last Document Status-HOMA'!$C:$Y,MATCH(L$9,'Last Document Status-HOMA'!$1:$1,0)-2,0),0)","v":0},{"$f":"IF($A341>0,VLOOKUP($A341,'Last Document Status-HOMA'!$C:$Y,MATCH(M$9,'Last Document Status-HOMA'!$1:$1,0)-2,0),0)","v":"00:00:00"},{"$f":"IF($A341>0,VLOOKUP($A341,'Last Document Status-HOMA'!$C:$Y,MATCH(\"Outgoing Date\",'Last Document Status-HOMA'!$1:$1,0)-2,0),0)","v":"00:00:00"},{"$f":"IF($A341>0,VLOOKUP($A341,'Last Document Status-HOMA'!$C:$Y,MATCH(O$9,'Last Document Status-HOMA'!$1:$1,0)-2,0),0)","v":0}]
[null,null,null,null,null,{"$f":"IFERROR((VLOOKUP(#REF!,'5-PMS'!$F$14:$N$192,6,FALSE)),\"\")","v":""},null,null,null,null,{"$f":"IF($A342>0,VLOOKUP($A342,'Last Document Status-HOMA'!$C:$Y,MATCH(K$9,'Last Document Status-HOMA'!$1:$1,0)-2,0),0)","v":0},{"$f":"IF($A342>0,VLOOKUP($A342,'Last Document Status-HOMA'!$C:$Y,MATCH(L$9,'Last Document Status-HOMA'!$1:$1,0)-2,0),0)","v":0},{"$f":"IF($A342>0,VLOOKUP($A342,'Last Document Status-HOMA'!$C:$Y,MATCH(M$9,'Last Document Status-HOMA'!$1:$1,0)-2,0),0)","v":"00:00:00"},{"$f":"IF($A342>0,VLOOKUP($A342,'Last Document Status-HOMA'!$C:$Y,MATCH(\"Outgoing Date\",'Last Document Status-HOMA'!$1:$1,0)-2,0),0)","v":"00:00:00"},{"$f":"IF($A342>0,VLOOKUP($A342,'Last Document Status-HOMA'!$C:$Y,MATCH(O$9,'Last Document Status-HOMA'!$1:$1,0)-2,0),0)","v":0}]
[null,null,null,null,null,{"$f":"IFERROR((VLOOKUP(#REF!,'5-PMS'!$F$14:$N$192,6,FALSE)),\"\")","v":""},null,null,null,null,{"$f":"IF($A343>0,VLOOKUP($A343,'Last Document Status-HOMA'!$C:$Y,MATCH(K$9,'Last Document Status-HOMA'!$1:$1,0)-2,0),0)","v":0},{"$f":"IF($A343>0,VLOOKUP($A343,'Last Document Status-HOMA'!$C:$Y,MATCH(L$9,'Last Document Status-HOMA'!$1:$1,0)-2,0),0)","v":0},{"$f":"IF($A343>0,VLOOKUP($A343,'Last Document Status-HOMA'!$C:$Y,MATCH(M$9,'Last Document Status-HOMA'!$1:$1,0)-2,0),0)","v":"00:00:00"},{"$f":"IF($A343>0,VLOOKUP($A343,'Last Document Status-HOMA'!$C:$Y,MATCH(\"Outgoing Date\",'Last Document Status-HOMA'!$1:$1,0)-2,0),0)","v":"00:00:00"},{"$f":"IF($A343>0,VLOOKUP($A343,'Last Document Status-HOMA'!$C:$Y,MATCH(O$9,'Last Document Status-HOMA'!$1:$1,0)-2,0),0)","v":0}]
[null,null,null,null,null,{"$f":"IFERROR((VLOOKUP(#REF!,'5-PMS'!$F$14:$N$192,6,FALSE)),\"\")","v":""},null,null,null,null,{"$f":"IF($A344>0,VLOOKUP($A344,'Last Document Status-HOMA'!$C:$Y,MATCH(K$9,'Last Document Status-HOMA'!$1:$1,0)-2,0),0)","v":0},{"$f":"IF($A344>0,VLOOKUP($A344,'Last Document Status-HOMA'!$C:$Y,MATCH(L$9,'Last Document Status-HOMA'!$1:$1,0)-2,0),0)","v":0},{"$f":"IF($A344>0,VLOOKUP($A344,'Last Document Status-HOMA'!$C:$Y,MATCH(M$9,'Last Document Status-HOMA'!$1:$1,0)-2,0),0)","v":"00:00:00"},{"$f":"IF($A344>0,VLOOKUP($A344,'Last Document Status-HOMA'!$C:$Y,MATCH(\"Outgoing Date\",'Last Document Status-HOMA'!$1:$1,0)-2,0),0)","v":"00:00:00"},{"$f":"IF($A344>0,VLOOKUP($A344,'Last Document Status-HOMA'!$C:$Y,MATCH(O$9,'Last Document Status-HOMA'!$1:$1,0)-2,0),0)","v":0}]
[null,null,null,null,null,{"$f":"IFERROR((VLOOKUP(#REF!,'5-PMS'!$F$14:$N$192,6,FALSE)),\"\")","v":""},null,null,null,null,{"$f":"IF($A345>0,VLOOKUP($A345,'Last Document Status-HOMA'!$C:$Y,MATCH(K$9,'Last Document Status-HOMA'!$1:$1,0)-2,0),0)","v":0},{"$f":"IF($A345>0,VLOOKUP($A345,'Last Document Status-HOMA'!$C:$Y,MATCH(L$9,'Last Document Status-HOMA'!$1:$1,0)-2,0),0)","v":0},{"$f":"IF($A345>0,VLOOKUP($A345,'Last Document Status-HOMA'!$C:$Y,MATCH(M$9,'Last Document Status-HOMA'!$1:$1,0)-2,0),0)","v":"00:00:00"},{"$f":"IF($A345>0,VLOOKUP($A345,'Last Document Status-HOMA'!$C:$Y,MATCH(\"Outgoing Date\",'Last Document Status-HOMA'!$1:$1,0)-2,0),0)","v":"00:00:00"},{"$f":"IF($A345>0,VLOOKUP($A345,'Last Document Status-HOMA'!$C:$Y,MATCH(O$9,'Last Document Status-HOMA'!$1:$1,0)-2,0),0)","v":0}]
[null,null,null,null,null,{"$f":"IFERROR((VLOOKUP(#REF!,'5-PMS'!$F$14:$N$192,6,FALSE)),\"\")","v":""},null,null,null,null,{"$f":"IF($A346>0,VLOOKUP($A346,'Last Document Status-HOMA'!$C:$Y,MATCH(K$9,'Last Document Status-HOMA'!$1:$1,0)-2,0),0)","v":0},{"$f":"IF($A346>0,VLOOKUP($A346,'Last Document Status-HOMA'!$C:$Y,MATCH(L$9,'Last Document Status-HOMA'!$1:$1,0)-2,0),0)","v":0},{"$f":"IF($A346>0,VLOOKUP($A346,'Last Document Status-HOMA'!$C:$Y,MATCH(M$9,'Last Document Status-HOMA'!$1:$1,0)-2,0),0)","v":"00:00:00"},{"$f":"IF($A346>0,VLOOKUP($A346,'Last Document Status-HOMA'!$C:$Y,MATCH(\"Outgoing Date\",'Last Document Status-HOMA'!$1:$1,0)-2,0),0)","v":"00:00:00"},{"$f":"IF($A346>0,VLOOKUP($A346,'Last Document Status-HOMA'!$C:$Y,MATCH(O$9,'Last Document Status-HOMA'!$1:$1,0)-2,0),0)","v":0}]
[null,null,null,null,null,{"$f":"IFERROR((VLOOKUP(#REF!,'5-PMS'!$F$14:$N$192,6,FALSE)),\"\")","v":""},null,null,null,null,{"$f":"IF($A347>0,VLOOKUP($A347,'Last Document Status-HOMA'!$C:$Y,MATCH(K$9,'Last Document Status-HOMA'!$1:$1,0)-2,0),0)","v":0},{"$f":"IF($A347>0,VLOOKUP($A347,'Last Document Status-HOMA'!$C:$Y,MATCH(L$9,'Last Document Status-HOMA'!$1:$1,0)-2,0),0)","v":0},{"$f":"IF($A347>0,VLOOKUP($A347,'Last Document Status-HOMA'!$C:$Y,MATCH(M$9,'Last Document Status-HOMA'!$1:$1,0)-2,0),0)","v":"00:00:00"},{"$f":"IF($A347>0,VLOOKUP($A347,'Last Document Status-HOMA'!$C:$Y,MATCH(\"Outgoing Date\",'Last Document Status-HOMA'!$1:$1,0)-2,0),0)","v":"00:00:00"},{"$f":"IF($A347>0,VLOOKUP($A347,'Last Document Status-HOMA'!$C:$Y,MATCH(O$9,'Last Document Status-HOMA'!$1:$1,0)-2,0),0)","v":0}]
[null,null,null,null,null,{"$f":"IFERROR((VLOOKUP(#REF!,'5-PMS'!$F$14:$N$192,6,FALSE)),\"\")","v":""},null,null,null,null,{"$f":"IF($A348>0,VLOOKUP($A348,'Last Document Status-HOMA'!$C:$Y,MATCH(K$9,'Last Document Status-HOMA'!$1:$1,0)-2,0),0)","v":0},{"$f":"IF($A348>0,VLOOKUP($A348,'Last Document Status-HOMA'!$C:$Y,MATCH(L$9,'Last Document Status-HOMA'!$1:$1,0)-2,0),0)","v":0},{"$f":"IF($A348>0,VLOOKUP($A348,'Last Document Status-HOMA'!$C:$Y,MATCH(M$9,'Last Document Status-HOMA'!$1:$1,0)-2,0),0)","v":"00:00:00"},{"$f":"IF($A348>0,VLOOKUP($A348,'Last Document Status-HOMA'!$C:$Y,MATCH(\"Outgoing Date\",'Last Document Status-HOMA'!$1:$1,0)-2,0),0)","v":"00:00:00"},{"$f":"IF($A348>0,VLOOKUP($A348,'Last Document Status-HOMA'!$C:$Y,MATCH(O$9,'Last Document Status-HOMA'!$1:$1,0)-2,0),0)","v":0}]
[null,null,null,null,null,{"$f":"IFERROR((VLOOKUP(#REF!,'5-PMS'!$F$14:$N$192,6,FALSE)),\"\")","v":""},null,null,null,null,{"$f":"IF($A349>0,VLOOKUP($A349,'Last Document Status-HOMA'!$C:$Y,MATCH(K$9,'Last Document Status-HOMA'!$1:$1,0)-2,0),0)","v":0},{"$f":"IF($A349>0,VLOOKUP($A349,'Last Document Status-HOMA'!$C:$Y,MATCH(L$9,'Last Document Status-HOMA'!$1:$1,0)-2,0),0)","v":0},{"$f":"IF($A349>0,VLOOKUP($A349,'Last Document Status-HOMA'!$C:$Y,MATCH(M$9,'Last Document Status-HOMA'!$1:$1,0)-2,0),0)","v":"00:00:00"},{"$f":"IF($A349>0,VLOOKUP($A349,'Last Document Status-HOMA'!$C:$Y,MATCH(\"Outgoing Date\",'Last Document Status-HOMA'!$1:$1,0)-2,0),0)","v":"00:00:00"},{"$f":"IF($A349>0,VLOOKUP($A349,'Last Document Status-HOMA'!$C:$Y,MATCH(O$9,'Last Document Status-HOMA'!$1:$1,0)-2,0),0)","v":0}]
[null,null,null,null,null,{"$f":"IFERROR((VLOOKUP(#REF!,'5-PMS'!$F$14:$N$192,6,FALSE)),\"\")","v":""},null,null,null,null,{"$f":"IF($A350>0,VLOOKUP($A350,'Last Document Status-HOMA'!$C:$Y,MATCH(K$9,'Last Document Status-HOMA'!$1:$1,0)-2,0),0)","v":0},{"$f":"IF($A350>0,VLOOKUP($A350,'Last Document Status-HOMA'!$C:$Y,MATCH(L$9,'Last Document Status-HOMA'!$1:$1,0)-2,0),0)","v":0},{"$f":"IF($A350>0,VLOOKUP($A350,'Last Document Status-HOMA'!$C:$Y,MATCH(M$9,'Last Document Status-HOMA'!$1:$1,0)-2,0),0)","v":"00:00:00"},{"$f":"IF($A350>0,VLOOKUP($A350,'Last Document Status-HOMA'!$C:$Y,MATCH(\"Outgoing Date\",'Last Document Status-HOMA'!$1:$1,0)-2,0),0)","v":"00:00:00"},{"$f":"IF($A350>0,VLOOKUP($A350,'Last Document Status-HOMA'!$C:$Y,MATCH(O$9,'Last Document Status-HOMA'!$1:$1,0)-2,0),0)","v":0}]
[null,null,null,null,null,{"$f":"IFERROR((VLOOKUP(#REF!,'5-PMS'!$F$14:$N$192,6,FALSE)),\"\")","v":""},null,null,null,null,{"$f":"IF($A351>0,VLOOKUP($A351,'Last Document Status-HOMA'!$C:$Y,MATCH(K$9,'Last Document Status-HOMA'!$1:$1,0)-2,0),0)","v":0},{"$f":"IF($A351>0,VLOOKUP($A351,'Last Document Status-HOMA'!$C:$Y,MATCH(L$9,'Last Document Status-HOMA'!$1:$1,0)-2,0),0)","v":0},{"$f":"IF($A351>0,VLOOKUP($A351,'Last Document Status-HOMA'!$C:$Y,MATCH(M$9,'Last Document Status-HOMA'!$1:$1,0)-2,0),0)","v":"00:00:00"},{"$f":"IF($A351>0,VLOOKUP($A351,'Last Document Status-HOMA'!$C:$Y,MATCH(\"Outgoing Date\",'Last Document Status-HOMA'!$1:$1,0)-2,0),0)","v":"00:00:00"},{"$f":"IF($A351>0,VLOOKUP($A351,'Last Document Status-HOMA'!$C:$Y,MATCH(O$9,'Last Document Status-HOMA'!$1:$1,0)-2,0),0)","v":0}]
[null,null,null,null,null,{"$f":"IFERROR((VLOOKUP(#REF!,'5-PMS'!$F$14:$N$192,6,FALSE)),\"\")","v":""},null,null,null,null,{"$f":"IF($A352>0,VLOOKUP($A352,'Last Document Status-HOMA'!$C:$Y,MATCH(K$9,'Last Document Status-HOMA'!$1:$1,0)-2,0),0)","v":0},{"$f":"IF($A352>0,VLOOKUP($A352,'Last Document Status-HOMA'!$C:$Y,MATCH(L$9,'Last Document Status-HOMA'!$1:$1,0)-2,0),0)","v":0},{"$f":"IF($A352>0,VLOOKUP($A352,'Last Document Status-HOMA'!$C:$Y,MATCH(M$9,'Last Document Status-HOMA'!$1:$1,0)-2,0),0)","v":"00:00:00"},{"$f":"IF($A352>0,VLOOKUP($A352,'Last Document Status-HOMA'!$C:$Y,MATCH(\"Outgoing Date\",'Last Document Status-HOMA'!$1:$1,0)-2,0),0)","v":"00:00:00"},{"$f":"IF($A352>0,VLOOKUP($A352,'Last Document Status-HOMA'!$C:$Y,MATCH(O$9,'Last Document Status-HOMA'!$1:$1,0)-2,0),0)","v":0}]
[null,null,null,null,null,{"$f":"IFERROR((VLOOKUP(#REF!,'5-PMS'!$F$14:$N$192,6,FALSE)),\"\")","v":""},null,null,null,null,{"$f":"IF($A353>0,VLOOKUP($A353,'Last Document Status-HOMA'!$C:$Y,MATCH(K$9,'Last Document Status-HOMA'!$1:$1,0)-2,0),0)","v":0},{"$f":"IF($A353>0,VLOOKUP($A353,'Last Document Status-HOMA'!$C:$Y,MATCH(L$9,'Last Document Status-HOMA'!$1:$1,0)-2,0),0)","v":0},{"$f":"IF($A353>0,VLOOKUP($A353,'Last Document Status-HOMA'!$C:$Y,MATCH(M$9,'Last Document Status-HOMA'!$1:$1,0)-2,0),0)","v":"00:00:00"},{"$f":"IF($A353>0,VLOOKUP($A353,'Last Document Status-HOMA'!$C:$Y,MATCH(\"Outgoing Date\",'Last Document Status-HOMA'!$1:$1,0)-2,0),0)","v":"00:00:00"},{"$f":"IF($A353>0,VLOOKUP($A353,'Last Document Status-HOMA'!$C:$Y,MATCH(O$9,'Last Document Status-HOMA'!$1:$1,0)-2,0),0)","v":0}]
[null,null,null,null,null,{"$f":"IFERROR((VLOOKUP(#REF!,'5-PMS'!$F$14:$N$192,6,FALSE)),\"\")","v":""},null,null,null,null,{"$f":"IF($A354>0,VLOOKUP($A354,'Last Document Status-HOMA'!$C:$Y,MATCH(K$9,'Last Document Status-HOMA'!$1:$1,0)-2,0),0)","v":0},{"$f":"IF($A354>0,VLOOKUP($A354,'Last Document Status-HOMA'!$C:$Y,MATCH(L$9,'Last Document Status-HOMA'!$1:$1,0)-2,0),0)","v":0},{"$f":"IF($A354>0,VLOOKUP($A354,'Last Document Status-HOMA'!$C:$Y,MATCH(M$9,'Last Document Status-HOMA'!$1:$1,0)-2,0),0)","v":"00:00:00"},{"$f":"IF($A354>0,VLOOKUP($A354,'Last Document Status-HOMA'!$C:$Y,MATCH(\"Outgoing Date\",'Last Document Status-HOMA'!$1:$1,0)-2,0),0)","v":"00:00:00"},{"$f":"IF($A354>0,VLOOKUP($A354,'Last Document Status-HOMA'!$C:$Y,MATCH(O$9,'Last Document Status-HOMA'!$1:$1,0)-2,0),0)","v":0}]
[null,null,null,null,null,{"$f":"IFERROR((VLOOKUP(#REF!,'5-PMS'!$F$14:$N$192,6,FALSE)),\"\")","v":""},null,null,null,null,{"$f":"IF($A355>0,VLOOKUP($A355,'Last Document Status-HOMA'!$C:$Y,MATCH(K$9,'Last Document Status-HOMA'!$1:$1,0)-2,0),0)","v":0},{"$f":"IF($A355>0,VLOOKUP($A355,'Last Document Status-HOMA'!$C:$Y,MATCH(L$9,'Last Document Status-HOMA'!$1:$1,0)-2,0),0)","v":0},{"$f":"IF($A355>0,VLOOKUP($A355,'Last Document Status-HOMA'!$C:$Y,MATCH(M$9,'Last Document Status-HOMA'!$1:$1,0)-2,0),0)","v":"00:00:00"},{"$f":"IF($A355>0,VLOOKUP($A355,'Last Document Status-HOMA'!$C:$Y,MATCH(\"Outgoing Date\",'Last Document Status-HOMA'!$1:$1,0)-2,0),0)","v":"00:00:00"},{"$f":"IF($A355>0,VLOOKUP($A355,'Last Document Status-HOMA'!$C:$Y,MATCH(O$9,'Last Document Status-HOMA'!$1:$1,0)-2,0),0)","v":0}]
[null,null,null,null,null,{"$f":"IFERROR((VLOOKUP(#REF!,'5-PMS'!$F$14:$N$192,6,FALSE)),\"\")","v":""},null,null,null,null,{"$f":"IF($A356>0,VLOOKUP($A356,'Last Document Status-HOMA'!$C:$Y,MATCH(K$9,'Last Document Status-HOMA'!$1:$1,0)-2,0),0)","v":0},{"$f":"IF($A356>0,VLOOKUP($A356,'Last Document Status-HOMA'!$C:$Y,MATCH(L$9,'Last Document Status-HOMA'!$1:$1,0)-2,0),0)","v":0},{"$f":"IF($A356>0,VLOOKUP($A356,'Last Document Status-HOMA'!$C:$Y,MATCH(M$9,'Last Document Status-HOMA'!$1:$1,0)-2,0),0)","v":"00:00:00"},{"$f":"IF($A356>0,VLOOKUP($A356,'Last Document Status-HOMA'!$C:$Y,MATCH(\"Outgoing Date\",'Last Document Status-HOMA'!$1:$1,0)-2,0),0)","v":"00:00:00"},{"$f":"IF($A356>0,VLOOKUP($A356,'Last Document Status-HOMA'!$C:$Y,MATCH(O$9,'Last Document Status-HOMA'!$1:$1,0)-2,0),0)","v":0}]
[null,null,null,null,null,{"$f":"IFERROR((VLOOKUP(#REF!,'5-PMS'!$F$14:$N$192,6,FALSE)),\"\")","v":""},null,null,null,null,{"$f":"IF($A357>0,VLOOKUP($A357,'Last Document Status-HOMA'!$C:$Y,MATCH(K$9,'Last Document Status-HOMA'!$1:$1,0)-2,0),0)","v":0},{"$f":"IF($A357>0,VLOOKUP($A357,'Last Document Status-HOMA'!$C:$Y,MATCH(L$9,'Last Document Status-HOMA'!$1:$1,0)-2,0),0)","v":0},{"$f":"IF($A357>0,VLOOKUP($A357,'Last Document Status-HOMA'!$C:$Y,MATCH(M$9,'Last Document Status-HOMA'!$1:$1,0)-2,0),0)","v":"00:00:00"},{"$f":"IF($A357>0,VLOOKUP($A357,'Last Document Status-HOMA'!$C:$Y,MATCH(\"Outgoing Date\",'Last Document Status-HOMA'!$1:$1,0)-2,0),0)","v":"00:00:00"},{"$f":"IF($A357>0,VLOOKUP($A357,'Last Document Status-HOMA'!$C:$Y,MATCH(O$9,'Last Document Status-HOMA'!$1:$1,0)-2,0),0)","v":0}]
[null,null,null,null,null,{"$f":"IFERROR((VLOOKUP(#REF!,'5-PMS'!$F$14:$N$192,6,FALSE)),\"\")","v":""},null,null,null,null,{"$f":"IF($A358>0,VLOOKUP($A358,'Last Document Status-HOMA'!$C:$Y,MATCH(K$9,'Last Document Status-HOMA'!$1:$1,0)-2,0),0)","v":0},{"$f":"IF($A358>0,VLOOKUP($A358,'Last Document Status-HOMA'!$C:$Y,MATCH(L$9,'Last Document Status-HOMA'!$1:$1,0)-2,0),0)","v":0},{"$f":"IF($A358>0,VLOOKUP($A358,'Last Document Status-HOMA'!$C:$Y,MATCH(M$9,'Last Document Status-HOMA'!$1:$1,0)-2,0),0)","v":"00:00:00"},{"$f":"IF($A358>0,VLOOKUP($A358,'Last Document Status-HOMA'!$C:$Y,MATCH(\"Outgoing Date\",'Last Document Status-HOMA'!$1:$1,0)-2,0),0)","v":"00:00:00"},{"$f":"IF($A358>0,VLOOKUP($A358,'Last Document Status-HOMA'!$C:$Y,MATCH(O$9,'Last Document Status-HOMA'!$1:$1,0)-2,0),0)","v":0}]
[null,null,null,null,null,{"$f":"IFERROR((VLOOKUP(#REF!,'5-PMS'!$F$14:$N$192,6,FALSE)),\"\")","v":""},null,null,null,null,{"$f":"IF($A359>0,VLOOKUP($A359,'Last Document Status-HOMA'!$C:$Y,MATCH(K$9,'Last Document Status-HOMA'!$1:$1,0)-2,0),0)","v":0},{"$f":"IF($A359>0,VLOOKUP($A359,'Last Document Status-HOMA'!$C:$Y,MATCH(L$9,'Last Document Status-HOMA'!$1:$1,0)-2,0),0)","v":0},{"$f":"IF($A359>0,VLOOKUP($A359,'Last Document Status-HOMA'!$C:$Y,MATCH(M$9,'Last Document Status-HOMA'!$1:$1,0)-2,0),0)","v":"00:00:00"},{"$f":"IF($A359>0,VLOOKUP($A359,'Last Document Status-HOMA'!$C:$Y,MATCH(\"Outgoing Date\",'Last Document Status-HOMA'!$1:$1,0)-2,0),0)","v":"00:00:00"},{"$f":"IF($A359>0,VLOOKUP($A359,'Last Document Status-HOMA'!$C:$Y,MATCH(O$9,'Last Document Status-HOMA'!$1:$1,0)-2,0),0)","v":0}]
[null,null,null,null,null,{"$f":"IFERROR((VLOOKUP(#REF!,'5-PMS'!$F$14:$N$192,6,FALSE)),\"\")","v":""},null,null,null,null,{"$f":"IF($A360>0,VLOOKUP($A360,'Last Document Status-HOMA'!$C:$Y,MATCH(K$9,'Last Document Status-HOMA'!$1:$1,0)-2,0),0)","v":0},{"$f":"IF($A360>0,VLOOKUP($A360,'Last Document Status-HOMA'!$C:$Y,MATCH(L$9,'Last Document Status-HOMA'!$1:$1,0)-2,0),0)","v":0},{"$f":"IF($A360>0,VLOOKUP($A360,'Last Document Status-HOMA'!$C:$Y,MATCH(M$9,'Last Document Status-HOMA'!$1:$1,0)-2,0),0)","v":"00:00:00"},{"$f":"IF($A360>0,VLOOKUP($A360,'Last Document Status-HOMA'!$C:$Y,MATCH(\"Outgoing Date\",'Last Document Status-HOMA'!$1:$1,0)-2,0),0)","v":"00:00:00"},{"$f":"IF($A360>0,VLOOKUP($A360,'Last Document Status-HOMA'!$C:$Y,MATCH(O$9,'Last Document Status-HOMA'!$1:$1,0)-2,0),0)","v":0}]
[null,null,null,null,null,{"$f":"IFERROR((VLOOKUP(#REF!,'5-PMS'!$F$14:$N$192,6,FALSE)),\"\")","v":""},null,null,null,null,{"$f":"IF($A361>0,VLOOKUP($A361,'Last Document Status-HOMA'!$C:$Y,MATCH(K$9,'Last Document Status-HOMA'!$1:$1,0)-2,0),0)","v":0},{"$f":"IF($A361>0,VLOOKUP($A361,'Last Document Status-HOMA'!$C:$Y,MATCH(L$9,'Last Document Status-HOMA'!$1:$1,0)-2,0),0)","v":0},{"$f":"IF($A361>0,VLOOKUP($A361,'Last Document Status-HOMA'!$C:$Y,MATCH(M$9,'Last Document Status-HOMA'!$1:$1,0)-2,0),0)","v":"00:00:00"},{"$f":"IF($A361>0,VLOOKUP($A361,'Last Document Status-HOMA'!$C:$Y,MATCH(\"Outgoing Date\",'Last Document Status-HOMA'!$1:$1,0)-2,0),0)","v":"00:00:00"},{"$f":"IF($A361>0,VLOOKUP($A361,'Last Document Status-HOMA'!$C:$Y,MATCH(O$9,'Last Document Status-HOMA'!$1:$1,0)-2,0),0)","v":0}]
[null,null,null,null,null,{"$f":"IFERROR((VLOOKUP(#REF!,'5-PMS'!$F$14:$N$192,6,FALSE)),\"\")","v":""},null,null,null,null,{"$f":"IF($A362>0,VLOOKUP($A362,'Last Document Status-HOMA'!$C:$Y,MATCH(K$9,'Last Document Status-HOMA'!$1:$1,0)-2,0),0)","v":0},{"$f":"IF($A362>0,VLOOKUP($A362,'Last Document Status-HOMA'!$C:$Y,MATCH(L$9,'Last Document Status-HOMA'!$1:$1,0)-2,0),0)","v":0},{"$f":"IF($A362>0,VLOOKUP($A362,'Last Document Status-HOMA'!$C:$Y,MATCH(M$9,'Last Document Status-HOMA'!$1:$1,0)-2,0),0)","v":"00:00:00"},{"$f":"IF($A362>0,VLOOKUP($A362,'Last Document Status-HOMA'!$C:$Y,MATCH(\"Outgoing Date\",'Last Document Status-HOMA'!$1:$1,0)-2,0),0)","v":"00:00:00"},{"$f":"IF($A362>0,VLOOKUP($A362,'Last Document Status-HOMA'!$C:$Y,MATCH(O$9,'Last Document Status-HOMA'!$1:$1,0)-2,0),0)","v":0}]
[null,null,null,null,null,{"$f":"IFERROR((VLOOKUP(#REF!,'5-PMS'!$F$14:$N$192,6,FALSE)),\"\")","v":""},null,null,null,null,{"$f":"IF($A363>0,VLOOKUP($A363,'Last Document Status-HOMA'!$C:$Y,MATCH(K$9,'Last Document Status-HOMA'!$1:$1,0)-2,0),0)","v":0},{"$f":"IF($A363>0,VLOOKUP($A363,'Last Document Status-HOMA'!$C:$Y,MATCH(L$9,'Last Document Status-HOMA'!$1:$1,0)-2,0),0)","v":0},{"$f":"IF($A363>0,VLOOKUP($A363,'Last Document Status-HOMA'!$C:$Y,MATCH(M$9,'Last Document Status-HOMA'!$1:$1,0)-2,0),0)","v":"00:00:00"},{"$f":"IF($A363>0,VLOOKUP($A363,'Last Document Status-HOMA'!$C:$Y,MATCH(\"Outgoing Date\",'Last Document Status-HOMA'!$1:$1,0)-2,0),0)","v":"00:00:00"},{"$f":"IF($A363>0,VLOOKUP($A363,'Last Document Status-HOMA'!$C:$Y,MATCH(O$9,'Last Document Status-HOMA'!$1:$1,0)-2,0),0)","v":0}]
[null,null,null,null,null,{"$f":"IFERROR((VLOOKUP(#REF!,'5-PMS'!$F$14:$N$192,6,FALSE)),\"\")","v":""},null,null,null,null,{"$f":"IF($A364>0,VLOOKUP($A364,'Last Document Status-HOMA'!$C:$Y,MATCH(K$9,'Last Document Status-HOMA'!$1:$1,0)-2,0),0)","v":0},{"$f":"IF($A364>0,VLOOKUP($A364,'Last Document Status-HOMA'!$C:$Y,MATCH(L$9,'Last Document Status-HOMA'!$1:$1,0)-2,0),0)","v":0},{"$f":"IF($A364>0,VLOOKUP($A364,'Last Document Status-HOMA'!$C:$Y,MATCH(M$9,'Last Document Status-HOMA'!$1:$1,0)-2,0),0)","v":"00:00:00"},{"$f":"IF($A364>0,VLOOKUP($A364,'Last Document Status-HOMA'!$C:$Y,MATCH(\"Outgoing Date\",'Last Document Status-HOMA'!$1:$1,0)-2,0),0)","v":"00:00:00"},{"$f":"IF($A364>0,VLOOKUP($A364,'Last Document Status-HOMA'!$C:$Y,MATCH(O$9,'Last Document Status-HOMA'!$1:$1,0)-2,0),0)","v":0}]
[null,null,null,null,null,{"$f":"IFERROR((VLOOKUP(#REF!,'5-PMS'!$F$14:$N$192,6,FALSE)),\"\")","v":""},null,null,null,null,{"$f":"IF($A365>0,VLOOKUP($A365,'Last Document Status-HOMA'!$C:$Y,MATCH(K$9,'Last Document Status-HOMA'!$1:$1,0)-2,0),0)","v":0},{"$f":"IF($A365>0,VLOOKUP($A365,'Last Document Status-HOMA'!$C:$Y,MATCH(L$9,'Last Document Status-HOMA'!$1:$1,0)-2,0),0)","v":0},{"$f":"IF($A365>0,VLOOKUP($A365,'Last Document Status-HOMA'!$C:$Y,MATCH(M$9,'Last Document Status-HOMA'!$1:$1,0)-2,0),0)","v":"00:00:00"},{"$f":"IF($A365>0,VLOOKUP($A365,'Last Document Status-HOMA'!$C:$Y,MATCH(\"Outgoing Date\",'Last Document Status-HOMA'!$1:$1,0)-2,0),0)","v":"00:00:00"},{"$f":"IF($A365>0,VLOOKUP($A365,'Last Document Status-HOMA'!$C:$Y,MATCH(O$9,'Last Document Status-HOMA'!$1:$1,0)-2,0),0)","v":0}]
[null,null,null,null,null,{"$f":"IFERROR((VLOOKUP(#REF!,'5-PMS'!$F$14:$N$192,6,FALSE)),\"\")","v":""},null,null,null,null,{"$f":"IF($A366>0,VLOOKUP($A366,'Last Document Status-HOMA'!$C:$Y,MATCH(K$9,'Last Document Status-HOMA'!$1:$1,0)-2,0),0)","v":0},{"$f":"IF($A366>0,VLOOKUP($A366,'Last Document Status-HOMA'!$C:$Y,MATCH(L$9,'Last Document Status-HOMA'!$1:$1,0)-2,0),0)","v":0},{"$f":"IF($A366>0,VLOOKUP($A366,'Last Document Status-HOMA'!$C:$Y,MATCH(M$9,'Last Document Status-HOMA'!$1:$1,0)-2,0),0)","v":"00:00:00"},{"$f":"IF($A366>0,VLOOKUP($A366,'Last Document Status-HOMA'!$C:$Y,MATCH(\"Outgoing Date\",'Last Document Status-HOMA'!$1:$1,0)-2,0),0)","v":"00:00:00"},{"$f":"IF($A366>0,VLOOKUP($A366,'Last Document Status-HOMA'!$C:$Y,MATCH(O$9,'Last Document Status-HOMA'!$1:$1,0)-2,0),0)","v":0}]
[null,null,null,null,null,{"$f":"IFERROR((VLOOKUP(#REF!,'5-PMS'!$F$14:$N$192,6,FALSE)),\"\")","v":""},null,null,null,null,{"$f":"IF($A367>0,VLOOKUP($A367,'Last Document Status-HOMA'!$C:$Y,MATCH(K$9,'Last Document Status-HOMA'!$1:$1,0)-2,0),0)","v":0},{"$f":"IF($A367>0,VLOOKUP($A367,'Last Document Status-HOMA'!$C:$Y,MATCH(L$9,'Last Document Status-HOMA'!$1:$1,0)-2,0),0)","v":0},{"$f":"IF($A367>0,VLOOKUP($A367,'Last Document Status-HOMA'!$C:$Y,MATCH(M$9,'Last Document Status-HOMA'!$1:$1,0)-2,0),0)","v":"00:00:00"},{"$f":"IF($A367>0,VLOOKUP($A367,'Last Document Status-HOMA'!$C:$Y,MATCH(\"Outgoing Date\",'Last Document Status-HOMA'!$1:$1,0)-2,0),0)","v":"00:00:00"},{"$f":"IF($A367>0,VLOOKUP($A367,'Last Document Status-HOMA'!$C:$Y,MATCH(O$9,'Last Document Status-HOMA'!$1:$1,0)-2,0),0)","v":0}]
[null,null,null,null,null,{"$f":"IFERROR((VLOOKUP(#REF!,'5-PMS'!$F$14:$N$192,6,FALSE)),\"\")","v":""},null,null,null,null,{"$f":"IF($A368>0,VLOOKUP($A368,'Last Document Status-HOMA'!$C:$Y,MATCH(K$9,'Last Document Status-HOMA'!$1:$1,0)-2,0),0)","v":0},{"$f":"IF($A368>0,VLOOKUP($A368,'Last Document Status-HOMA'!$C:$Y,MATCH(L$9,'Last Document Status-HOMA'!$1:$1,0)-2,0),0)","v":0},{"$f":"IF($A368>0,VLOOKUP($A368,'Last Document Status-HOMA'!$C:$Y,MATCH(M$9,'Last Document Status-HOMA'!$1:$1,0)-2,0),0)","v":"00:00:00"},{"$f":"IF($A368>0,VLOOKUP($A368,'Last Document Status-HOMA'!$C:$Y,MATCH(\"Outgoing Date\",'Last Document Status-HOMA'!$1:$1,0)-2,0),0)","v":"00:00:00"},{"$f":"IF($A368>0,VLOOKUP($A368,'Last Document Status-HOMA'!$C:$Y,MATCH(O$9,'Last Document Status-HOMA'!$1:$1,0)-2,0),0)","v":0}]
[null,null,null,null,null,{"$f":"IFERROR((VLOOKUP(#REF!,'5-PMS'!$F$14:$N$192,6,FALSE)),\"\")","v":""},null,null,null,null,{"$f":"IF($A369>0,VLOOKUP($A369,'Last Document Status-HOMA'!$C:$Y,MATCH(K$9,'Last Document Status-HOMA'!$1:$1,0)-2,0),0)","v":0},{"$f":"IF($A369>0,VLOOKUP($A369,'Last Document Status-HOMA'!$C:$Y,MATCH(L$9,'Last Document Status-HOMA'!$1:$1,0)-2,0),0)","v":0},{"$f":"IF($A369>0,VLOOKUP($A369,'Last Document Status-HOMA'!$C:$Y,MATCH(M$9,'Last Document Status-HOMA'!$1:$1,0)-2,0),0)","v":"00:00:00"},{"$f":"IF($A369>0,VLOOKUP($A369,'Last Document Status-HOMA'!$C:$Y,MATCH(\"Outgoing Date\",'Last Document Status-HOMA'!$1:$1,0)-2,0),0)","v":"00:00:00"},{"$f":"IF($A369>0,VLOOKUP($A369,'Last Document Status-HOMA'!$C:$Y,MATCH(O$9,'Last Document Status-HOMA'!$1:$1,0)-2,0),0)","v":0}]
[null,null,null,null,null,{"$f":"IFERROR((VLOOKUP(#REF!,'5-PMS'!$F$14:$N$192,6,FALSE)),\"\")","v":""},null,null,null,null,{"$f":"IF($A370>0,VLOOKUP($A370,'Last Document Status-HOMA'!$C:$Y,MATCH(K$9,'Last Document Status-HOMA'!$1:$1,0)-2,0),0)","v":0},{"$f":"IF($A370>0,VLOOKUP($A370,'Last Document Status-HOMA'!$C:$Y,MATCH(L$9,'Last Document Status-HOMA'!$1:$1,0)-2,0),0)","v":0},{"$f":"IF($A370>0,VLOOKUP($A370,'Last Document Status-HOMA'!$C:$Y,MATCH(M$9,'Last Document Status-HOMA'!$1:$1,0)-2,0),0)","v":"00:00:00"},{"$f":"IF($A370>0,VLOOKUP($A370,'Last Document Status-HOMA'!$C:$Y,MATCH(\"Outgoing Date\",'Last Document Status-HOMA'!$1:$1,0)-2,0),0)","v":"00:00:00"},{"$f":"IF($A370>0,VLOOKUP($A370,'Last Document Status-HOMA'!$C:$Y,MATCH(O$9,'Last Document Status-HOMA'!$1:$1,0)-2,0),0)","v":0}]
[null,null,null,null,null,{"$f":"IFERROR((VLOOKUP(#REF!,'5-PMS'!$F$14:$N$192,6,FALSE)),\"\")","v":""},null,null,null,null,{"$f":"IF($A371>0,VLOOKUP($A371,'Last Document Status-HOMA'!$C:$Y,MATCH(K$9,'Last Document Status-HOMA'!$1:$1,0)-2,0),0)","v":0},{"$f":"IF($A371>0,VLOOKUP($A371,'Last Document Status-HOMA'!$C:$Y,MATCH(L$9,'Last Document Status-HOMA'!$1:$1,0)-2,0),0)","v":0},{"$f":"IF($A371>0,VLOOKUP($A371,'Last Document Status-HOMA'!$C:$Y,MATCH(M$9,'Last Document Status-HOMA'!$1:$1,0)-2,0),0)","v":"00:00:00"},{"$f":"IF($A371>0,VLOOKUP($A371,'Last Document Status-HOMA'!$C:$Y,MATCH(\"Outgoing Date\",'Last Document Status-HOMA'!$1:$1,0)-2,0),0)","v":"00:00:00"},{"$f":"IF($A371>0,VLOOKUP($A371,'Last Document Status-HOMA'!$C:$Y,MATCH(O$9,'Last Document Status-HOMA'!$1:$1,0)-2,0),0)","v":0}]
[null,null,null,null,null,{"$f":"IFERROR((VLOOKUP(#REF!,'5-PMS'!$F$14:$N$192,6,FALSE)),\"\")","v":""},null,null,null,null,{"$f":"IF($A372>0,VLOOKUP($A372,'Last Document Status-HOMA'!$C:$Y,MATCH(K$9,'Last Document Status-HOMA'!$1:$1,0)-2,0),0)","v":0},{"$f":"IF($A372>0,VLOOKUP($A372,'Last Document Status-HOMA'!$C:$Y,MATCH(L$9,'Last Document Status-HOMA'!$1:$1,0)-2,0),0)","v":0},{"$f":"IF($A372>0,VLOOKUP($A372,'Last Document Status-HOMA'!$C:$Y,MATCH(M$9,'Last Document Status-HOMA'!$1:$1,0)-2,0),0)","v":"00:00:00"},{"$f":"IF($A372>0,VLOOKUP($A372,'Last Document Status-HOMA'!$C:$Y,MATCH(\"Outgoing Date\",'Last Document Status-HOMA'!$1:$1,0)-2,0),0)","v":"00:00:00"},{"$f":"IF($A372>0,VLOOKUP($A372,'Last Document Status-HOMA'!$C:$Y,MATCH(O$9,'Last Document Status-HOMA'!$1:$1,0)-2,0),0)","v":0}]
[null,null,null,null,null,{"$f":"IFERROR((VLOOKUP(#REF!,'5-PMS'!$F$14:$N$192,6,FALSE)),\"\")","v":""},null,null,null,null,{"$f":"IF($A373>0,VLOOKUP($A373,'Last Document Status-HOMA'!$C:$Y,MATCH(K$9,'Last Document Status-HOMA'!$1:$1,0)-2,0),0)","v":0},{"$f":"IF($A373>0,VLOOKUP($A373,'Last Document Status-HOMA'!$C:$Y,MATCH(L$9,'Last Document Status-HOMA'!$1:$1,0)-2,0),0)","v":0},{"$f":"IF($A373>0,VLOOKUP($A373,'Last Document Status-HOMA'!$C:$Y,MATCH(M$9,'Last Document Status-HOMA'!$1:$1,0)-2,0),0)","v":"00:00:00"},{"$f":"IF($A373>0,VLOOKUP($A373,'Last Document Status-HOMA'!$C:$Y,MATCH(\"Outgoing Date\",'Last Document Status-HOMA'!$1:$1,0)-2,0),0)","v":"00:00:00"},{"$f":"IF($A373>0,VLOOKUP($A373,'Last Document Status-HOMA'!$C:$Y,MATCH(O$9,'Last Document Status-HOMA'!$1:$1,0)-2,0),0)","v":0}]
[null,null,null,null,null,{"$f":"IFERROR((VLOOKUP(#REF!,'5-PMS'!$F$14:$N$192,6,FALSE)),\"\")","v":""},null,null,null,null,{"$f":"IF($A374>0,VLOOKUP($A374,'Last Document Status-HOMA'!$C:$Y,MATCH(K$9,'Last Document Status-HOMA'!$1:$1,0)-2,0),0)","v":0},{"$f":"IF($A374>0,VLOOKUP($A374,'Last Document Status-HOMA'!$C:$Y,MATCH(L$9,'Last Document Status-HOMA'!$1:$1,0)-2,0),0)","v":0},{"$f":"IF($A374>0,VLOOKUP($A374,'Last Document Status-HOMA'!$C:$Y,MATCH(M$9,'Last Document Status-HOMA'!$1:$1,0)-2,0),0)","v":"00:00:00"},{"$f":"IF($A374>0,VLOOKUP($A374,'Last Document Status-HOMA'!$C:$Y,MATCH(\"Outgoing Date\",'Last Document Status-HOMA'!$1:$1,0)-2,0),0)","v":"00:00:00"},{"$f":"IF($A374>0,VLOOKUP($A374,'Last Document Status-HOMA'!$C:$Y,MATCH(O$9,'Last Document Status-HOMA'!$1:$1,0)-2,0),0)","v":0}]
[null,null,null,null,null,{"$f":"IFERROR((VLOOKUP(#REF!,'5-PMS'!$F$14:$N$192,6,FALSE)),\"\")","v":""},null,null,null,null,{"$f":"IF($A375>0,VLOOKUP($A375,'Last Document Status-HOMA'!$C:$Y,MATCH(K$9,'Last Document Status-HOMA'!$1:$1,0)-2,0),0)","v":0},{"$f":"IF($A375>0,VLOOKUP($A375,'Last Document Status-HOMA'!$C:$Y,MATCH(L$9,'Last Document Status-HOMA'!$1:$1,0)-2,0),0)","v":0},{"$f":"IF($A375>0,VLOOKUP($A375,'Last Document Status-HOMA'!$C:$Y,MATCH(M$9,'Last Document Status-HOMA'!$1:$1,0)-2,0),0)","v":"00:00:00"},{"$f":"IF($A375>0,VLOOKUP($A375,'Last Document Status-HOMA'!$C:$Y,MATCH(\"Outgoing Date\",'Last Document Status-HOMA'!$1:$1,0)-2,0),0)","v":"00:00:00"},{"$f":"IF($A375>0,VLOOKUP($A375,'Last Document Status-HOMA'!$C:$Y,MATCH(O$9,'Last Document Status-HOMA'!$1:$1,0)-2,0),0)","v":0}]
[null,null,null,null,null,{"$f":"IFERROR((VLOOKUP(#REF!,'5-PMS'!$F$14:$N$192,6,FALSE)),\"\")","v":""},null,null,null,null,{"$f":"IF($A376>0,VLOOKUP($A376,'Last Document Status-HOMA'!$C:$Y,MATCH(K$9,'Last Document Status-HOMA'!$1:$1,0)-2,0),0)","v":0},{"$f":"IF($A376>0,VLOOKUP($A376,'Last Document Status-HOMA'!$C:$Y,MATCH(L$9,'Last Document Status-HOMA'!$1:$1,0)-2,0),0)","v":0},{"$f":"IF($A376>0,VLOOKUP($A376,'Last Document Status-HOMA'!$C:$Y,MATCH(M$9,'Last Document Status-HOMA'!$1:$1,0)-2,0),0)","v":"00:00:00"},{"$f":"IF($A376>0,VLOOKUP($A376,'Last Document Status-HOMA'!$C:$Y,MATCH(\"Outgoing Date\",'Last Document Status-HOMA'!$1:$1,0)-2,0),0)","v":"00:00:00"},{"$f":"IF($A376>0,VLOOKUP($A376,'Last Document Status-HOMA'!$C:$Y,MATCH(O$9,'Last Document Status-HOMA'!$1:$1,0)-2,0),0)","v":0}]
[null,null,null,null,null,{"$f":"IFERROR((VLOOKUP(#REF!,'5-PMS'!$F$14:$N$192,6,FALSE)),\"\")","v":""},null,null,null,null,{"$f":"IF($A377>0,VLOOKUP($A377,'Last Document Status-HOMA'!$C:$Y,MATCH(K$9,'Last Document Status-HOMA'!$1:$1,0)-2,0),0)","v":0},{"$f":"IF($A377>0,VLOOKUP($A377,'Last Document Status-HOMA'!$C:$Y,MATCH(L$9,'Last Document Status-HOMA'!$1:$1,0)-2,0),0)","v":0},{"$f":"IF($A377>0,VLOOKUP($A377,'Last Document Status-HOMA'!$C:$Y,MATCH(M$9,'Last Document Status-HOMA'!$1:$1,0)-2,0),0)","v":"00:00:00"},{"$f":"IF($A377>0,VLOOKUP($A377,'Last Document Status-HOMA'!$C:$Y,MATCH(\"Outgoing Date\",'Last Document Status-HOMA'!$1:$1,0)-2,0),0)","v":"00:00:00"},{"$f":"IF($A377>0,VLOOKUP($A377,'Last Document Status-HOMA'!$C:$Y,MATCH(O$9,'Last Document Status-HOMA'!$1:$1,0)-2,0),0)","v":0}]
[null,null,null,null,null,{"$f":"IFERROR((VLOOKUP(#REF!,'5-PMS'!$F$14:$N$192,6,FALSE)),\"\")","v":""},null,null,null,null,{"$f":"IF($A378>0,VLOOKUP($A378,'Last Document Status-HOMA'!$C:$Y,MATCH(K$9,'Last Document Status-HOMA'!$1:$1,0)-2,0),0)","v":0},{"$f":"IF($A378>0,VLOOKUP($A378,'Last Document Status-HOMA'!$C:$Y,MATCH(L$9,'Last Document Status-HOMA'!$1:$1,0)-2,0),0)","v":0},{"$f":"IF($A378>0,VLOOKUP($A378,'Last Document Status-HOMA'!$C:$Y,MATCH(M$9,'Last Document Status-HOMA'!$1:$1,0)-2,0),0)","v":"00:00:00"},{"$f":"IF($A378>0,VLOOKUP($A378,'Last Document Status-HOMA'!$C:$Y,MATCH(\"Outgoing Date\",'Last Document Status-HOMA'!$1:$1,0)-2,0),0)","v":"00:00:00"},{"$f":"IF($A378>0,VLOOKUP($A378,'Last Document Status-HOMA'!$C:$Y,MATCH(O$9,'Last Document Status-HOMA'!$1:$1,0)-2,0),0)","v":0}]
[null,null,null,null,null,{"$f":"IFERROR((VLOOKUP(#REF!,'5-PMS'!$F$14:$N$192,6,FALSE)),\"\")","v":""},null,null,null,null,{"$f":"IF($A379>0,VLOOKUP($A379,'Last Document Status-HOMA'!$C:$Y,MATCH(K$9,'Last Document Status-HOMA'!$1:$1,0)-2,0),0)","v":0},{"$f":"IF($A379>0,VLOOKUP($A379,'Last Document Status-HOMA'!$C:$Y,MATCH(L$9,'Last Document Status-HOMA'!$1:$1,0)-2,0),0)","v":0},{"$f":"IF($A379>0,VLOOKUP($A379,'Last Document Status-HOMA'!$C:$Y,MATCH(M$9,'Last Document Status-HOMA'!$1:$1,0)-2,0),0)","v":"00:00:00"},{"$f":"IF($A379>0,VLOOKUP($A379,'Last Document Status-HOMA'!$C:$Y,MATCH(\"Outgoing Date\",'Last Document Status-HOMA'!$1:$1,0)-2,0),0)","v":"00:00:00"},{"$f":"IF($A379>0,VLOOKUP($A379,'Last Document Status-HOMA'!$C:$Y,MATCH(O$9,'Last Document Status-HOMA'!$1:$1,0)-2,0),0)","v":0}]
[null,null,null,null,null,{"$f":"IFERROR((VLOOKUP(#REF!,'5-PMS'!$F$14:$N$192,6,FALSE)),\"\")","v":""},null,null,null,null,{"$f":"IF($A380>0,VLOOKUP($A380,'Last Document Status-HOMA'!$C:$Y,MATCH(K$9,'Last Document Status-HOMA'!$1:$1,0)-2,0),0)","v":0},{"$f":"IF($A380>0,VLOOKUP($A380,'Last Document Status-HOMA'!$C:$Y,MATCH(L$9,'Last Document Status-HOMA'!$1:$1,0)-2,0),0)","v":0},{"$f":"IF($A380>0,VLOOKUP($A380,'Last Document Status-HOMA'!$C:$Y,MATCH(M$9,'Last Document Status-HOMA'!$1:$1,0)-2,0),0)","v":"00:00:00"},{"$f":"IF($A380>0,VLOOKUP($A380,'Last Document Status-HOMA'!$C:$Y,MATCH(\"Outgoing Date\",'Last Document Status-HOMA'!$1:$1,0)-2,0),0)","v":"00:00:00"},{"$f":"IF($A380>0,VLOOKUP($A380,'Last Document Status-HOMA'!$C:$Y,MATCH(O$9,'Last Document Status-HOMA'!$1:$1,0)-2,0),0)","v":0}]
[null,null,null,null,null,{"$f":"IFERROR((VLOOKUP(#REF!,'5-PMS'!$F$14:$N$192,6,FALSE)),\"\")","v":""},null,null,null,null,{"$f":"IF($A381>0,VLOOKUP($A381,'Last Document Status-HOMA'!$C:$Y,MATCH(K$9,'Last Document Status-HOMA'!$1:$1,0)-2,0),0)","v":0},{"$f":"IF($A381>0,VLOOKUP($A381,'Last Document Status-HOMA'!$C:$Y,MATCH(L$9,'Last Document Status-HOMA'!$1:$1,0)-2,0),0)","v":0},{"$f":"IF($A381>0,VLOOKUP($A381,'Last Document Status-HOMA'!$C:$Y,MATCH(M$9,'Last Document Status-HOMA'!$1:$1,0)-2,0),0)","v":"00:00:00"},{"$f":"IF($A381>0,VLOOKUP($A381,'Last Document Status-HOMA'!$C:$Y,MATCH(\"Outgoing Date\",'Last Document Status-HOMA'!$1:$1,0)-2,0),0)","v":"00:00:00"},{"$f":"IF($A381>0,VLOOKUP($A381,'Last Document Status-HOMA'!$C:$Y,MATCH(O$9,'Last Document Status-HOMA'!$1:$1,0)-2,0),0)","v":0}]
[null,null,null,null,null,{"$f":"IFERROR((VLOOKUP(#REF!,'5-PMS'!$F$14:$N$192,6,FALSE)),\"\")","v":""},null,null,null,null,{"$f":"IF($A382>0,VLOOKUP($A382,'Last Document Status-HOMA'!$C:$Y,MATCH(K$9,'Last Document Status-HOMA'!$1:$1,0)-2,0),0)","v":0},{"$f":"IF($A382>0,VLOOKUP($A382,'Last Document Status-HOMA'!$C:$Y,MATCH(L$9,'Last Document Status-HOMA'!$1:$1,0)-2,0),0)","v":0},{"$f":"IF($A382>0,VLOOKUP($A382,'Last Document Status-HOMA'!$C:$Y,MATCH(M$9,'Last Document Status-HOMA'!$1:$1,0)-2,0),0)","v":"00:00:00"},{"$f":"IF($A382>0,VLOOKUP($A382,'Last Document Status-HOMA'!$C:$Y,MATCH(\"Outgoing Date\",'Last Document Status-HOMA'!$1:$1,0)-2,0),0)","v":"00:00:00"},{"$f":"IF($A382>0,VLOOKUP($A382,'Last Document Status-HOMA'!$C:$Y,MATCH(O$9,'Last Document Status-HOMA'!$1:$1,0)-2,0),0)","v":0}]
[null,null,null,null,null,{"$f":"IFERROR((VLOOKUP(#REF!,'5-PMS'!$F$14:$N$192,6,FALSE)),\"\")","v":""},null,null,null,null,{"$f":"IF($A383>0,VLOOKUP($A383,'Last Document Status-HOMA'!$C:$Y,MATCH(K$9,'Last Document Status-HOMA'!$1:$1,0)-2,0),0)","v":0},{"$f":"IF($A383>0,VLOOKUP($A383,'Last Document Status-HOMA'!$C:$Y,MATCH(L$9,'Last Document Status-HOMA'!$1:$1,0)-2,0),0)","v":0},{"$f":"IF($A383>0,VLOOKUP($A383,'Last Document Status-HOMA'!$C:$Y,MATCH(M$9,'Last Document Status-HOMA'!$1:$1,0)-2,0),0)","v":"00:00:00"},{"$f":"IF($A383>0,VLOOKUP($A383,'Last Document Status-HOMA'!$C:$Y,MATCH(\"Outgoing Date\",'Last Document Status-HOMA'!$1:$1,0)-2,0),0)","v":"00:00:00"},{"$f":"IF($A383>0,VLOOKUP($A383,'Last Document Status-HOMA'!$C:$Y,MATCH(O$9,'Last Document Status-HOMA'!$1:$1,0)-2,0),0)","v":0}]
[null,null,null,null,null,{"$f":"IFERROR((VLOOKUP(#REF!,'5-PMS'!$F$14:$N$192,6,FALSE)),\"\")","v":""},null,null,null,null,{"$f":"IF($A384>0,VLOOKUP($A384,'Last Document Status-HOMA'!$C:$Y,MATCH(K$9,'Last Document Status-HOMA'!$1:$1,0)-2,0),0)","v":0},{"$f":"IF($A384>0,VLOOKUP($A384,'Last Document Status-HOMA'!$C:$Y,MATCH(L$9,'Last Document Status-HOMA'!$1:$1,0)-2,0),0)","v":0},{"$f":"IF($A384>0,VLOOKUP($A384,'Last Document Status-HOMA'!$C:$Y,MATCH(M$9,'Last Document Status-HOMA'!$1:$1,0)-2,0),0)","v":"00:00:00"},{"$f":"IF($A384>0,VLOOKUP($A384,'Last Document Status-HOMA'!$C:$Y,MATCH(\"Outgoing Date\",'Last Document Status-HOMA'!$1:$1,0)-2,0),0)","v":"00:00:00"},{"$f":"IF($A384>0,VLOOKUP($A384,'Last Document Status-HOMA'!$C:$Y,MATCH(O$9,'Last Document Status-HOMA'!$1:$1,0)-2,0),0)","v":0}]
[null,null,null,null,null,{"$f":"IFERROR((VLOOKUP(#REF!,'5-PMS'!$F$14:$N$192,6,FALSE)),\"\")","v":""},null,null,null,null,{"$f":"IF($A385>0,VLOOKUP($A385,'Last Document Status-HOMA'!$C:$Y,MATCH(K$9,'Last Document Status-HOMA'!$1:$1,0)-2,0),0)","v":0},{"$f":"IF($A385>0,VLOOKUP($A385,'Last Document Status-HOMA'!$C:$Y,MATCH(L$9,'Last Document Status-HOMA'!$1:$1,0)-2,0),0)","v":0},{"$f":"IF($A385>0,VLOOKUP($A385,'Last Document Status-HOMA'!$C:$Y,MATCH(M$9,'Last Document Status-HOMA'!$1:$1,0)-2,0),0)","v":"00:00:00"},{"$f":"IF($A385>0,VLOOKUP($A385,'Last Document Status-HOMA'!$C:$Y,MATCH(\"Outgoing Date\",'Last Document Status-HOMA'!$1:$1,0)-2,0),0)","v":"00:00:00"},{"$f":"IF($A385>0,VLOOKUP($A385,'Last Document Status-HOMA'!$C:$Y,MATCH(O$9,'Last Document Status-HOMA'!$1:$1,0)-2,0),0)","v":0}]
[null,null,null,null,null,{"$f":"IFERROR((VLOOKUP(#REF!,'5-PMS'!$F$14:$N$192,6,FALSE)),\"\")","v":""},null,null,null,null,{"$f":"IF($A386>0,VLOOKUP($A386,'Last Document Status-HOMA'!$C:$Y,MATCH(K$9,'Last Document Status-HOMA'!$1:$1,0)-2,0),0)","v":0},{"$f":"IF($A386>0,VLOOKUP($A386,'Last Document Status-HOMA'!$C:$Y,MATCH(L$9,'Last Document Status-HOMA'!$1:$1,0)-2,0),0)","v":0},{"$f":"IF($A386>0,VLOOKUP($A386,'Last Document Status-HOMA'!$C:$Y,MATCH(M$9,'Last Document Status-HOMA'!$1:$1,0)-2,0),0)","v":"00:00:00"},{"$f":"IF($A386>0,VLOOKUP($A386,'Last Document Status-HOMA'!$C:$Y,MATCH(\"Outgoing Date\",'Last Document Status-HOMA'!$1:$1,0)-2,0),0)","v":"00:00:00"},{"$f":"IF($A386>0,VLOOKUP($A386,'Last Document Status-HOMA'!$C:$Y,MATCH(O$9,'Last Document Status-HOMA'!$1:$1,0)-2,0),0)","v":0}]
[null,null,null,null,null,{"$f":"IFERROR((VLOOKUP(#REF!,'5-PMS'!$F$14:$N$192,6,FALSE)),\"\")","v":""},null,null,null,null,{"$f":"IF($A387>0,VLOOKUP($A387,'Last Document Status-HOMA'!$C:$Y,MATCH(K$9,'Last Document Status-HOMA'!$1:$1,0)-2,0),0)","v":0},{"$f":"IF($A387>0,VLOOKUP($A387,'Last Document Status-HOMA'!$C:$Y,MATCH(L$9,'Last Document Status-HOMA'!$1:$1,0)-2,0),0)","v":0},{"$f":"IF($A387>0,VLOOKUP($A387,'Last Document Status-HOMA'!$C:$Y,MATCH(M$9,'Last Document Status-HOMA'!$1:$1,0)-2,0),0)","v":"00:00:00"},{"$f":"IF($A387>0,VLOOKUP($A387,'Last Document Status-HOMA'!$C:$Y,MATCH(\"Outgoing Date\",'Last Document Status-HOMA'!$1:$1,0)-2,0),0)","v":"00:00:00"},{"$f":"IF($A387>0,VLOOKUP($A387,'Last Document Status-HOMA'!$C:$Y,MATCH(O$9,'Last Document Status-HOMA'!$1:$1,0)-2,0),0)","v":0}]
[null,null,null,null,null,{"$f":"IFERROR((VLOOKUP(#REF!,'5-PMS'!$F$14:$N$192,6,FALSE)),\"\")","v":""},null,null,null,null,{"$f":"IF($A388>0,VLOOKUP($A388,'Last Document Status-HOMA'!$C:$Y,MATCH(K$9,'Last Document Status-HOMA'!$1:$1,0)-2,0),0)","v":0},{"$f":"IF($A388>0,VLOOKUP($A388,'Last Document Status-HOMA'!$C:$Y,MATCH(L$9,'Last Document Status-HOMA'!$1:$1,0)-2,0),0)","v":0},{"$f":"IF($A388>0,VLOOKUP($A388,'Last Document Status-HOMA'!$C:$Y,MATCH(M$9,'Last Document Status-HOMA'!$1:$1,0)-2,0),0)","v":"00:00:00"},{"$f":"IF($A388>0,VLOOKUP($A388,'Last Document Status-HOMA'!$C:$Y,MATCH(\"Outgoing Date\",'Last Document Status-HOMA'!$1:$1,0)-2,0),0)","v":"00:00:00"},{"$f":"IF($A388>0,VLOOKUP($A388,'Last Document Status-HOMA'!$C:$Y,MATCH(O$9,'Last Document Status-HOMA'!$1:$1,0)-2,0),0)","v":0}]
[null,null,null,null,null,{"$f":"IFERROR((VLOOKUP(#REF!,'5-PMS'!$F$14:$N$192,6,FALSE)),\"\")","v":""},null,null,null,null,{"$f":"IF($A389>0,VLOOKUP($A389,'Last Document Status-HOMA'!$C:$Y,MATCH(K$9,'Last Document Status-HOMA'!$1:$1,0)-2,0),0)","v":0},{"$f":"IF($A389>0,VLOOKUP($A389,'Last Document Status-HOMA'!$C:$Y,MATCH(L$9,'Last Document Status-HOMA'!$1:$1,0)-2,0),0)","v":0},{"$f":"IF($A389>0,VLOOKUP($A389,'Last Document Status-HOMA'!$C:$Y,MATCH(M$9,'Last Document Status-HOMA'!$1:$1,0)-2,0),0)","v":"00:00:00"},{"$f":"IF($A389>0,VLOOKUP($A389,'Last Document Status-HOMA'!$C:$Y,MATCH(\"Outgoing Date\",'Last Document Status-HOMA'!$1:$1,0)-2,0),0)","v":"00:00:00"},{"$f":"IF($A389>0,VLOOKUP($A389,'Last Document Status-HOMA'!$C:$Y,MATCH(O$9,'Last Document Status-HOMA'!$1:$1,0)-2,0),0)","v":0}]
[null,null,null,null,null,{"$f":"IFERROR((VLOOKUP(#REF!,'5-PMS'!$F$14:$N$192,6,FALSE)),\"\")","v":""},null,null,null,null,{"$f":"IF($A390>0,VLOOKUP($A390,'Last Document Status-HOMA'!$C:$Y,MATCH(K$9,'Last Document Status-HOMA'!$1:$1,0)-2,0),0)","v":0},{"$f":"IF($A390>0,VLOOKUP($A390,'Last Document Status-HOMA'!$C:$Y,MATCH(L$9,'Last Document Status-HOMA'!$1:$1,0)-2,0),0)","v":0},{"$f":"IF($A390>0,VLOOKUP($A390,'Last Document Status-HOMA'!$C:$Y,MATCH(M$9,'Last Document Status-HOMA'!$1:$1,0)-2,0),0)","v":"00:00:00"},{"$f":"IF($A390>0,VLOOKUP($A390,'Last Document Status-HOMA'!$C:$Y,MATCH(\"Outgoing Date\",'Last Document Status-HOMA'!$1:$1,0)-2,0),0)","v":"00:00:00"},{"$f":"IF($A390>0,VLOOKUP($A390,'Last Document Status-HOMA'!$C:$Y,MATCH(O$9,'Last Document Status-HOMA'!$1:$1,0)-2,0),0)","v":0}]
[null,null,null,null,null,{"$f":"IFERROR((VLOOKUP(#REF!,'5-PMS'!$F$14:$N$192,6,FALSE)),\"\")","v":""},null,null,null,null,{"$f":"IF($A391>0,VLOOKUP($A391,'Last Document Status-HOMA'!$C:$Y,MATCH(K$9,'Last Document Status-HOMA'!$1:$1,0)-2,0),0)","v":0},{"$f":"IF($A391>0,VLOOKUP($A391,'Last Document Status-HOMA'!$C:$Y,MATCH(L$9,'Last Document Status-HOMA'!$1:$1,0)-2,0),0)","v":0},{"$f":"IF($A391>0,VLOOKUP($A391,'Last Document Status-HOMA'!$C:$Y,MATCH(M$9,'Last Document Status-HOMA'!$1:$1,0)-2,0),0)","v":"00:00:00"},{"$f":"IF($A391>0,VLOOKUP($A391,'Last Document Status-HOMA'!$C:$Y,MATCH(\"Outgoing Date\",'Last Document Status-HOMA'!$1:$1,0)-2,0),0)","v":"00:00:00"},{"$f":"IF($A391>0,VLOOKUP($A391,'Last Document Status-HOMA'!$C:$Y,MATCH(O$9,'Last Document Status-HOMA'!$1:$1,0)-2,0),0)","v":0}]
[null,null,null,null,null,{"$f":"IFERROR((VLOOKUP(#REF!,'5-PMS'!$F$14:$N$192,6,FALSE)),\"\")","v":""},null,null,null,null,{"$f":"IF($A392>0,VLOOKUP($A392,'Last Document Status-HOMA'!$C:$Y,MATCH(K$9,'Last Document Status-HOMA'!$1:$1,0)-2,0),0)","v":0},{"$f":"IF($A392>0,VLOOKUP($A392,'Last Document Status-HOMA'!$C:$Y,MATCH(L$9,'Last Document Status-HOMA'!$1:$1,0)-2,0),0)","v":0},{"$f":"IF($A392>0,VLOOKUP($A392,'Last Document Status-HOMA'!$C:$Y,MATCH(M$9,'Last Document Status-HOMA'!$1:$1,0)-2,0),0)","v":"00:00:00"},{"$f":"IF($A392>0,VLOOKUP($A392,'Last Document Status-HOMA'!$C:$Y,MATCH(\"Outgoing Date\",'Last Document Status-HOMA'!$1:$1,0)-2,0),0)","v":"00:00:00"},{"$f":"IF($A392>0,VLOOKUP($A392,'Last Document Status-HOMA'!$C:$Y,MATCH(O$9,'Last Document Status-HOMA'!$1:$1,0)-2,0),0)","v":0}]
[null,null,null,null,null,{"$f":"IFERROR((VLOOKUP(#REF!,'5-PMS'!$F$14:$N$192,6,FALSE)),\"\")","v":""},null,null,null,null,{"$f":"IF($A393>0,VLOOKUP($A393,'Last Document Status-HOMA'!$C:$Y,MATCH(K$9,'Last Document Status-HOMA'!$1:$1,0)-2,0),0)","v":0},{"$f":"IF($A393>0,VLOOKUP($A393,'Last Document Status-HOMA'!$C:$Y,MATCH(L$9,'Last Document Status-HOMA'!$1:$1,0)-2,0),0)","v":0},{"$f":"IF($A393>0,VLOOKUP($A393,'Last Document Status-HOMA'!$C:$Y,MATCH(M$9,'Last Document Status-HOMA'!$1:$1,0)-2,0),0)","v":"00:00:00"},{"$f":"IF($A393>0,VLOOKUP($A393,'Last Document Status-HOMA'!$C:$Y,MATCH(\"Outgoing Date\",'Last Document Status-HOMA'!$1:$1,0)-2,0),0)","v":"00:00:00"},{"$f":"IF($A393>0,VLOOKUP($A393,'Last Document Status-HOMA'!$C:$Y,MATCH(O$9,'Last Document Status-HOMA'!$1:$1,0)-2,0),0)","v":0}]
[null,null,null,null,null,{"$f":"IFERROR((VLOOKUP(#REF!,'5-PMS'!$F$14:$N$192,6,FALSE)),\"\")","v":""},null,null,null,null,{"$f":"IF($A394>0,VLOOKUP($A394,'Last Document Status-HOMA'!$C:$Y,MATCH(K$9,'Last Document Status-HOMA'!$1:$1,0)-2,0),0)","v":0},{"$f":"IF($A394>0,VLOOKUP($A394,'Last Document Status-HOMA'!$C:$Y,MATCH(L$9,'Last Document Status-HOMA'!$1:$1,0)-2,0),0)","v":0},{"$f":"IF($A394>0,VLOOKUP($A394,'Last Document Status-HOMA'!$C:$Y,MATCH(M$9,'Last Document Status-HOMA'!$1:$1,0)-2,0),0)","v":"00:00:00"},{"$f":"IF($A394>0,VLOOKUP($A394,'Last Document Status-HOMA'!$C:$Y,MATCH(\"Outgoing Date\",'Last Document Status-HOMA'!$1:$1,0)-2,0),0)","v":"00:00:00"},{"$f":"IF($A394>0,VLOOKUP($A394,'Last Document Status-HOMA'!$C:$Y,MATCH(O$9,'Last Document Status-HOMA'!$1:$1,0)-2,0),0)","v":0}]
[null,null,null,null,null,{"$f":"IFERROR((VLOOKUP(#REF!,'5-PMS'!$F$14:$N$192,6,FALSE)),\"\")","v":""},null,null,null,null,{"$f":"IF($A395>0,VLOOKUP($A395,'Last Document Status-HOMA'!$C:$Y,MATCH(K$9,'Last Document Status-HOMA'!$1:$1,0)-2,0),0)","v":0},{"$f":"IF($A395>0,VLOOKUP($A395,'Last Document Status-HOMA'!$C:$Y,MATCH(L$9,'Last Document Status-HOMA'!$1:$1,0)-2,0),0)","v":0},{"$f":"IF($A395>0,VLOOKUP($A395,'Last Document Status-HOMA'!$C:$Y,MATCH(M$9,'Last Document Status-HOMA'!$1:$1,0)-2,0),0)","v":"00:00:00"},{"$f":"IF($A395>0,VLOOKUP($A395,'Last Document Status-HOMA'!$C:$Y,MATCH(\"Outgoing Date\",'Last Document Status-HOMA'!$1:$1,0)-2,0),0)","v":"00:00:00"},{"$f":"IF($A395>0,VLOOKUP($A395,'Last Document Status-HOMA'!$C:$Y,MATCH(O$9,'Last Document Status-HOMA'!$1:$1,0)-2,0),0)","v":0}]
[null,null,null,null,null,{"$f":"IFERROR((VLOOKUP(#REF!,'5-PMS'!$F$14:$N$192,6,FALSE)),\"\")","v":""},null,null,null,null,{"$f":"IF($A396>0,VLOOKUP($A396,'Last Document Status-HOMA'!$C:$Y,MATCH(K$9,'Last Document Status-HOMA'!$1:$1,0)-2,0),0)","v":0},{"$f":"IF($A396>0,VLOOKUP($A396,'Last Document Status-HOMA'!$C:$Y,MATCH(L$9,'Last Document Status-HOMA'!$1:$1,0)-2,0),0)","v":0},{"$f":"IF($A396>0,VLOOKUP($A396,'Last Document Status-HOMA'!$C:$Y,MATCH(M$9,'Last Document Status-HOMA'!$1:$1,0)-2,0),0)","v":"00:00:00"},{"$f":"IF($A396>0,VLOOKUP($A396,'Last Document Status-HOMA'!$C:$Y,MATCH(\"Outgoing Date\",'Last Document Status-HOMA'!$1:$1,0)-2,0),0)","v":"00:00:00"},{"$f":"IF($A396>0,VLOOKUP($A396,'Last Document Status-HOMA'!$C:$Y,MATCH(O$9,'Last Document Status-HOMA'!$1:$1,0)-2,0),0)","v":0}]
[null,null,null,null,null,{"$f":"IFERROR((VLOOKUP(#REF!,'5-PMS'!$F$14:$N$192,6,FALSE)),\"\")","v":""},null,null,null,null,{"$f":"IF($A397>0,VLOOKUP($A397,'Last Document Status-HOMA'!$C:$Y,MATCH(K$9,'Last Document Status-HOMA'!$1:$1,0)-2,0),0)","v":0},{"$f":"IF($A397>0,VLOOKUP($A397,'Last Document Status-HOMA'!$C:$Y,MATCH(L$9,'Last Document Status-HOMA'!$1:$1,0)-2,0),0)","v":0},{"$f":"IF($A397>0,VLOOKUP($A397,'Last Document Status-HOMA'!$C:$Y,MATCH(M$9,'Last Document Status-HOMA'!$1:$1,0)-2,0),0)","v":"00:00:00"},{"$f":"IF($A397>0,VLOOKUP($A397,'Last Document Status-HOMA'!$C:$Y,MATCH(\"Outgoing Date\",'Last Document Status-HOMA'!$1:$1,0)-2,0),0)","v":"00:00:00"},{"$f":"IF($A397>0,VLOOKUP($A397,'Last Document Status-HOMA'!$C:$Y,MATCH(O$9,'Last Document Status-HOMA'!$1:$1,0)-2,0),0)","v":0}]
[null,null,null,null,null,{"$f":"IFERROR((VLOOKUP(#REF!,'5-PMS'!$F$14:$N$192,6,FALSE)),\"\")","v":""},null,null,null,null,{"$f":"IF($A398>0,VLOOKUP($A398,'Last Document Status-HOMA'!$C:$Y,MATCH(K$9,'Last Document Status-HOMA'!$1:$1,0)-2,0),0)","v":0},{"$f":"IF($A398>0,VLOOKUP($A398,'Last Document Status-HOMA'!$C:$Y,MATCH(L$9,'Last Document Status-HOMA'!$1:$1,0)-2,0),0)","v":0},{"$f":"IF($A398>0,VLOOKUP($A398,'Last Document Status-HOMA'!$C:$Y,MATCH(M$9,'Last Document Status-HOMA'!$1:$1,0)-2,0),0)","v":"00:00:00"},{"$f":"IF($A398>0,VLOOKUP($A398,'Last Document Status-HOMA'!$C:$Y,MATCH(\"Outgoing Date\",'Last Document Status-HOMA'!$1:$1,0)-2,0),0)","v":"00:00:00"},{"$f":"IF($A398>0,VLOOKUP($A398,'Last Document Status-HOMA'!$C:$Y,MATCH(O$9,'Last Document Status-HOMA'!$1:$1,0)-2,0),0)","v":0}]
[null,null,null,null,null,{"$f":"IFERROR((VLOOKUP(#REF!,'5-PMS'!$F$14:$N$192,6,FALSE)),\"\")","v":""},null,null,null,null,{"$f":"IF($A399>0,VLOOKUP($A399,'Last Document Status-HOMA'!$C:$Y,MATCH(K$9,'Last Document Status-HOMA'!$1:$1,0)-2,0),0)","v":0},{"$f":"IF($A399>0,VLOOKUP($A399,'Last Document Status-HOMA'!$C:$Y,MATCH(L$9,'Last Document Status-HOMA'!$1:$1,0)-2,0),0)","v":0},{"$f":"IF($A399>0,VLOOKUP($A399,'Last Document Status-HOMA'!$C:$Y,MATCH(M$9,'Last Document Status-HOMA'!$1:$1,0)-2,0),0)","v":"00:00:00"},{"$f":"IF($A399>0,VLOOKUP($A399,'Last Document Status-HOMA'!$C:$Y,MATCH(\"Outgoing Date\",'Last Document Status-HOMA'!$1:$1,0)-2,0),0)","v":"00:00:00"},{"$f":"IF($A399>0,VLOOKUP($A399,'Last Document Status-HOMA'!$C:$Y,MATCH(O$9,'Last Document Status-HOMA'!$1:$1,0)-2,0),0)","v":0}]
[null,null,null,null,null,{"$f":"IFERROR((VLOOKUP(#REF!,'5-PMS'!$F$14:$N$192,6,FALSE)),\"\")","v":""},null,null,null,null,{"$f":"IF($A400>0,VLOOKUP($A400,'Last Document Status-HOMA'!$C:$Y,MATCH(K$9,'Last Document Status-HOMA'!$1:$1,0)-2,0),0)","v":0},{"$f":"IF($A400>0,VLOOKUP($A400,'Last Document Status-HOMA'!$C:$Y,MATCH(L$9,'Last Document Status-HOMA'!$1:$1,0)-2,0),0)","v":0},{"$f":"IF($A400>0,VLOOKUP($A400,'Last Document Status-HOMA'!$C:$Y,MATCH(M$9,'Last Document Status-HOMA'!$1:$1,0)-2,0),0)","v":"00:00:00"},{"$f":"IF($A400>0,VLOOKUP($A400,'Last Document Status-HOMA'!$C:$Y,MATCH(\"Outgoing Date\",'Last Document Status-HOMA'!$1:$1,0)-2,0),0)","v":"00:00:00"},{"$f":"IF($A400>0,VLOOKUP($A400,'Last Document Status-HOMA'!$C:$Y,MATCH(O$9,'Last Document Status-HOMA'!$1:$1,0)-2,0),0)","v":0}]
[null,null,null,null,null,{"$f":"IFERROR((VLOOKUP(#REF!,'5-PMS'!$F$14:$N$192,6,FALSE)),\"\")","v":""},null,null,null,null,{"$f":"IF($A401>0,VLOOKUP($A401,'Last Document Status-HOMA'!$C:$Y,MATCH(K$9,'Last Document Status-HOMA'!$1:$1,0)-2,0),0)","v":0},{"$f":"IF($A401>0,VLOOKUP($A401,'Last Document Status-HOMA'!$C:$Y,MATCH(L$9,'Last Document Status-HOMA'!$1:$1,0)-2,0),0)","v":0},{"$f":"IF($A401>0,VLOOKUP($A401,'Last Document Status-HOMA'!$C:$Y,MATCH(M$9,'Last Document Status-HOMA'!$1:$1,0)-2,0),0)","v":"00:00:00"},{"$f":"IF($A401>0,VLOOKUP($A401,'Last Document Status-HOMA'!$C:$Y,MATCH(\"Outgoing Date\",'Last Document Status-HOMA'!$1:$1,0)-2,0),0)","v":"00:00:00"},{"$f":"IF($A401>0,VLOOKUP($A401,'Last Document Status-HOMA'!$C:$Y,MATCH(O$9,'Last Document Status-HOMA'!$1:$1,0)-2,0),0)","v":0}]
[null,null,null,null,null,{"$f":"IFERROR((VLOOKUP(#REF!,'5-PMS'!$F$14:$N$192,6,FALSE)),\"\")","v":""},null,null,null,null,{"$f":"IF($A402>0,VLOOKUP($A402,'Last Document Status-HOMA'!$C:$Y,MATCH(K$9,'Last Document Status-HOMA'!$1:$1,0)-2,0),0)","v":0},{"$f":"IF($A402>0,VLOOKUP($A402,'Last Document Status-HOMA'!$C:$Y,MATCH(L$9,'Last Document Status-HOMA'!$1:$1,0)-2,0),0)","v":0},{"$f":"IF($A402>0,VLOOKUP($A402,'Last Document Status-HOMA'!$C:$Y,MATCH(M$9,'Last Document Status-HOMA'!$1:$1,0)-2,0),0)","v":"00:00:00"},{"$f":"IF($A402>0,VLOOKUP($A402,'Last Document Status-HOMA'!$C:$Y,MATCH(\"Outgoing Date\",'Last Document Status-HOMA'!$1:$1,0)-2,0),0)","v":"00:00:00"},{"$f":"IF($A402>0,VLOOKUP($A402,'Last Document Status-HOMA'!$C:$Y,MATCH(O$9,'Last Document Status-HOMA'!$1:$1,0)-2,0),0)","v":0}]
[null,null,null,null,null,{"$f":"IFERROR((VLOOKUP(#REF!,'5-PMS'!$F$14:$N$192,6,FALSE)),\"\")","v":""},null,null,null,null,{"$f":"IF($A403>0,VLOOKUP($A403,'Last Document Status-HOMA'!$C:$Y,MATCH(K$9,'Last Document Status-HOMA'!$1:$1,0)-2,0),0)","v":0},{"$f":"IF($A403>0,VLOOKUP($A403,'Last Document Status-HOMA'!$C:$Y,MATCH(L$9,'Last Document Status-HOMA'!$1:$1,0)-2,0),0)","v":0},{"$f":"IF($A403>0,VLOOKUP($A403,'Last Document Status-HOMA'!$C:$Y,MATCH(M$9,'Last Document Status-HOMA'!$1:$1,0)-2,0),0)","v":"00:00:00"},{"$f":"IF($A403>0,VLOOKUP($A403,'Last Document Status-HOMA'!$C:$Y,MATCH(\"Outgoing Date\",'Last Document Status-HOMA'!$1:$1,0)-2,0),0)","v":"00:00:00"},{"$f":"IF($A403>0,VLOOKUP($A403,'Last Document Status-HOMA'!$C:$Y,MATCH(O$9,'Last Document Status-HOMA'!$1:$1,0)-2,0),0)","v":0}]
[null,null,null,null,null,{"$f":"IFERROR((VLOOKUP(#REF!,'5-PMS'!$F$14:$N$192,6,FALSE)),\"\")","v":""},null,null,null,null,{"$f":"IF($A404>0,VLOOKUP($A404,'Last Document Status-HOMA'!$C:$Y,MATCH(K$9,'Last Document Status-HOMA'!$1:$1,0)-2,0),0)","v":0},{"$f":"IF($A404>0,VLOOKUP($A404,'Last Document Status-HOMA'!$C:$Y,MATCH(L$9,'Last Document Status-HOMA'!$1:$1,0)-2,0),0)","v":0},{"$f":"IF($A404>0,VLOOKUP($A404,'Last Document Status-HOMA'!$C:$Y,MATCH(M$9,'Last Document Status-HOMA'!$1:$1,0)-2,0),0)","v":"00:00:00"},{"$f":"IF($A404>0,VLOOKUP($A404,'Last Document Status-HOMA'!$C:$Y,MATCH(\"Outgoing Date\",'Last Document Status-HOMA'!$1:$1,0)-2,0),0)","v":"00:00:00"},{"$f":"IF($A404>0,VLOOKUP($A404,'Last Document Status-HOMA'!$C:$Y,MATCH(O$9,'Last Document Status-HOMA'!$1:$1,0)-2,0),0)","v":0}]
[null,null,null,null,null,{"$f":"IFERROR((VLOOKUP(#REF!,'5-PMS'!$F$14:$N$192,6,FALSE)),\"\")","v":""},null,null,null,null,{"$f":"IF($A405>0,VLOOKUP($A405,'Last Document Status-HOMA'!$C:$Y,MATCH(K$9,'Last Document Status-HOMA'!$1:$1,0)-2,0),0)","v":0},{"$f":"IF($A405>0,VLOOKUP($A405,'Last Document Status-HOMA'!$C:$Y,MATCH(L$9,'Last Document Status-HOMA'!$1:$1,0)-2,0),0)","v":0},{"$f":"IF($A405>0,VLOOKUP($A405,'Last Document Status-HOMA'!$C:$Y,MATCH(M$9,'Last Document Status-HOMA'!$1:$1,0)-2,0),0)","v":"00:00:00"},{"$f":"IF($A405>0,VLOOKUP($A405,'Last Document Status-HOMA'!$C:$Y,MATCH(\"Outgoing Date\",'Last Document Status-HOMA'!$1:$1,0)-2,0),0)","v":"00:00:00"},{"$f":"IF($A405>0,VLOOKUP($A405,'Last Document Status-HOMA'!$C:$Y,MATCH(O$9,'Last Document Status-HOMA'!$1:$1,0)-2,0),0)","v":0}]
[null,null,null,null,null,{"$f":"IFERROR((VLOOKUP(#REF!,'5-PMS'!$F$14:$N$192,6,FALSE)),\"\")","v":""},null,null,null,null,{"$f":"IF($A406>0,VLOOKUP($A406,'Last Document Status-HOMA'!$C:$Y,MATCH(K$9,'Last Document Status-HOMA'!$1:$1,0)-2,0),0)","v":0},{"$f":"IF($A406>0,VLOOKUP($A406,'Last Document Status-HOMA'!$C:$Y,MATCH(L$9,'Last Document Status-HOMA'!$1:$1,0)-2,0),0)","v":0},{"$f":"IF($A406>0,VLOOKUP($A406,'Last Document Status-HOMA'!$C:$Y,MATCH(M$9,'Last Document Status-HOMA'!$1:$1,0)-2,0),0)","v":"00:00:00"},{"$f":"IF($A406>0,VLOOKUP($A406,'Last Document Status-HOMA'!$C:$Y,MATCH(\"Outgoing Date\",'Last Document Status-HOMA'!$1:$1,0)-2,0),0)","v":"00:00:00"},{"$f":"IF($A406>0,VLOOKUP($A406,'Last Document Status-HOMA'!$C:$Y,MATCH(O$9,'Last Document Status-HOMA'!$1:$1,0)-2,0),0)","v":0}]
[null,null,null,null,null,{"$f":"IFERROR((VLOOKUP(#REF!,'5-PMS'!$F$14:$N$192,6,FALSE)),\"\")","v":""},null,null,null,null,{"$f":"IF($A407>0,VLOOKUP($A407,'Last Document Status-HOMA'!$C:$Y,MATCH(K$9,'Last Document Status-HOMA'!$1:$1,0)-2,0),0)","v":0},{"$f":"IF($A407>0,VLOOKUP($A407,'Last Document Status-HOMA'!$C:$Y,MATCH(L$9,'Last Document Status-HOMA'!$1:$1,0)-2,0),0)","v":0},{"$f":"IF($A407>0,VLOOKUP($A407,'Last Document Status-HOMA'!$C:$Y,MATCH(M$9,'Last Document Status-HOMA'!$1:$1,0)-2,0),0)","v":"00:00:00"},{"$f":"IF($A407>0,VLOOKUP($A407,'Last Document Status-HOMA'!$C:$Y,MATCH(\"Outgoing Date\",'Last Document Status-HOMA'!$1:$1,0)-2,0),0)","v":"00:00:00"},{"$f":"IF($A407>0,VLOOKUP($A407,'Last Document Status-HOMA'!$C:$Y,MATCH(O$9,'Last Document Status-HOMA'!$1:$1,0)-2,0),0)","v":0}]
[null,null,null,null,null,{"$f":"IFERROR((VLOOKUP(#REF!,'5-PMS'!$F$14:$N$192,6,FALSE)),\"\")","v":""},null,null,null,null,{"$f":"IF($A408>0,VLOOKUP($A408,'Last Document Status-HOMA'!$C:$Y,MATCH(K$9,'Last Document Status-HOMA'!$1:$1,0)-2,0),0)","v":0},{"$f":"IF($A408>0,VLOOKUP($A408,'Last Document Status-HOMA'!$C:$Y,MATCH(L$9,'Last Document Status-HOMA'!$1:$1,0)-2,0),0)","v":0},{"$f":"IF($A408>0,VLOOKUP($A408,'Last Document Status-HOMA'!$C:$Y,MATCH(M$9,'Last Document Status-HOMA'!$1:$1,0)-2,0),0)","v":"00:00:00"},{"$f":"IF($A408>0,VLOOKUP($A408,'Last Document Status-HOMA'!$C:$Y,MATCH(\"Outgoing Date\",'Last Document Status-HOMA'!$1:$1,0)-2,0),0)","v":"00:00:00"},{"$f":"IF($A408>0,VLOOKUP($A408,'Last Document Status-HOMA'!$C:$Y,MATCH(O$9,'Last Document Status-HOMA'!$1:$1,0)-2,0),0)","v":0}]
[null,null,null,null,null,{"$f":"IFERROR((VLOOKUP(#REF!,'5-PMS'!$F$14:$N$192,6,FALSE)),\"\")","v":""},null,null,null,null,{"$f":"IF($A409>0,VLOOKUP($A409,'Last Document Status-HOMA'!$C:$Y,MATCH(K$9,'Last Document Status-HOMA'!$1:$1,0)-2,0),0)","v":0},{"$f":"IF($A409>0,VLOOKUP($A409,'Last Document Status-HOMA'!$C:$Y,MATCH(L$9,'Last Document Status-HOMA'!$1:$1,0)-2,0),0)","v":0},{"$f":"IF($A409>0,VLOOKUP($A409,'Last Document Status-HOMA'!$C:$Y,MATCH(M$9,'Last Document Status-HOMA'!$1:$1,0)-2,0),0)","v":"00:00:00"},{"$f":"IF($A409>0,VLOOKUP($A409,'Last Document Status-HOMA'!$C:$Y,MATCH(\"Outgoing Date\",'Last Document Status-HOMA'!$1:$1,0)-2,0),0)","v":"00:00:00"},{"$f":"IF($A409>0,VLOOKUP($A409,'Last Document Status-HOMA'!$C:$Y,MATCH(O$9,'Last Document Status-HOMA'!$1:$1,0)-2,0),0)","v":0}]
[null,null,null,null,null,{"$f":"IFERROR((VLOOKUP(#REF!,'5-PMS'!$F$14:$N$192,6,FALSE)),\"\")","v":""},null,null,null,null,{"$f":"IF($A410>0,VLOOKUP($A410,'Last Document Status-HOMA'!$C:$Y,MATCH(K$9,'Last Document Status-HOMA'!$1:$1,0)-2,0),0)","v":0},{"$f":"IF($A410>0,VLOOKUP($A410,'Last Document Status-HOMA'!$C:$Y,MATCH(L$9,'Last Document Status-HOMA'!$1:$1,0)-2,0),0)","v":0},{"$f":"IF($A410>0,VLOOKUP($A410,'Last Document Status-HOMA'!$C:$Y,MATCH(M$9,'Last Document Status-HOMA'!$1:$1,0)-2,0),0)","v":"00:00:00"},{"$f":"IF($A410>0,VLOOKUP($A410,'Last Document Status-HOMA'!$C:$Y,MATCH(\"Outgoing Date\",'Last Document Status-HOMA'!$1:$1,0)-2,0),0)","v":"00:00:00"},{"$f":"IF($A410>0,VLOOKUP($A410,'Last Document Status-HOMA'!$C:$Y,MATCH(O$9,'Last Document Status-HOMA'!$1:$1,0)-2,0),0)","v":0}]
[null,null,null,null,null,{"$f":"IFERROR((VLOOKUP(#REF!,'5-PMS'!$F$14:$N$192,6,FALSE)),\"\")","v":""},null,null,null,null,{"$f":"IF($A411>0,VLOOKUP($A411,'Last Document Status-HOMA'!$C:$Y,MATCH(K$9,'Last Document Status-HOMA'!$1:$1,0)-2,0),0)","v":0},{"$f":"IF($A411>0,VLOOKUP($A411,'Last Document Status-HOMA'!$C:$Y,MATCH(L$9,'Last Document Status-HOMA'!$1:$1,0)-2,0),0)","v":0},{"$f":"IF($A411>0,VLOOKUP($A411,'Last Document Status-HOMA'!$C:$Y,MATCH(M$9,'Last Document Status-HOMA'!$1:$1,0)-2,0),0)","v":"00:00:00"},{"$f":"IF($A411>0,VLOOKUP($A411,'Last Document Status-HOMA'!$C:$Y,MATCH(\"Outgoing Date\",'Last Document Status-HOMA'!$1:$1,0)-2,0),0)","v":"00:00:00"},{"$f":"IF($A411>0,VLOOKUP($A411,'Last Document Status-HOMA'!$C:$Y,MATCH(O$9,'Last Document Status-HOMA'!$1:$1,0)-2,0),0)","v":0}]
[null,null,null,null,null,{"$f":"IFERROR((VLOOKUP(#REF!,'5-PMS'!$F$14:$N$192,6,FALSE)),\"\")","v":""},null,null,null,null,{"$f":"IF($A412>0,VLOOKUP($A412,'Last Document Status-HOMA'!$C:$Y,MATCH(K$9,'Last Document Status-HOMA'!$1:$1,0)-2,0),0)","v":0},{"$f":"IF($A412>0,VLOOKUP($A412,'Last Document Status-HOMA'!$C:$Y,MATCH(L$9,'Last Document Status-HOMA'!$1:$1,0)-2,0),0)","v":0},{"$f":"IF($A412>0,VLOOKUP($A412,'Last Document Status-HOMA'!$C:$Y,MATCH(M$9,'Last Document Status-HOMA'!$1:$1,0)-2,0),0)","v":"00:00:00"},{"$f":"IF($A412>0,VLOOKUP($A412,'Last Document Status-HOMA'!$C:$Y,MATCH(\"Outgoing Date\",'Last Document Status-HOMA'!$1:$1,0)-2,0),0)","v":"00:00:00"},{"$f":"IF($A412>0,VLOOKUP($A412,'Last Document Status-HOMA'!$C:$Y,MATCH(O$9,'Last Document Status-HOMA'!$1:$1,0)-2,0),0)","v":0}]
[null,null,null,null,null,{"$f":"IFERROR((VLOOKUP(#REF!,'5-PMS'!$F$14:$N$192,6,FALSE)),\"\")","v":""},null,null,null,null,{"$f":"IF($A413>0,VLOOKUP($A413,'Last Document Status-HOMA'!$C:$Y,MATCH(K$9,'Last Document Status-HOMA'!$1:$1,0)-2,0),0)","v":0},{"$f":"IF($A413>0,VLOOKUP($A413,'Last Document Status-HOMA'!$C:$Y,MATCH(L$9,'Last Document Status-HOMA'!$1:$1,0)-2,0),0)","v":0},{"$f":"IF($A413>0,VLOOKUP($A413,'Last Document Status-HOMA'!$C:$Y,MATCH(M$9,'Last Document Status-HOMA'!$1:$1,0)-2,0),0)","v":"00:00:00"},{"$f":"IF($A413>0,VLOOKUP($A413,'Last Document Status-HOMA'!$C:$Y,MATCH(\"Outgoing Date\",'Last Document Status-HOMA'!$1:$1,0)-2,0),0)","v":"00:00:00"},{"$f":"IF($A413>0,VLOOKUP($A413,'Last Document Status-HOMA'!$C:$Y,MATCH(O$9,'Last Document Status-HOMA'!$1:$1,0)-2,0),0)","v":0}]
[null,null,null,null,null,{"$f":"IFERROR((VLOOKUP(#REF!,'5-PMS'!$F$14:$N$192,6,FALSE)),\"\")","v":""},null,null,null,null,{"$f":"IF($A414>0,VLOOKUP($A414,'Last Document Status-HOMA'!$C:$Y,MATCH(K$9,'Last Document Status-HOMA'!$1:$1,0)-2,0),0)","v":0},{"$f":"IF($A414>0,VLOOKUP($A414,'Last Document Status-HOMA'!$C:$Y,MATCH(L$9,'Last Document Status-HOMA'!$1:$1,0)-2,0),0)","v":0},{"$f":"IF($A414>0,VLOOKUP($A414,'Last Document Status-HOMA'!$C:$Y,MATCH(M$9,'Last Document Status-HOMA'!$1:$1,0)-2,0),0)","v":"00:00:00"},{"$f":"IF($A414>0,VLOOKUP($A414,'Last Document Status-HOMA'!$C:$Y,MATCH(\"Outgoing Date\",'Last Document Status-HOMA'!$1:$1,0)-2,0),0)","v":"00:00:00"},{"$f":"IF($A414>0,VLOOKUP($A414,'Last Document Status-HOMA'!$C:$Y,MATCH(O$9,'Last Document Status-HOMA'!$1:$1,0)-2,0),0)","v":0}]
[null,null,null,null,null,{"$f":"IFERROR((VLOOKUP(#REF!,'5-PMS'!$F$14:$N$192,6,FALSE)),\"\")","v":""},null,null,null,null,{"$f":"IF($A415>0,VLOOKUP($A415,'Last Document Status-HOMA'!$C:$Y,MATCH(K$9,'Last Document Status-HOMA'!$1:$1,0)-2,0),0)","v":0},{"$f":"IF($A415>0,VLOOKUP($A415,'Last Document Status-HOMA'!$C:$Y,MATCH(L$9,'Last Document Status-HOMA'!$1:$1,0)-2,0),0)","v":0},{"$f":"IF($A415>0,VLOOKUP($A415,'Last Document Status-HOMA'!$C:$Y,MATCH(M$9,'Last Document Status-HOMA'!$1:$1,0)-2,0),0)","v":"00:00:00"},{"$f":"IF($A415>0,VLOOKUP($A415,'Last Document Status-HOMA'!$C:$Y,MATCH(\"Outgoing Date\",'Last Document Status-HOMA'!$1:$1,0)-2,0),0)","v":"00:00:00"},{"$f":"IF($A415>0,VLOOKUP($A415,'Last Document Status-HOMA'!$C:$Y,MATCH(O$9,'Last Document Status-HOMA'!$1:$1,0)-2,0),0)","v":0}]
[null,null,null,null,null,{"$f":"IFERROR((VLOOKUP(#REF!,'5-PMS'!$F$14:$N$192,6,FALSE)),\"\")","v":""},null,null,null,null,{"$f":"IF($A416>0,VLOOKUP($A416,'Last Document Status-HOMA'!$C:$Y,MATCH(K$9,'Last Document Status-HOMA'!$1:$1,0)-2,0),0)","v":0},{"$f":"IF($A416>0,VLOOKUP($A416,'Last Document Status-HOMA'!$C:$Y,MATCH(L$9,'Last Document Status-HOMA'!$1:$1,0)-2,0),0)","v":0},{"$f":"IF($A416>0,VLOOKUP($A416,'Last Document Status-HOMA'!$C:$Y,MATCH(M$9,'Last Document Status-HOMA'!$1:$1,0)-2,0),0)","v":"00:00:00"},{"$f":"IF($A416>0,VLOOKUP($A416,'Last Document Status-HOMA'!$C:$Y,MATCH(\"Outgoing Date\",'Last Document Status-HOMA'!$1:$1,0)-2,0),0)","v":"00:00:00"},{"$f":"IF($A416>0,VLOOKUP($A416,'Last Document Status-HOMA'!$C:$Y,MATCH(O$9,'Last Document Status-HOMA'!$1:$1,0)-2,0),0)","v":0}]
[null,null,null,null,null,{"$f":"IFERROR((VLOOKUP(#REF!,'5-PMS'!$F$14:$N$192,6,FALSE)),\"\")","v":""},null,null,null,null,{"$f":"IF($A417>0,VLOOKUP($A417,'Last Document Status-HOMA'!$C:$Y,MATCH(K$9,'Last Document Status-HOMA'!$1:$1,0)-2,0),0)","v":0},{"$f":"IF($A417>0,VLOOKUP($A417,'Last Document Status-HOMA'!$C:$Y,MATCH(L$9,'Last Document Status-HOMA'!$1:$1,0)-2,0),0)","v":0},{"$f":"IF($A417>0,VLOOKUP($A417,'Last Document Status-HOMA'!$C:$Y,MATCH(M$9,'Last Document Status-HOMA'!$1:$1,0)-2,0),0)","v":"00:00:00"},{"$f":"IF($A417>0,VLOOKUP($A417,'Last Document Status-HOMA'!$C:$Y,MATCH(\"Outgoing Date\",'Last Document Status-HOMA'!$1:$1,0)-2,0),0)","v":"00:00:00"},{"$f":"IF($A417>0,VLOOKUP($A417,'Last Document Status-HOMA'!$C:$Y,MATCH(O$9,'Last Document Status-HOMA'!$1:$1,0)-2,0),0)","v":0}]
[null,null,null,null,null,{"$f":"IFERROR((VLOOKUP(#REF!,'5-PMS'!$F$14:$N$192,6,FALSE)),\"\")","v":""},null,null,null,null,{"$f":"IF($A418>0,VLOOKUP($A418,'Last Document Status-HOMA'!$C:$Y,MATCH(K$9,'Last Document Status-HOMA'!$1:$1,0)-2,0),0)","v":0},{"$f":"IF($A418>0,VLOOKUP($A418,'Last Document Status-HOMA'!$C:$Y,MATCH(L$9,'Last Document Status-HOMA'!$1:$1,0)-2,0),0)","v":0},{"$f":"IF($A418>0,VLOOKUP($A418,'Last Document Status-HOMA'!$C:$Y,MATCH(M$9,'Last Document Status-HOMA'!$1:$1,0)-2,0),0)","v":"00:00:00"},{"$f":"IF($A418>0,VLOOKUP($A418,'Last Document Status-HOMA'!$C:$Y,MATCH(\"Outgoing Date\",'Last Document Status-HOMA'!$1:$1,0)-2,0),0)","v":"00:00:00"},{"$f":"IF($A418>0,VLOOKUP($A418,'Last Document Status-HOMA'!$C:$Y,MATCH(O$9,'Last Document Status-HOMA'!$1:$1,0)-2,0),0)","v":0}]
[null,null,null,null,null,{"$f":"IFERROR((VLOOKUP(#REF!,'5-PMS'!$F$14:$N$192,6,FALSE)),\"\")","v":""},null,null,null,null,{"$f":"IF($A419>0,VLOOKUP($A419,'Last Document Status-HOMA'!$C:$Y,MATCH(K$9,'Last Document Status-HOMA'!$1:$1,0)-2,0),0)","v":0},{"$f":"IF($A419>0,VLOOKUP($A419,'Last Document Status-HOMA'!$C:$Y,MATCH(L$9,'Last Document Status-HOMA'!$1:$1,0)-2,0),0)","v":0},{"$f":"IF($A419>0,VLOOKUP($A419,'Last Document Status-HOMA'!$C:$Y,MATCH(M$9,'Last Document Status-HOMA'!$1:$1,0)-2,0),0)","v":"00:00:00"},{"$f":"IF($A419>0,VLOOKUP($A419,'Last Document Status-HOMA'!$C:$Y,MATCH(\"Outgoing Date\",'Last Document Status-HOMA'!$1:$1,0)-2,0),0)","v":"00:00:00"},{"$f":"IF($A419>0,VLOOKUP($A419,'Last Document Status-HOMA'!$C:$Y,MATCH(O$9,'Last Document Status-HOMA'!$1:$1,0)-2,0),0)","v":0}]
[null,null,null,null,null,{"$f":"IFERROR((VLOOKUP(#REF!,'5-PMS'!$F$14:$N$192,6,FALSE)),\"\")","v":""},null,null,null,null,{"$f":"IF($A420>0,VLOOKUP($A420,'Last Document Status-HOMA'!$C:$Y,MATCH(K$9,'Last Document Status-HOMA'!$1:$1,0)-2,0),0)","v":0},{"$f":"IF($A420>0,VLOOKUP($A420,'Last Document Status-HOMA'!$C:$Y,MATCH(L$9,'Last Document Status-HOMA'!$1:$1,0)-2,0),0)","v":0},{"$f":"IF($A420>0,VLOOKUP($A420,'Last Document Status-HOMA'!$C:$Y,MATCH(M$9,'Last Document Status-HOMA'!$1:$1,0)-2,0),0)","v":"00:00:00"},{"$f":"IF($A420>0,VLOOKUP($A420,'Last Document Status-HOMA'!$C:$Y,MATCH(\"Outgoing Date\",'Last Document Status-HOMA'!$1:$1,0)-2,0),0)","v":"00:00:00"},{"$f":"IF($A420>0,VLOOKUP($A420,'Last Document Status-HOMA'!$C:$Y,MATCH(O$9,'Last Document Status-HOMA'!$1:$1,0)-2,0),0)","v":0}]
[null,null,null,null,null,{"$f":"IFERROR((VLOOKUP(#REF!,'5-PMS'!$F$14:$N$192,6,FALSE)),\"\")","v":""},null,null,null,null,{"$f":"IF($A421>0,VLOOKUP($A421,'Last Document Status-HOMA'!$C:$Y,MATCH(K$9,'Last Document Status-HOMA'!$1:$1,0)-2,0),0)","v":0},{"$f":"IF($A421>0,VLOOKUP($A421,'Last Document Status-HOMA'!$C:$Y,MATCH(L$9,'Last Document Status-HOMA'!$1:$1,0)-2,0),0)","v":0},{"$f":"IF($A421>0,VLOOKUP($A421,'Last Document Status-HOMA'!$C:$Y,MATCH(M$9,'Last Document Status-HOMA'!$1:$1,0)-2,0),0)","v":"00:00:00"},{"$f":"IF($A421>0,VLOOKUP($A421,'Last Document Status-HOMA'!$C:$Y,MATCH(\"Outgoing Date\",'Last Document Status-HOMA'!$1:$1,0)-2,0),0)","v":"00:00:00"},{"$f":"IF($A421>0,VLOOKUP($A421,'Last Document Status-HOMA'!$C:$Y,MATCH(O$9,'Last Document Status-HOMA'!$1:$1,0)-2,0),0)","v":0}]
[null,null,null,null,null,{"$f":"IFERROR((VLOOKUP(#REF!,'5-PMS'!$F$14:$N$192,6,FALSE)),\"\")","v":""},null,null,null,null,{"$f":"IF($A422>0,VLOOKUP($A422,'Last Document Status-HOMA'!$C:$Y,MATCH(K$9,'Last Document Status-HOMA'!$1:$1,0)-2,0),0)","v":0},{"$f":"IF($A422>0,VLOOKUP($A422,'Last Document Status-HOMA'!$C:$Y,MATCH(L$9,'Last Document Status-HOMA'!$1:$1,0)-2,0),0)","v":0},{"$f":"IF($A422>0,VLOOKUP($A422,'Last Document Status-HOMA'!$C:$Y,MATCH(M$9,'Last Document Status-HOMA'!$1:$1,0)-2,0),0)","v":"00:00:00"},{"$f":"IF($A422>0,VLOOKUP($A422,'Last Document Status-HOMA'!$C:$Y,MATCH(\"Outgoing Date\",'Last Document Status-HOMA'!$1:$1,0)-2,0),0)","v":"00:00:00"},{"$f":"IF($A422>0,VLOOKUP($A422,'Last Document Status-HOMA'!$C:$Y,MATCH(O$9,'Last Document Status-HOMA'!$1:$1,0)-2,0),0)","v":0}]
[null,null,null,null,null,{"$f":"IFERROR((VLOOKUP(#REF!,'5-PMS'!$F$14:$N$192,6,FALSE)),\"\")","v":""},null,null,null,null,{"$f":"IF($A423>0,VLOOKUP($A423,'Last Document Status-HOMA'!$C:$Y,MATCH(K$9,'Last Document Status-HOMA'!$1:$1,0)-2,0),0)","v":0},{"$f":"IF($A423>0,VLOOKUP($A423,'Last Document Status-HOMA'!$C:$Y,MATCH(L$9,'Last Document Status-HOMA'!$1:$1,0)-2,0),0)","v":0},{"$f":"IF($A423>0,VLOOKUP($A423,'Last Document Status-HOMA'!$C:$Y,MATCH(M$9,'Last Document Status-HOMA'!$1:$1,0)-2,0),0)","v":"00:00:00"},{"$f":"IF($A423>0,VLOOKUP($A423,'Last Document Status-HOMA'!$C:$Y,MATCH(\"Outgoing Date\",'Last Document Status-HOMA'!$1:$1,0)-2,0),0)","v":"00:00:00"},{"$f":"IF($A423>0,VLOOKUP($A423,'Last Document Status-HOMA'!$C:$Y,MATCH(O$9,'Last Document Status-HOMA'!$1:$1,0)-2,0),0)","v":0}]
[null,null,null,null,null,{"$f":"IFERROR((VLOOKUP(#REF!,'5-PMS'!$F$14:$N$192,6,FALSE)),\"\")","v":""},null,null,null,null,{"$f":"IF($A424>0,VLOOKUP($A424,'Last Document Status-HOMA'!$C:$Y,MATCH(K$9,'Last Document Status-HOMA'!$1:$1,0)-2,0),0)","v":0},{"$f":"IF($A424>0,VLOOKUP($A424,'Last Document Status-HOMA'!$C:$Y,MATCH(L$9,'Last Document Status-HOMA'!$1:$1,0)-2,0),0)","v":0},{"$f":"IF($A424>0,VLOOKUP($A424,'Last Document Status-HOMA'!$C:$Y,MATCH(M$9,'Last Document Status-HOMA'!$1:$1,0)-2,0),0)","v":"00:00:00"},{"$f":"IF($A424>0,VLOOKUP($A424,'Last Document Status-HOMA'!$C:$Y,MATCH(\"Outgoing Date\",'Last Document Status-HOMA'!$1:$1,0)-2,0),0)","v":"00:00:00"},{"$f":"IF($A424>0,VLOOKUP($A424,'Last Document Status-HOMA'!$C:$Y,MATCH(O$9,'Last Document Status-HOMA'!$1:$1,0)-2,0),0)","v":0}]
[null,null,null,null,null,{"$f":"IFERROR((VLOOKUP(#REF!,'5-PMS'!$F$14:$N$192,6,FALSE)),\"\")","v":""},null,null,null,null,{"$f":"IF($A425>0,VLOOKUP($A425,'Last Document Status-HOMA'!$C:$Y,MATCH(K$9,'Last Document Status-HOMA'!$1:$1,0)-2,0),0)","v":0},{"$f":"IF($A425>0,VLOOKUP($A425,'Last Document Status-HOMA'!$C:$Y,MATCH(L$9,'Last Document Status-HOMA'!$1:$1,0)-2,0),0)","v":0},{"$f":"IF($A425>0,VLOOKUP($A425,'Last Document Status-HOMA'!$C:$Y,MATCH(M$9,'Last Document Status-HOMA'!$1:$1,0)-2,0),0)","v":"00:00:00"},{"$f":"IF($A425>0,VLOOKUP($A425,'Last Document Status-HOMA'!$C:$Y,MATCH(\"Outgoing Date\",'Last Document Status-HOMA'!$1:$1,0)-2,0),0)","v":"00:00:00"},{"$f":"IF($A425>0,VLOOKUP($A425,'Last Document Status-HOMA'!$C:$Y,MATCH(O$9,'Last Document Status-HOMA'!$1:$1,0)-2,0),0)","v":0}]
[null,null,null,null,null,{"$f":"IFERROR((VLOOKUP(#REF!,'5-PMS'!$F$14:$N$192,6,FALSE)),\"\")","v":""},null,null,null,null,{"$f":"IF($A426>0,VLOOKUP($A426,'Last Document Status-HOMA'!$C:$Y,MATCH(K$9,'Last Document Status-HOMA'!$1:$1,0)-2,0),0)","v":0},{"$f":"IF($A426>0,VLOOKUP($A426,'Last Document Status-HOMA'!$C:$Y,MATCH(L$9,'Last Document Status-HOMA'!$1:$1,0)-2,0),0)","v":0},{"$f":"IF($A426>0,VLOOKUP($A426,'Last Document Status-HOMA'!$C:$Y,MATCH(M$9,'Last Document Status-HOMA'!$1:$1,0)-2,0),0)","v":"00:00:00"},{"$f":"IF($A426>0,VLOOKUP($A426,'Last Document Status-HOMA'!$C:$Y,MATCH(\"Outgoing Date\",'Last Document Status-HOMA'!$1:$1,0)-2,0),0)","v":"00:00:00"},{"$f":"IF($A426>0,VLOOKUP($A426,'Last Document Status-HOMA'!$C:$Y,MATCH(O$9,'Last Document Status-HOMA'!$1:$1,0)-2,0),0)","v":0}]
[null,null,null,null,null,{"$f":"IFERROR((VLOOKUP(#REF!,'5-PMS'!$F$14:$N$192,6,FALSE)),\"\")","v":""},null,null,null,null,{"$f":"IF($A427>0,VLOOKUP($A427,'Last Document Status-HOMA'!$C:$Y,MATCH(K$9,'Last Document Status-HOMA'!$1:$1,0)-2,0),0)","v":0},{"$f":"IF($A427>0,VLOOKUP($A427,'Last Document Status-HOMA'!$C:$Y,MATCH(L$9,'Last Document Status-HOMA'!$1:$1,0)-2,0),0)","v":0},{"$f":"IF($A427>0,VLOOKUP($A427,'Last Document Status-HOMA'!$C:$Y,MATCH(M$9,'Last Document Status-HOMA'!$1:$1,0)-2,0),0)","v":"00:00:00"},{"$f":"IF($A427>0,VLOOKUP($A427,'Last Document Status-HOMA'!$C:$Y,MATCH(\"Outgoing Date\",'Last Document Status-HOMA'!$1:$1,0)-2,0),0)","v":"00:00:00"},{"$f":"IF($A427>0,VLOOKUP($A427,'Last Document Status-HOMA'!$C:$Y,MATCH(O$9,'Last Document Status-HOMA'!$1:$1,0)-2,0),0)","v":0}]
[null,null,null,null,null,{"$f":"IFERROR((VLOOKUP(#REF!,'5-PMS'!$F$14:$N$192,6,FALSE)),\"\")","v":""},null,null,null,null,{"$f":"IF($A428>0,VLOOKUP($A428,'Last Document Status-HOMA'!$C:$Y,MATCH(K$9,'Last Document Status-HOMA'!$1:$1,0)-2,0),0)","v":0},{"$f":"IF($A428>0,VLOOKUP($A428,'Last Document Status-HOMA'!$C:$Y,MATCH(L$9,'Last Document Status-HOMA'!$1:$1,0)-2,0),0)","v":0},{"$f":"IF($A428>0,VLOOKUP($A428,'Last Document Status-HOMA'!$C:$Y,MATCH(M$9,'Last Document Status-HOMA'!$1:$1,0)-2,0),0)","v":"00:00:00"},{"$f":"IF($A428>0,VLOOKUP($A428,'Last Document Status-HOMA'!$C:$Y,MATCH(\"Outgoing Date\",'Last Document Status-HOMA'!$1:$1,0)-2,0),0)","v":"00:00:00"},{"$f":"IF($A428>0,VLOOKUP($A428,'Last Document Status-HOMA'!$C:$Y,MATCH(O$9,'Last Document Status-HOMA'!$1:$1,0)-2,0),0)","v":0}]
[null,null,null,null,null,{"$f":"IFERROR((VLOOKUP(#REF!,'5-PMS'!$F$14:$N$192,6,FALSE)),\"\")","v":""},null,null,null,null,{"$f":"IF($A429>0,VLOOKUP($A429,'Last Document Status-HOMA'!$C:$Y,MATCH(K$9,'Last Document Status-HOMA'!$1:$1,0)-2,0),0)","v":0},{"$f":"IF($A429>0,VLOOKUP($A429,'Last Document Status-HOMA'!$C:$Y,MATCH(L$9,'Last Document Status-HOMA'!$1:$1,0)-2,0),0)","v":0},{"$f":"IF($A429>0,VLOOKUP($A429,'Last Document Status-HOMA'!$C:$Y,MATCH(M$9,'Last Document Status-HOMA'!$1:$1,0)-2,0),0)","v":"00:00:00"},{"$f":"IF($A429>0,VLOOKUP($A429,'Last Document Status-HOMA'!$C:$Y,MATCH(\"Outgoing Date\",'Last Document Status-HOMA'!$1:$1,0)-2,0),0)","v":"00:00:00"},{"$f":"IF($A429>0,VLOOKUP($A429,'Last Document Status-HOMA'!$C:$Y,MATCH(O$9,'Last Document Status-HOMA'!$1:$1,0)-2,0),0)","v":0}]
[null,null,null,null,null,{"$f":"IFERROR((VLOOKUP(#REF!,'5-PMS'!$F$14:$N$192,6,FALSE)),\"\")","v":""},null,null,null,null,{"$f":"IF($A430>0,VLOOKUP($A430,'Last Document Status-HOMA'!$C:$Y,MATCH(K$9,'Last Document Status-HOMA'!$1:$1,0)-2,0),0)","v":0},{"$f":"IF($A430>0,VLOOKUP($A430,'Last Document Status-HOMA'!$C:$Y,MATCH(L$9,'Last Document Status-HOMA'!$1:$1,0)-2,0),0)","v":0},{"$f":"IF($A430>0,VLOOKUP($A430,'Last Document Status-HOMA'!$C:$Y,MATCH(M$9,'Last Document Status-HOMA'!$1:$1,0)-2,0),0)","v":"00:00:00"},{"$f":"IF($A430>0,VLOOKUP($A430,'Last Document Status-HOMA'!$C:$Y,MATCH(\"Outgoing Date\",'Last Document Status-HOMA'!$1:$1,0)-2,0),0)","v":"00:00:00"},{"$f":"IF($A430>0,VLOOKUP($A430,'Last Document Status-HOMA'!$C:$Y,MATCH(O$9,'Last Document Status-HOMA'!$1:$1,0)-2,0),0)","v":0}]
[null,null,null,null,null,{"$f":"IFERROR((VLOOKUP(#REF!,'5-PMS'!$F$14:$N$192,6,FALSE)),\"\")","v":""},null,null,null,null,{"$f":"IF($A431>0,VLOOKUP($A431,'Last Document Status-HOMA'!$C:$Y,MATCH(K$9,'Last Document Status-HOMA'!$1:$1,0)-2,0),0)","v":0},{"$f":"IF($A431>0,VLOOKUP($A431,'Last Document Status-HOMA'!$C:$Y,MATCH(L$9,'Last Document Status-HOMA'!$1:$1,0)-2,0),0)","v":0},{"$f":"IF($A431>0,VLOOKUP($A431,'Last Document Status-HOMA'!$C:$Y,MATCH(M$9,'Last Document Status-HOMA'!$1:$1,0)-2,0),0)","v":"00:00:00"},{"$f":"IF($A431>0,VLOOKUP($A431,'Last Document Status-HOMA'!$C:$Y,MATCH(\"Outgoing Date\",'Last Document Status-HOMA'!$1:$1,0)-2,0),0)","v":"00:00:00"},{"$f":"IF($A431>0,VLOOKUP($A431,'Last Document Status-HOMA'!$C:$Y,MATCH(O$9,'Last Document Status-HOMA'!$1:$1,0)-2,0),0)","v":0}]
[null,null,null,null,null,{"$f":"IFERROR((VLOOKUP(#REF!,'5-PMS'!$F$14:$N$192,6,FALSE)),\"\")","v":""},null,null,null,null,{"$f":"IF($A432>0,VLOOKUP($A432,'Last Document Status-HOMA'!$C:$Y,MATCH(K$9,'Last Document Status-HOMA'!$1:$1,0)-2,0),0)","v":0},{"$f":"IF($A432>0,VLOOKUP($A432,'Last Document Status-HOMA'!$C:$Y,MATCH(L$9,'Last Document Status-HOMA'!$1:$1,0)-2,0),0)","v":0},{"$f":"IF($A432>0,VLOOKUP($A432,'Last Document Status-HOMA'!$C:$Y,MATCH(M$9,'Last Document Status-HOMA'!$1:$1,0)-2,0),0)","v":"00:00:00"},{"$f":"IF($A432>0,VLOOKUP($A432,'Last Document Status-HOMA'!$C:$Y,MATCH(\"Outgoing Date\",'Last Document Status-HOMA'!$1:$1,0)-2,0),0)","v":"00:00:00"},{"$f":"IF($A432>0,VLOOKUP($A432,'Last Document Status-HOMA'!$C:$Y,MATCH(O$9,'Last Document Status-HOMA'!$1:$1,0)-2,0),0)","v":0}]
[null,null,null,null,null,{"$f":"IFERROR((VLOOKUP(#REF!,'5-PMS'!$F$14:$N$192,6,FALSE)),\"\")","v":""},null,null,null,null,{"$f":"IF($A433>0,VLOOKUP($A433,'Last Document Status-HOMA'!$C:$Y,MATCH(K$9,'Last Document Status-HOMA'!$1:$1,0)-2,0),0)","v":0},{"$f":"IF($A433>0,VLOOKUP($A433,'Last Document Status-HOMA'!$C:$Y,MATCH(L$9,'Last Document Status-HOMA'!$1:$1,0)-2,0),0)","v":0},{"$f":"IF($A433>0,VLOOKUP($A433,'Last Document Status-HOMA'!$C:$Y,MATCH(M$9,'Last Document Status-HOMA'!$1:$1,0)-2,0),0)","v":"00:00:00"},{"$f":"IF($A433>0,VLOOKUP($A433,'Last Document Status-HOMA'!$C:$Y,MATCH(\"Outgoing Date\",'Last Document Status-HOMA'!$1:$1,0)-2,0),0)","v":"00:00:00"},{"$f":"IF($A433>0,VLOOKUP($A433,'Last Document Status-HOMA'!$C:$Y,MATCH(O$9,'Last Document Status-HOMA'!$1:$1,0)-2,0),0)","v":0}]
[null,null,null,null,null,{"$f":"IFERROR((VLOOKUP(#REF!,'5-PMS'!$F$14:$N$192,6,FALSE)),\"\")","v":""},null,null,null,null,{"$f":"IF($A434>0,VLOOKUP($A434,'Last Document Status-HOMA'!$C:$Y,MATCH(K$9,'Last Document Status-HOMA'!$1:$1,0)-2,0),0)","v":0},{"$f":"IF($A434>0,VLOOKUP($A434,'Last Document Status-HOMA'!$C:$Y,MATCH(L$9,'Last Document Status-HOMA'!$1:$1,0)-2,0),0)","v":0},{"$f":"IF($A434>0,VLOOKUP($A434,'Last Document Status-HOMA'!$C:$Y,MATCH(M$9,'Last Document Status-HOMA'!$1:$1,0)-2,0),0)","v":"00:00:00"},{"$f":"IF($A434>0,VLOOKUP($A434,'Last Document Status-HOMA'!$C:$Y,MATCH(\"Outgoing Date\",'Last Document Status-HOMA'!$1:$1,0)-2,0),0)","v":"00:00:00"},{"$f":"IF($A434>0,VLOOKUP($A434,'Last Document Status-HOMA'!$C:$Y,MATCH(O$9,'Last Document Status-HOMA'!$1:$1,0)-2,0),0)","v":0}]
[null,null,null,null,null,{"$f":"IFERROR((VLOOKUP(#REF!,'5-PMS'!$F$14:$N$192,6,FALSE)),\"\")","v":""},null,null,null,null,{"$f":"IF($A435>0,VLOOKUP($A435,'Last Document Status-HOMA'!$C:$Y,MATCH(K$9,'Last Document Status-HOMA'!$1:$1,0)-2,0),0)","v":0},{"$f":"IF($A435>0,VLOOKUP($A435,'Last Document Status-HOMA'!$C:$Y,MATCH(L$9,'Last Document Status-HOMA'!$1:$1,0)-2,0),0)","v":0},{"$f":"IF($A435>0,VLOOKUP($A435,'Last Document Status-HOMA'!$C:$Y,MATCH(M$9,'Last Document Status-HOMA'!$1:$1,0)-2,0),0)","v":"00:00:00"},{"$f":"IF($A435>0,VLOOKUP($A435,'Last Document Status-HOMA'!$C:$Y,MATCH(\"Outgoing Date\",'Last Document Status-HOMA'!$1:$1,0)-2,0),0)","v":"00:00:00"},{"$f":"IF($A435>0,VLOOKUP($A435,'Last Document Status-HOMA'!$C:$Y,MATCH(O$9,'Last Document Status-HOMA'!$1:$1,0)-2,0),0)","v":0}]
[null,null,null,null,null,{"$f":"IFERROR((VLOOKUP(#REF!,'5-PMS'!$F$14:$N$192,6,FALSE)),\"\")","v":""},null,null,null,null,{"$f":"IF($A436>0,VLOOKUP($A436,'Last Document Status-HOMA'!$C:$Y,MATCH(K$9,'Last Document Status-HOMA'!$1:$1,0)-2,0),0)","v":0},{"$f":"IF($A436>0,VLOOKUP($A436,'Last Document Status-HOMA'!$C:$Y,MATCH(L$9,'Last Document Status-HOMA'!$1:$1,0)-2,0),0)","v":0},{"$f":"IF($A436>0,VLOOKUP($A436,'Last Document Status-HOMA'!$C:$Y,MATCH(M$9,'Last Document Status-HOMA'!$1:$1,0)-2,0),0)","v":"00:00:00"},{"$f":"IF($A436>0,VLOOKUP($A436,'Last Document Status-HOMA'!$C:$Y,MATCH(\"Outgoing Date\",'Last Document Status-HOMA'!$1:$1,0)-2,0),0)","v":"00:00:00"},{"$f":"IF($A436>0,VLOOKUP($A436,'Last Document Status-HOMA'!$C:$Y,MATCH(O$9,'Last Document Status-HOMA'!$1:$1,0)-2,0),0)","v":0}]
[null,null,null,null,null,{"$f":"IFERROR((VLOOKUP(#REF!,'5-PMS'!$F$14:$N$192,6,FALSE)),\"\")","v":""},null,null,null,null,{"$f":"IF($A437>0,VLOOKUP($A437,'Last Document Status-HOMA'!$C:$Y,MATCH(K$9,'Last Document Status-HOMA'!$1:$1,0)-2,0),0)","v":0},{"$f":"IF($A437>0,VLOOKUP($A437,'Last Document Status-HOMA'!$C:$Y,MATCH(L$9,'Last Document Status-HOMA'!$1:$1,0)-2,0),0)","v":0},{"$f":"IF($A437>0,VLOOKUP($A437,'Last Document Status-HOMA'!$C:$Y,MATCH(M$9,'Last Document Status-HOMA'!$1:$1,0)-2,0),0)","v":"00:00:00"},{"$f":"IF($A437>0,VLOOKUP($A437,'Last Document Status-HOMA'!$C:$Y,MATCH(\"Outgoing Date\",'Last Document Status-HOMA'!$1:$1,0)-2,0),0)","v":"00:00:00"},{"$f":"IF($A437>0,VLOOKUP($A437,'Last Document Status-HOMA'!$C:$Y,MATCH(O$9,'Last Document Status-HOMA'!$1:$1,0)-2,0),0)","v":0}]
[null,null,null,null,null,{"$f":"IFERROR((VLOOKUP(#REF!,'5-PMS'!$F$14:$N$192,6,FALSE)),\"\")","v":""},null,null,null,null,{"$f":"IF($A438>0,VLOOKUP($A438,'Last Document Status-HOMA'!$C:$Y,MATCH(K$9,'Last Document Status-HOMA'!$1:$1,0)-2,0),0)","v":0},{"$f":"IF($A438>0,VLOOKUP($A438,'Last Document Status-HOMA'!$C:$Y,MATCH(L$9,'Last Document Status-HOMA'!$1:$1,0)-2,0),0)","v":0},{"$f":"IF($A438>0,VLOOKUP($A438,'Last Document Status-HOMA'!$C:$Y,MATCH(M$9,'Last Document Status-HOMA'!$1:$1,0)-2,0),0)","v":"00:00:00"},{"$f":"IF($A438>0,VLOOKUP($A438,'Last Document Status-HOMA'!$C:$Y,MATCH(\"Outgoing Date\",'Last Document Status-HOMA'!$1:$1,0)-2,0),0)","v":"00:00:00"},{"$f":"IF($A438>0,VLOOKUP($A438,'Last Document Status-HOMA'!$C:$Y,MATCH(O$9,'Last Document Status-HOMA'!$1:$1,0)-2,0),0)","v":0}]
[null,null,null,null,null,{"$f":"IFERROR((VLOOKUP(#REF!,'5-PMS'!$F$14:$N$192,6,FALSE)),\"\")","v":""},null,null,null,null,{"$f":"IF($A439>0,VLOOKUP($A439,'Last Document Status-HOMA'!$C:$Y,MATCH(K$9,'Last Document Status-HOMA'!$1:$1,0)-2,0),0)","v":0},{"$f":"IF($A439>0,VLOOKUP($A439,'Last Document Status-HOMA'!$C:$Y,MATCH(L$9,'Last Document Status-HOMA'!$1:$1,0)-2,0),0)","v":0},{"$f":"IF($A439>0,VLOOKUP($A439,'Last Document Status-HOMA'!$C:$Y,MATCH(M$9,'Last Document Status-HOMA'!$1:$1,0)-2,0),0)","v":"00:00:00"},{"$f":"IF($A439>0,VLOOKUP($A439,'Last Document Status-HOMA'!$C:$Y,MATCH(\"Outgoing Date\",'Last Document Status-HOMA'!$1:$1,0)-2,0),0)","v":"00:00:00"},{"$f":"IF($A439>0,VLOOKUP($A439,'Last Document Status-HOMA'!$C:$Y,MATCH(O$9,'Last Document Status-HOMA'!$1:$1,0)-2,0),0)","v":0}]
[null,null,null,null,null,{"$f":"IFERROR((VLOOKUP(#REF!,'5-PMS'!$F$14:$N$192,6,FALSE)),\"\")","v":""},null,null,null,null,{"$f":"IF($A440>0,VLOOKUP($A440,'Last Document Status-HOMA'!$C:$Y,MATCH(K$9,'Last Document Status-HOMA'!$1:$1,0)-2,0),0)","v":0},{"$f":"IF($A440>0,VLOOKUP($A440,'Last Document Status-HOMA'!$C:$Y,MATCH(L$9,'Last Document Status-HOMA'!$1:$1,0)-2,0),0)","v":0},{"$f":"IF($A440>0,VLOOKUP($A440,'Last Document Status-HOMA'!$C:$Y,MATCH(M$9,'Last Document Status-HOMA'!$1:$1,0)-2,0),0)","v":"00:00:00"},{"$f":"IF($A440>0,VLOOKUP($A440,'Last Document Status-HOMA'!$C:$Y,MATCH(\"Outgoing Date\",'Last Document Status-HOMA'!$1:$1,0)-2,0),0)","v":"00:00:00"},{"$f":"IF($A440>0,VLOOKUP($A440,'Last Document Status-HOMA'!$C:$Y,MATCH(O$9,'Last Document Status-HOMA'!$1:$1,0)-2,0),0)","v":0}]
[null,null,null,null,null,{"$f":"IFERROR((VLOOKUP(#REF!,'5-PMS'!$F$14:$N$192,6,FALSE)),\"\")","v":""},null,null,null,null,{"$f":"IF($A441>0,VLOOKUP($A441,'Last Document Status-HOMA'!$C:$Y,MATCH(K$9,'Last Document Status-HOMA'!$1:$1,0)-2,0),0)","v":0},{"$f":"IF($A441>0,VLOOKUP($A441,'Last Document Status-HOMA'!$C:$Y,MATCH(L$9,'Last Document Status-HOMA'!$1:$1,0)-2,0),0)","v":0},{"$f":"IF($A441>0,VLOOKUP($A441,'Last Document Status-HOMA'!$C:$Y,MATCH(M$9,'Last Document Status-HOMA'!$1:$1,0)-2,0),0)","v":"00:00:00"},{"$f":"IF($A441>0,VLOOKUP($A441,'Last Document Status-HOMA'!$C:$Y,MATCH(\"Outgoing Date\",'Last Document Status-HOMA'!$1:$1,0)-2,0),0)","v":"00:00:00"},{"$f":"IF($A441>0,VLOOKUP($A441,'Last Document Status-HOMA'!$C:$Y,MATCH(O$9,'Last Document Status-HOMA'!$1:$1,0)-2,0),0)","v":0}]
[null,null,null,null,null,{"$f":"IFERROR((VLOOKUP(#REF!,'5-PMS'!$F$14:$N$192,6,FALSE)),\"\")","v":""},null,null,null,null,{"$f":"IF($A442>0,VLOOKUP($A442,'Last Document Status-HOMA'!$C:$Y,MATCH(K$9,'Last Document Status-HOMA'!$1:$1,0)-2,0),0)","v":0},{"$f":"IF($A442>0,VLOOKUP($A442,'Last Document Status-HOMA'!$C:$Y,MATCH(L$9,'Last Document Status-HOMA'!$1:$1,0)-2,0),0)","v":0},{"$f":"IF($A442>0,VLOOKUP($A442,'Last Document Status-HOMA'!$C:$Y,MATCH(M$9,'Last Document Status-HOMA'!$1:$1,0)-2,0),0)","v":"00:00:00"},{"$f":"IF($A442>0,VLOOKUP($A442,'Last Document Status-HOMA'!$C:$Y,MATCH(\"Outgoing Date\",'Last Document Status-HOMA'!$1:$1,0)-2,0),0)","v":"00:00:00"},{"$f":"IF($A442>0,VLOOKUP($A442,'Last Document Status-HOMA'!$C:$Y,MATCH(O$9,'Last Document Status-HOMA'!$1:$1,0)-2,0),0)","v":0}]
[null,null,null,null,null,{"$f":"IFERROR((VLOOKUP(#REF!,'5-PMS'!$F$14:$N$192,6,FALSE)),\"\")","v":""},null,null,null,null,{"$f":"IF($A443>0,VLOOKUP($A443,'Last Document Status-HOMA'!$C:$Y,MATCH(K$9,'Last Document Status-HOMA'!$1:$1,0)-2,0),0)","v":0},{"$f":"IF($A443>0,VLOOKUP($A443,'Last Document Status-HOMA'!$C:$Y,MATCH(L$9,'Last Document Status-HOMA'!$1:$1,0)-2,0),0)","v":0},{"$f":"IF($A443>0,VLOOKUP($A443,'Last Document Status-HOMA'!$C:$Y,MATCH(M$9,'Last Document Status-HOMA'!$1:$1,0)-2,0),0)","v":"00:00:00"},{"$f":"IF($A443>0,VLOOKUP($A443,'Last Document Status-HOMA'!$C:$Y,MATCH(\"Outgoing Date\",'Last Document Status-HOMA'!$1:$1,0)-2,0),0)","v":"00:00:00"},{"$f":"IF($A443>0,VLOOKUP($A443,'Last Document Status-HOMA'!$C:$Y,MATCH(O$9,'Last Document Status-HOMA'!$1:$1,0)-2,0),0)","v":0}]
[null,null,null,null,null,{"$f":"IFERROR((VLOOKUP(#REF!,'5-PMS'!$F$14:$N$192,6,FALSE)),\"\")","v":""},null,null,null,null,{"$f":"IF($A444>0,VLOOKUP($A444,'Last Document Status-HOMA'!$C:$Y,MATCH(K$9,'Last Document Status-HOMA'!$1:$1,0)-2,0),0)","v":0},{"$f":"IF($A444>0,VLOOKUP($A444,'Last Document Status-HOMA'!$C:$Y,MATCH(L$9,'Last Document Status-HOMA'!$1:$1,0)-2,0),0)","v":0},{"$f":"IF($A444>0,VLOOKUP($A444,'Last Document Status-HOMA'!$C:$Y,MATCH(M$9,'Last Document Status-HOMA'!$1:$1,0)-2,0),0)","v":"00:00:00"},{"$f":"IF($A444>0,VLOOKUP($A444,'Last Document Status-HOMA'!$C:$Y,MATCH(\"Outgoing Date\",'Last Document Status-HOMA'!$1:$1,0)-2,0),0)","v":"00:00:00"},{"$f":"IF($A444>0,VLOOKUP($A444,'Last Document Status-HOMA'!$C:$Y,MATCH(O$9,'Last Document Status-HOMA'!$1:$1,0)-2,0),0)","v":0}]
[null,null,null,null,null,{"$f":"IFERROR((VLOOKUP(#REF!,'5-PMS'!$F$14:$N$192,6,FALSE)),\"\")","v":""},null,null,null,null,{"$f":"IF($A445>0,VLOOKUP($A445,'Last Document Status-HOMA'!$C:$Y,MATCH(K$9,'Last Document Status-HOMA'!$1:$1,0)-2,0),0)","v":0},{"$f":"IF($A445>0,VLOOKUP($A445,'Last Document Status-HOMA'!$C:$Y,MATCH(L$9,'Last Document Status-HOMA'!$1:$1,0)-2,0),0)","v":0},{"$f":"IF($A445>0,VLOOKUP($A445,'Last Document Status-HOMA'!$C:$Y,MATCH(M$9,'Last Document Status-HOMA'!$1:$1,0)-2,0),0)","v":"00:00:00"},{"$f":"IF($A445>0,VLOOKUP($A445,'Last Document Status-HOMA'!$C:$Y,MATCH(\"Outgoing Date\",'Last Document Status-HOMA'!$1:$1,0)-2,0),0)","v":"00:00:00"},{"$f":"IF($A445>0,VLOOKUP($A445,'Last Document Status-HOMA'!$C:$Y,MATCH(O$9,'Last Document Status-HOMA'!$1:$1,0)-2,0),0)","v":0}]
[null,null,null,null,null,{"$f":"IFERROR((VLOOKUP(#REF!,'5-PMS'!$F$14:$N$192,6,FALSE)),\"\")","v":""},null,null,null,null,{"$f":"IF($A446>0,VLOOKUP($A446,'Last Document Status-HOMA'!$C:$Y,MATCH(K$9,'Last Document Status-HOMA'!$1:$1,0)-2,0),0)","v":0},{"$f":"IF($A446>0,VLOOKUP($A446,'Last Document Status-HOMA'!$C:$Y,MATCH(L$9,'Last Document Status-HOMA'!$1:$1,0)-2,0),0)","v":0},{"$f":"IF($A446>0,VLOOKUP($A446,'Last Document Status-HOMA'!$C:$Y,MATCH(M$9,'Last Document Status-HOMA'!$1:$1,0)-2,0),0)","v":"00:00:00"},{"$f":"IF($A446>0,VLOOKUP($A446,'Last Document Status-HOMA'!$C:$Y,MATCH(\"Outgoing Date\",'Last Document Status-HOMA'!$1:$1,0)-2,0),0)","v":"00:00:00"},{"$f":"IF($A446>0,VLOOKUP($A446,'Last Document Status-HOMA'!$C:$Y,MATCH(O$9,'Last Document Status-HOMA'!$1:$1,0)-2,0),0)","v":0}]
[null,null,null,null,null,{"$f":"IFERROR((VLOOKUP(#REF!,'5-PMS'!$F$14:$N$192,6,FALSE)),\"\")","v":""},null,null,null,null,{"$f":"IF($A447>0,VLOOKUP($A447,'Last Document Status-HOMA'!$C:$Y,MATCH(K$9,'Last Document Status-HOMA'!$1:$1,0)-2,0),0)","v":0},{"$f":"IF($A447>0,VLOOKUP($A447,'Last Document Status-HOMA'!$C:$Y,MATCH(L$9,'Last Document Status-HOMA'!$1:$1,0)-2,0),0)","v":0},{"$f":"IF($A447>0,VLOOKUP($A447,'Last Document Status-HOMA'!$C:$Y,MATCH(M$9,'Last Document Status-HOMA'!$1:$1,0)-2,0),0)","v":"00:00:00"},{"$f":"IF($A447>0,VLOOKUP($A447,'Last Document Status-HOMA'!$C:$Y,MATCH(\"Outgoing Date\",'Last Document Status-HOMA'!$1:$1,0)-2,0),0)","v":"00:00:00"},{"$f":"IF($A447>0,VLOOKUP($A447,'Last Document Status-HOMA'!$C:$Y,MATCH(O$9,'Last Document Status-HOMA'!$1:$1,0)-2,0),0)","v":0}]
[null,null,null,null,null,{"$f":"IFERROR((VLOOKUP(#REF!,'5-PMS'!$F$14:$N$192,6,FALSE)),\"\")","v":""},null,null,null,null,{"$f":"IF($A448>0,VLOOKUP($A448,'Last Document Status-HOMA'!$C:$Y,MATCH(K$9,'Last Document Status-HOMA'!$1:$1,0)-2,0),0)","v":0},{"$f":"IF($A448>0,VLOOKUP($A448,'Last Document Status-HOMA'!$C:$Y,MATCH(L$9,'Last Document Status-HOMA'!$1:$1,0)-2,0),0)","v":0},{"$f":"IF($A448>0,VLOOKUP($A448,'Last Document Status-HOMA'!$C:$Y,MATCH(M$9,'Last Document Status-HOMA'!$1:$1,0)-2,0),0)","v":"00:00:00"},{"$f":"IF($A448>0,VLOOKUP($A448,'Last Document Status-HOMA'!$C:$Y,MATCH(\"Outgoing Date\",'Last Document Status-HOMA'!$1:$1,0)-2,0),0)","v":"00:00:00"},{"$f":"IF($A448>0,VLOOKUP($A448,'Last Document Status-HOMA'!$C:$Y,MATCH(O$9,'Last Document Status-HOMA'!$1:$1,0)-2,0),0)","v":0}]
[null,null,null,null,null,{"$f":"IFERROR((VLOOKUP(#REF!,'5-PMS'!$F$14:$N$192,6,FALSE)),\"\")","v":""},null,null,null,null,{"$f":"IF($A449>0,VLOOKUP($A449,'Last Document Status-HOMA'!$C:$Y,MATCH(K$9,'Last Document Status-HOMA'!$1:$1,0)-2,0),0)","v":0},{"$f":"IF($A449>0,VLOOKUP($A449,'Last Document Status-HOMA'!$C:$Y,MATCH(L$9,'Last Document Status-HOMA'!$1:$1,0)-2,0),0)","v":0},{"$f":"IF($A449>0,VLOOKUP($A449,'Last Document Status-HOMA'!$C:$Y,MATCH(M$9,'Last Document Status-HOMA'!$1:$1,0)-2,0),0)","v":"00:00:00"},{"$f":"IF($A449>0,VLOOKUP($A449,'Last Document Status-HOMA'!$C:$Y,MATCH(\"Outgoing Date\",'Last Document Status-HOMA'!$1:$1,0)-2,0),0)","v":"00:00:00"},{"$f":"IF($A449>0,VLOOKUP($A449,'Last Document Status-HOMA'!$C:$Y,MATCH(O$9,'Last Document Status-HOMA'!$1:$1,0)-2,0),0)","v":0}]
[null,null,null,null,null,{"$f":"IFERROR((VLOOKUP(#REF!,'5-PMS'!$F$14:$N$192,6,FALSE)),\"\")","v":""},null,null,null,null,{"$f":"IF($A450>0,VLOOKUP($A450,'Last Document Status-HOMA'!$C:$Y,MATCH(K$9,'Last Document Status-HOMA'!$1:$1,0)-2,0),0)","v":0},{"$f":"IF($A450>0,VLOOKUP($A450,'Last Document Status-HOMA'!$C:$Y,MATCH(L$9,'Last Document Status-HOMA'!$1:$1,0)-2,0),0)","v":0},{"$f":"IF($A450>0,VLOOKUP($A450,'Last Document Status-HOMA'!$C:$Y,MATCH(M$9,'Last Document Status-HOMA'!$1:$1,0)-2,0),0)","v":"00:00:00"},{"$f":"IF($A450>0,VLOOKUP($A450,'Last Document Status-HOMA'!$C:$Y,MATCH(\"Outgoing Date\",'Last Document Status-HOMA'!$1:$1,0)-2,0),0)","v":"00:00:00"},{"$f":"IF($A450>0,VLOOKUP($A450,'Last Document Status-HOMA'!$C:$Y,MATCH(O$9,'Last Document Status-HOMA'!$1:$1,0)-2,0),0)","v":0}]
[null,null,null,null,null,{"$f":"IFERROR((VLOOKUP(#REF!,'5-PMS'!$F$14:$N$192,6,FALSE)),\"\")","v":""},null,null,null,null,{"$f":"IF($A451>0,VLOOKUP($A451,'Last Document Status-HOMA'!$C:$Y,MATCH(K$9,'Last Document Status-HOMA'!$1:$1,0)-2,0),0)","v":0},{"$f":"IF($A451>0,VLOOKUP($A451,'Last Document Status-HOMA'!$C:$Y,MATCH(L$9,'Last Document Status-HOMA'!$1:$1,0)-2,0),0)","v":0},{"$f":"IF($A451>0,VLOOKUP($A451,'Last Document Status-HOMA'!$C:$Y,MATCH(M$9,'Last Document Status-HOMA'!$1:$1,0)-2,0),0)","v":"00:00:00"},{"$f":"IF($A451>0,VLOOKUP($A451,'Last Document Status-HOMA'!$C:$Y,MATCH(\"Outgoing Date\",'Last Document Status-HOMA'!$1:$1,0)-2,0),0)","v":"00:00:00"},{"$f":"IF($A451>0,VLOOKUP($A451,'Last Document Status-HOMA'!$C:$Y,MATCH(O$9,'Last Document Status-HOMA'!$1:$1,0)-2,0),0)","v":0}]
[null,null,null,null,null,{"$f":"IFERROR((VLOOKUP(#REF!,'5-PMS'!$F$14:$N$192,6,FALSE)),\"\")","v":""},null,null,null,null,{"$f":"IF($A452>0,VLOOKUP($A452,'Last Document Status-HOMA'!$C:$Y,MATCH(K$9,'Last Document Status-HOMA'!$1:$1,0)-2,0),0)","v":0},{"$f":"IF($A452>0,VLOOKUP($A452,'Last Document Status-HOMA'!$C:$Y,MATCH(L$9,'Last Document Status-HOMA'!$1:$1,0)-2,0),0)","v":0},{"$f":"IF($A452>0,VLOOKUP($A452,'Last Document Status-HOMA'!$C:$Y,MATCH(M$9,'Last Document Status-HOMA'!$1:$1,0)-2,0),0)","v":"00:00:00"},{"$f":"IF($A452>0,VLOOKUP($A452,'Last Document Status-HOMA'!$C:$Y,MATCH(\"Outgoing Date\",'Last Document Status-HOMA'!$1:$1,0)-2,0),0)","v":"00:00:00"},{"$f":"IF($A452>0,VLOOKUP($A452,'Last Document Status-HOMA'!$C:$Y,MATCH(O$9,'Last Document Status-HOMA'!$1:$1,0)-2,0),0)","v":0}]
[null,null,null,null,null,{"$f":"IFERROR((VLOOKUP(#REF!,'5-PMS'!$F$14:$N$192,6,FALSE)),\"\")","v":""},null,null,null,null,{"$f":"IF($A453>0,VLOOKUP($A453,'Last Document Status-HOMA'!$C:$Y,MATCH(K$9,'Last Document Status-HOMA'!$1:$1,0)-2,0),0)","v":0},{"$f":"IF($A453>0,VLOOKUP($A453,'Last Document Status-HOMA'!$C:$Y,MATCH(L$9,'Last Document Status-HOMA'!$1:$1,0)-2,0),0)","v":0},{"$f":"IF($A453>0,VLOOKUP($A453,'Last Document Status-HOMA'!$C:$Y,MATCH(M$9,'Last Document Status-HOMA'!$1:$1,0)-2,0),0)","v":"00:00:00"},{"$f":"IF($A453>0,VLOOKUP($A453,'Last Document Status-HOMA'!$C:$Y,MATCH(\"Outgoing Date\",'Last Document Status-HOMA'!$1:$1,0)-2,0),0)","v":"00:00:00"},{"$f":"IF($A453>0,VLOOKUP($A453,'Last Document Status-HOMA'!$C:$Y,MATCH(O$9,'Last Document Status-HOMA'!$1:$1,0)-2,0),0)","v":0}]
[null,null,null,null,null,{"$f":"IFERROR((VLOOKUP(#REF!,'5-PMS'!$F$14:$N$192,6,FALSE)),\"\")","v":""},null,null,null,null,{"$f":"IF($A454>0,VLOOKUP($A454,'Last Document Status-HOMA'!$C:$Y,MATCH(K$9,'Last Document Status-HOMA'!$1:$1,0)-2,0),0)","v":0},{"$f":"IF($A454>0,VLOOKUP($A454,'Last Document Status-HOMA'!$C:$Y,MATCH(L$9,'Last Document Status-HOMA'!$1:$1,0)-2,0),0)","v":0},{"$f":"IF($A454>0,VLOOKUP($A454,'Last Document Status-HOMA'!$C:$Y,MATCH(M$9,'Last Document Status-HOMA'!$1:$1,0)-2,0),0)","v":"00:00:00"},{"$f":"IF($A454>0,VLOOKUP($A454,'Last Document Status-HOMA'!$C:$Y,MATCH(\"Outgoing Date\",'Last Document Status-HOMA'!$1:$1,0)-2,0),0)","v":"00:00:00"},{"$f":"IF($A454>0,VLOOKUP($A454,'Last Document Status-HOMA'!$C:$Y,MATCH(O$9,'Last Document Status-HOMA'!$1:$1,0)-2,0),0)","v":0}]
[null,null,null,null,null,{"$f":"IFERROR((VLOOKUP(#REF!,'5-PMS'!$F$14:$N$192,6,FALSE)),\"\")","v":""},null,null,null,null,{"$f":"IF($A455>0,VLOOKUP($A455,'Last Document Status-HOMA'!$C:$Y,MATCH(K$9,'Last Document Status-HOMA'!$1:$1,0)-2,0),0)","v":0},{"$f":"IF($A455>0,VLOOKUP($A455,'Last Document Status-HOMA'!$C:$Y,MATCH(L$9,'Last Document Status-HOMA'!$1:$1,0)-2,0),0)","v":0},{"$f":"IF($A455>0,VLOOKUP($A455,'Last Document Status-HOMA'!$C:$Y,MATCH(M$9,'Last Document Status-HOMA'!$1:$1,0)-2,0),0)","v":"00:00:00"},{"$f":"IF($A455>0,VLOOKUP($A455,'Last Document Status-HOMA'!$C:$Y,MATCH(\"Outgoing Date\",'Last Document Status-HOMA'!$1:$1,0)-2,0),0)","v":"00:00:00"},{"$f":"IF($A455>0,VLOOKUP($A455,'Last Document Status-HOMA'!$C:$Y,MATCH(O$9,'Last Document Status-HOMA'!$1:$1,0)-2,0),0)","v":0}]
[null,null,null,null,null,{"$f":"IFERROR((VLOOKUP(#REF!,'5-PMS'!$F$14:$N$192,6,FALSE)),\"\")","v":""},null,null,null,null,{"$f":"IF($A456>0,VLOOKUP($A456,'Last Document Status-HOMA'!$C:$Y,MATCH(K$9,'Last Document Status-HOMA'!$1:$1,0)-2,0),0)","v":0},{"$f":"IF($A456>0,VLOOKUP($A456,'Last Document Status-HOMA'!$C:$Y,MATCH(L$9,'Last Document Status-HOMA'!$1:$1,0)-2,0),0)","v":0},{"$f":"IF($A456>0,VLOOKUP($A456,'Last Document Status-HOMA'!$C:$Y,MATCH(M$9,'Last Document Status-HOMA'!$1:$1,0)-2,0),0)","v":"00:00:00"},{"$f":"IF($A456>0,VLOOKUP($A456,'Last Document Status-HOMA'!$C:$Y,MATCH(\"Outgoing Date\",'Last Document Status-HOMA'!$1:$1,0)-2,0),0)","v":"00:00:00"},{"$f":"IF($A456>0,VLOOKUP($A456,'Last Document Status-HOMA'!$C:$Y,MATCH(O$9,'Last Document Status-HOMA'!$1:$1,0)-2,0),0)","v":0}]
[null,null,null,null,null,{"$f":"IFERROR((VLOOKUP(#REF!,'5-PMS'!$F$14:$N$192,6,FALSE)),\"\")","v":""},null,null,null,null,{"$f":"IF($A457>0,VLOOKUP($A457,'Last Document Status-HOMA'!$C:$Y,MATCH(K$9,'Last Document Status-HOMA'!$1:$1,0)-2,0),0)","v":0},{"$f":"IF($A457>0,VLOOKUP($A457,'Last Document Status-HOMA'!$C:$Y,MATCH(L$9,'Last Document Status-HOMA'!$1:$1,0)-2,0),0)","v":0},{"$f":"IF($A457>0,VLOOKUP($A457,'Last Document Status-HOMA'!$C:$Y,MATCH(M$9,'Last Document Status-HOMA'!$1:$1,0)-2,0),0)","v":"00:00:00"},{"$f":"IF($A457>0,VLOOKUP($A457,'Last Document Status-HOMA'!$C:$Y,MATCH(\"Outgoing Date\",'Last Document Status-HOMA'!$1:$1,0)-2,0),0)","v":"00:00:00"},{"$f":"IF($A457>0,VLOOKUP($A457,'Last Document Status-HOMA'!$C:$Y,MATCH(O$9,'Last Document Status-HOMA'!$1:$1,0)-2,0),0)","v":0}]
[null,null,null,null,null,{"$f":"IFERROR((VLOOKUP(#REF!,'5-PMS'!$F$14:$N$192,6,FALSE)),\"\")","v":""},null,null,null,null,{"$f":"IF($A458>0,VLOOKUP($A458,'Last Document Status-HOMA'!$C:$Y,MATCH(K$9,'Last Document Status-HOMA'!$1:$1,0)-2,0),0)","v":0},{"$f":"IF($A458>0,VLOOKUP($A458,'Last Document Status-HOMA'!$C:$Y,MATCH(L$9,'Last Document Status-HOMA'!$1:$1,0)-2,0),0)","v":0},{"$f":"IF($A458>0,VLOOKUP($A458,'Last Document Status-HOMA'!$C:$Y,MATCH(M$9,'Last Document Status-HOMA'!$1:$1,0)-2,0),0)","v":"00:00:00"},{"$f":"IF($A458>0,VLOOKUP($A458,'Last Document Status-HOMA'!$C:$Y,MATCH(\"Outgoing Date\",'Last Document Status-HOMA'!$1:$1,0)-2,0),0)","v":"00:00:00"},{"$f":"IF($A458>0,VLOOKUP($A458,'Last Document Status-HOMA'!$C:$Y,MATCH(O$9,'Last Document Status-HOMA'!$1:$1,0)-2,0),0)","v":0}]
[null,null,null,null,null,{"$f":"IFERROR((VLOOKUP(#REF!,'5-PMS'!$F$14:$N$192,6,FALSE)),\"\")","v":""},null,null,null,null,{"$f":"IF($A459>0,VLOOKUP($A459,'Last Document Status-HOMA'!$C:$Y,MATCH(K$9,'Last Document Status-HOMA'!$1:$1,0)-2,0),0)","v":0},{"$f":"IF($A459>0,VLOOKUP($A459,'Last Document Status-HOMA'!$C:$Y,MATCH(L$9,'Last Document Status-HOMA'!$1:$1,0)-2,0),0)","v":0},{"$f":"IF($A459>0,VLOOKUP($A459,'Last Document Status-HOMA'!$C:$Y,MATCH(M$9,'Last Document Status-HOMA'!$1:$1,0)-2,0),0)","v":"00:00:00"},{"$f":"IF($A459>0,VLOOKUP($A459,'Last Document Status-HOMA'!$C:$Y,MATCH(\"Outgoing Date\",'Last Document Status-HOMA'!$1:$1,0)-2,0),0)","v":"00:00:00"},{"$f":"IF($A459>0,VLOOKUP($A459,'Last Document Status-HOMA'!$C:$Y,MATCH(O$9,'Last Document Status-HOMA'!$1:$1,0)-2,0),0)","v":0}]
[null,null,null,null,null,{"$f":"IFERROR((VLOOKUP(#REF!,'5-PMS'!$F$14:$N$192,6,FALSE)),\"\")","v":""},null,null,null,null,{"$f":"IF($A460>0,VLOOKUP($A460,'Last Document Status-HOMA'!$C:$Y,MATCH(K$9,'Last Document Status-HOMA'!$1:$1,0)-2,0),0)","v":0},{"$f":"IF($A460>0,VLOOKUP($A460,'Last Document Status-HOMA'!$C:$Y,MATCH(L$9,'Last Document Status-HOMA'!$1:$1,0)-2,0),0)","v":0},{"$f":"IF($A460>0,VLOOKUP($A460,'Last Document Status-HOMA'!$C:$Y,MATCH(M$9,'Last Document Status-HOMA'!$1:$1,0)-2,0),0)","v":"00:00:00"},{"$f":"IF($A460>0,VLOOKUP($A460,'Last Document Status-HOMA'!$C:$Y,MATCH(\"Outgoing Date\",'Last Document Status-HOMA'!$1:$1,0)-2,0),0)","v":"00:00:00"},{"$f":"IF($A460>0,VLOOKUP($A460,'Last Document Status-HOMA'!$C:$Y,MATCH(O$9,'Last Document Status-HOMA'!$1:$1,0)-2,0),0)","v":0}]
[null,null,null,null,null,{"$f":"IFERROR((VLOOKUP(#REF!,'5-PMS'!$F$14:$N$192,6,FALSE)),\"\")","v":""},null,null,null,null,{"$f":"IF($A461>0,VLOOKUP($A461,'Last Document Status-HOMA'!$C:$Y,MATCH(K$9,'Last Document Status-HOMA'!$1:$1,0)-2,0),0)","v":0},{"$f":"IF($A461>0,VLOOKUP($A461,'Last Document Status-HOMA'!$C:$Y,MATCH(L$9,'Last Document Status-HOMA'!$1:$1,0)-2,0),0)","v":0},{"$f":"IF($A461>0,VLOOKUP($A461,'Last Document Status-HOMA'!$C:$Y,MATCH(M$9,'Last Document Status-HOMA'!$1:$1,0)-2,0),0)","v":"00:00:00"},{"$f":"IF($A461>0,VLOOKUP($A461,'Last Document Status-HOMA'!$C:$Y,MATCH(\"Outgoing Date\",'Last Document Status-HOMA'!$1:$1,0)-2,0),0)","v":"00:00:00"},{"$f":"IF($A461>0,VLOOKUP($A461,'Last Document Status-HOMA'!$C:$Y,MATCH(O$9,'Last Document Status-HOMA'!$1:$1,0)-2,0),0)","v":0}]
[null,null,null,null,null,{"$f":"IFERROR((VLOOKUP(#REF!,'5-PMS'!$F$14:$N$192,6,FALSE)),\"\")","v":""},null,null,null,null,{"$f":"IF($A462>0,VLOOKUP($A462,'Last Document Status-HOMA'!$C:$Y,MATCH(K$9,'Last Document Status-HOMA'!$1:$1,0)-2,0),0)","v":0},{"$f":"IF($A462>0,VLOOKUP($A462,'Last Document Status-HOMA'!$C:$Y,MATCH(L$9,'Last Document Status-HOMA'!$1:$1,0)-2,0),0)","v":0},{"$f":"IF($A462>0,VLOOKUP($A462,'Last Document Status-HOMA'!$C:$Y,MATCH(M$9,'Last Document Status-HOMA'!$1:$1,0)-2,0),0)","v":"00:00:00"},{"$f":"IF($A462>0,VLOOKUP($A462,'Last Document Status-HOMA'!$C:$Y,MATCH(\"Outgoing Date\",'Last Document Status-HOMA'!$1:$1,0)-2,0),0)","v":"00:00:00"},{"$f":"IF($A462>0,VLOOKUP($A462,'Last Document Status-HOMA'!$C:$Y,MATCH(O$9,'Last Document Status-HOMA'!$1:$1,0)-2,0),0)","v":0}]
[null,null,null,null,null,{"$f":"IFERROR((VLOOKUP(#REF!,'5-PMS'!$F$14:$N$192,6,FALSE)),\"\")","v":""},null,null,null,null,{"$f":"IF($A463>0,VLOOKUP($A463,'Last Document Status-HOMA'!$C:$Y,MATCH(K$9,'Last Document Status-HOMA'!$1:$1,0)-2,0),0)","v":0},{"$f":"IF($A463>0,VLOOKUP($A463,'Last Document Status-HOMA'!$C:$Y,MATCH(L$9,'Last Document Status-HOMA'!$1:$1,0)-2,0),0)","v":0},{"$f":"IF($A463>0,VLOOKUP($A463,'Last Document Status-HOMA'!$C:$Y,MATCH(M$9,'Last Document Status-HOMA'!$1:$1,0)-2,0),0)","v":"00:00:00"},{"$f":"IF($A463>0,VLOOKUP($A463,'Last Document Status-HOMA'!$C:$Y,MATCH(\"Outgoing Date\",'Last Document Status-HOMA'!$1:$1,0)-2,0),0)","v":"00:00:00"},{"$f":"IF($A463>0,VLOOKUP($A463,'Last Document Status-HOMA'!$C:$Y,MATCH(O$9,'Last Document Status-HOMA'!$1:$1,0)-2,0),0)","v":0}]
[null,null,null,null,null,{"$f":"IFERROR((VLOOKUP(#REF!,'5-PMS'!$F$14:$N$192,6,FALSE)),\"\")","v":""},null,null,null,null,{"$f":"IF($A464>0,VLOOKUP($A464,'Last Document Status-HOMA'!$C:$Y,MATCH(K$9,'Last Document Status-HOMA'!$1:$1,0)-2,0),0)","v":0},{"$f":"IF($A464>0,VLOOKUP($A464,'Last Document Status-HOMA'!$C:$Y,MATCH(L$9,'Last Document Status-HOMA'!$1:$1,0)-2,0),0)","v":0},{"$f":"IF($A464>0,VLOOKUP($A464,'Last Document Status-HOMA'!$C:$Y,MATCH(M$9,'Last Document Status-HOMA'!$1:$1,0)-2,0),0)","v":"00:00:00"},{"$f":"IF($A464>0,VLOOKUP($A464,'Last Document Status-HOMA'!$C:$Y,MATCH(\"Outgoing Date\",'Last Document Status-HOMA'!$1:$1,0)-2,0),0)","v":"00:00:00"},{"$f":"IF($A464>0,VLOOKUP($A464,'Last Document Status-HOMA'!$C:$Y,MATCH(O$9,'Last Document Status-HOMA'!$1:$1,0)-2,0),0)","v":0}]
[null,null,null,null,null,{"$f":"IFERROR((VLOOKUP(#REF!,'5-PMS'!$F$14:$N$192,6,FALSE)),\"\")","v":""},null,null,null,null,{"$f":"IF($A465>0,VLOOKUP($A465,'Last Document Status-HOMA'!$C:$Y,MATCH(K$9,'Last Document Status-HOMA'!$1:$1,0)-2,0),0)","v":0},{"$f":"IF($A465>0,VLOOKUP($A465,'Last Document Status-HOMA'!$C:$Y,MATCH(L$9,'Last Document Status-HOMA'!$1:$1,0)-2,0),0)","v":0},{"$f":"IF($A465>0,VLOOKUP($A465,'Last Document Status-HOMA'!$C:$Y,MATCH(M$9,'Last Document Status-HOMA'!$1:$1,0)-2,0),0)","v":"00:00:00"},{"$f":"IF($A465>0,VLOOKUP($A465,'Last Document Status-HOMA'!$C:$Y,MATCH(\"Outgoing Date\",'Last Document Status-HOMA'!$1:$1,0)-2,0),0)","v":"00:00:00"},{"$f":"IF($A465>0,VLOOKUP($A465,'Last Document Status-HOMA'!$C:$Y,MATCH(O$9,'Last Document Status-HOMA'!$1:$1,0)-2,0),0)","v":0}]
[null,null,null,null,null,{"$f":"IFERROR((VLOOKUP(#REF!,'5-PMS'!$F$14:$N$192,6,FALSE)),\"\")","v":""},null,null,null,null,{"$f":"IF($A466>0,VLOOKUP($A466,'Last Document Status-HOMA'!$C:$Y,MATCH(K$9,'Last Document Status-HOMA'!$1:$1,0)-2,0),0)","v":0},{"$f":"IF($A466>0,VLOOKUP($A466,'Last Document Status-HOMA'!$C:$Y,MATCH(L$9,'Last Document Status-HOMA'!$1:$1,0)-2,0),0)","v":0},{"$f":"IF($A466>0,VLOOKUP($A466,'Last Document Status-HOMA'!$C:$Y,MATCH(M$9,'Last Document Status-HOMA'!$1:$1,0)-2,0),0)","v":"00:00:00"},{"$f":"IF($A466>0,VLOOKUP($A466,'Last Document Status-HOMA'!$C:$Y,MATCH(\"Outgoing Date\",'Last Document Status-HOMA'!$1:$1,0)-2,0),0)","v":"00:00:00"},{"$f":"IF($A466>0,VLOOKUP($A466,'Last Document Status-HOMA'!$C:$Y,MATCH(O$9,'Last Document Status-HOMA'!$1:$1,0)-2,0),0)","v":0}]
[null,null,null,null,null,{"$f":"IFERROR((VLOOKUP(#REF!,'5-PMS'!$F$14:$N$192,6,FALSE)),\"\")","v":""},null,null,null,null,{"$f":"IF($A467>0,VLOOKUP($A467,'Last Document Status-HOMA'!$C:$Y,MATCH(K$9,'Last Document Status-HOMA'!$1:$1,0)-2,0),0)","v":0},{"$f":"IF($A467>0,VLOOKUP($A467,'Last Document Status-HOMA'!$C:$Y,MATCH(L$9,'Last Document Status-HOMA'!$1:$1,0)-2,0),0)","v":0},{"$f":"IF($A467>0,VLOOKUP($A467,'Last Document Status-HOMA'!$C:$Y,MATCH(M$9,'Last Document Status-HOMA'!$1:$1,0)-2,0),0)","v":"00:00:00"},{"$f":"IF($A467>0,VLOOKUP($A467,'Last Document Status-HOMA'!$C:$Y,MATCH(\"Outgoing Date\",'Last Document Status-HOMA'!$1:$1,0)-2,0),0)","v":"00:00:00"},{"$f":"IF($A467>0,VLOOKUP($A467,'Last Document Status-HOMA'!$C:$Y,MATCH(O$9,'Last Document Status-HOMA'!$1:$1,0)-2,0),0)","v":0}]
[null,null,null,null,null,{"$f":"IFERROR((VLOOKUP(#REF!,'5-PMS'!$F$14:$N$192,6,FALSE)),\"\")","v":""},null,null,null,null,{"$f":"IF($A468>0,VLOOKUP($A468,'Last Document Status-HOMA'!$C:$Y,MATCH(K$9,'Last Document Status-HOMA'!$1:$1,0)-2,0),0)","v":0},{"$f":"IF($A468>0,VLOOKUP($A468,'Last Document Status-HOMA'!$C:$Y,MATCH(L$9,'Last Document Status-HOMA'!$1:$1,0)-2,0),0)","v":0},{"$f":"IF($A468>0,VLOOKUP($A468,'Last Document Status-HOMA'!$C:$Y,MATCH(M$9,'Last Document Status-HOMA'!$1:$1,0)-2,0),0)","v":"00:00:00"},{"$f":"IF($A468>0,VLOOKUP($A468,'Last Document Status-HOMA'!$C:$Y,MATCH(\"Outgoing Date\",'Last Document Status-HOMA'!$1:$1,0)-2,0),0)","v":"00:00:00"},{"$f":"IF($A468>0,VLOOKUP($A468,'Last Document Status-HOMA'!$C:$Y,MATCH(O$9,'Last Document Status-HOMA'!$1:$1,0)-2,0),0)","v":0}]
[null,null,null,null,null,{"$f":"IFERROR((VLOOKUP(#REF!,'5-PMS'!$F$14:$N$192,6,FALSE)),\"\")","v":""},null,null,null,null,{"$f":"IF($A469>0,VLOOKUP($A469,'Last Document Status-HOMA'!$C:$Y,MATCH(K$9,'Last Document Status-HOMA'!$1:$1,0)-2,0),0)","v":0},{"$f":"IF($A469>0,VLOOKUP($A469,'Last Document Status-HOMA'!$C:$Y,MATCH(L$9,'Last Document Status-HOMA'!$1:$1,0)-2,0),0)","v":0},{"$f":"IF($A469>0,VLOOKUP($A469,'Last Document Status-HOMA'!$C:$Y,MATCH(M$9,'Last Document Status-HOMA'!$1:$1,0)-2,0),0)","v":"00:00:00"},{"$f":"IF($A469>0,VLOOKUP($A469,'Last Document Status-HOMA'!$C:$Y,MATCH(\"Outgoing Date\",'Last Document Status-HOMA'!$1:$1,0)-2,0),0)","v":"00:00:00"},{"$f":"IF($A469>0,VLOOKUP($A469,'Last Document Status-HOMA'!$C:$Y,MATCH(O$9,'Last Document Status-HOMA'!$1:$1,0)-2,0),0)","v":0}]
[null,null,null,null,null,{"$f":"IFERROR((VLOOKUP(#REF!,'5-PMS'!$F$14:$N$192,6,FALSE)),\"\")","v":""},null,null,null,null,{"$f":"IF($A470>0,VLOOKUP($A470,'Last Document Status-HOMA'!$C:$Y,MATCH(K$9,'Last Document Status-HOMA'!$1:$1,0)-2,0),0)","v":0},{"$f":"IF($A470>0,VLOOKUP($A470,'Last Document Status-HOMA'!$C:$Y,MATCH(L$9,'Last Document Status-HOMA'!$1:$1,0)-2,0),0)","v":0},{"$f":"IF($A470>0,VLOOKUP($A470,'Last Document Status-HOMA'!$C:$Y,MATCH(M$9,'Last Document Status-HOMA'!$1:$1,0)-2,0),0)","v":"00:00:00"},{"$f":"IF($A470>0,VLOOKUP($A470,'Last Document Status-HOMA'!$C:$Y,MATCH(\"Outgoing Date\",'Last Document Status-HOMA'!$1:$1,0)-2,0),0)","v":"00:00:00"},{"$f":"IF($A470>0,VLOOKUP($A470,'Last Document Status-HOMA'!$C:$Y,MATCH(O$9,'Last Document Status-HOMA'!$1:$1,0)-2,0),0)","v":0}]
[null,null,null,null,null,{"$f":"IFERROR((VLOOKUP(#REF!,'5-PMS'!$F$14:$N$192,6,FALSE)),\"\")","v":""},null,null,null,null,{"$f":"IF($A471>0,VLOOKUP($A471,'Last Document Status-HOMA'!$C:$Y,MATCH(K$9,'Last Document Status-HOMA'!$1:$1,0)-2,0),0)","v":0},{"$f":"IF($A471>0,VLOOKUP($A471,'Last Document Status-HOMA'!$C:$Y,MATCH(L$9,'Last Document Status-HOMA'!$1:$1,0)-2,0),0)","v":0},{"$f":"IF($A471>0,VLOOKUP($A471,'Last Document Status-HOMA'!$C:$Y,MATCH(M$9,'Last Document Status-HOMA'!$1:$1,0)-2,0),0)","v":"00:00:00"},{"$f":"IF($A471>0,VLOOKUP($A471,'Last Document Status-HOMA'!$C:$Y,MATCH(\"Outgoing Date\",'Last Document Status-HOMA'!$1:$1,0)-2,0),0)","v":"00:00:00"},{"$f":"IF($A471>0,VLOOKUP($A471,'Last Document Status-HOMA'!$C:$Y,MATCH(O$9,'Last Document Status-HOMA'!$1:$1,0)-2,0),0)","v":0}]
[null,null,null,null,null,{"$f":"IFERROR((VLOOKUP(#REF!,'5-PMS'!$F$14:$N$192,6,FALSE)),\"\")","v":""},null,null,null,null,{"$f":"IF($A472>0,VLOOKUP($A472,'Last Document Status-HOMA'!$C:$Y,MATCH(K$9,'Last Document Status-HOMA'!$1:$1,0)-2,0),0)","v":0},{"$f":"IF($A472>0,VLOOKUP($A472,'Last Document Status-HOMA'!$C:$Y,MATCH(L$9,'Last Document Status-HOMA'!$1:$1,0)-2,0),0)","v":0},{"$f":"IF($A472>0,VLOOKUP($A472,'Last Document Status-HOMA'!$C:$Y,MATCH(M$9,'Last Document Status-HOMA'!$1:$1,0)-2,0),0)","v":"00:00:00"},{"$f":"IF($A472>0,VLOOKUP($A472,'Last Document Status-HOMA'!$C:$Y,MATCH(\"Outgoing Date\",'Last Document Status-HOMA'!$1:$1,0)-2,0),0)","v":"00:00:00"},{"$f":"IF($A472>0,VLOOKUP($A472,'Last Document Status-HOMA'!$C:$Y,MATCH(O$9,'Last Document Status-HOMA'!$1:$1,0)-2,0),0)","v":0}]
[null,null,null,null,null,{"$f":"IFERROR((VLOOKUP(#REF!,'5-PMS'!$F$14:$N$192,6,FALSE)),\"\")","v":""},null,null,null,null,{"$f":"IF($A473>0,VLOOKUP($A473,'Last Document Status-HOMA'!$C:$Y,MATCH(K$9,'Last Document Status-HOMA'!$1:$1,0)-2,0),0)","v":0},{"$f":"IF($A473>0,VLOOKUP($A473,'Last Document Status-HOMA'!$C:$Y,MATCH(L$9,'Last Document Status-HOMA'!$1:$1,0)-2,0),0)","v":0},{"$f":"IF($A473>0,VLOOKUP($A473,'Last Document Status-HOMA'!$C:$Y,MATCH(M$9,'Last Document Status-HOMA'!$1:$1,0)-2,0),0)","v":"00:00:00"},{"$f":"IF($A473>0,VLOOKUP($A473,'Last Document Status-HOMA'!$C:$Y,MATCH(\"Outgoing Date\",'Last Document Status-HOMA'!$1:$1,0)-2,0),0)","v":"00:00:00"},{"$f":"IF($A473>0,VLOOKUP($A473,'Last Document Status-HOMA'!$C:$Y,MATCH(O$9,'Last Document Status-HOMA'!$1:$1,0)-2,0),0)","v":0}]
[null,null,null,null,null,{"$f":"IFERROR((VLOOKUP(#REF!,'5-PMS'!$F$14:$N$192,6,FALSE)),\"\")","v":""},null,null,null,null,{"$f":"IF($A474>0,VLOOKUP($A474,'Last Document Status-HOMA'!$C:$Y,MATCH(K$9,'Last Document Status-HOMA'!$1:$1,0)-2,0),0)","v":0},{"$f":"IF($A474>0,VLOOKUP($A474,'Last Document Status-HOMA'!$C:$Y,MATCH(L$9,'Last Document Status-HOMA'!$1:$1,0)-2,0),0)","v":0},{"$f":"IF($A474>0,VLOOKUP($A474,'Last Document Status-HOMA'!$C:$Y,MATCH(M$9,'Last Document Status-HOMA'!$1:$1,0)-2,0),0)","v":"00:00:00"},{"$f":"IF($A474>0,VLOOKUP($A474,'Last Document Status-HOMA'!$C:$Y,MATCH(\"Outgoing Date\",'Last Document Status-HOMA'!$1:$1,0)-2,0),0)","v":"00:00:00"},{"$f":"IF($A474>0,VLOOKUP($A474,'Last Document Status-HOMA'!$C:$Y,MATCH(O$9,'Last Document Status-HOMA'!$1:$1,0)-2,0),0)","v":0}]
[null,null,null,null,null,{"$f":"IFERROR((VLOOKUP(#REF!,'5-PMS'!$F$14:$N$192,6,FALSE)),\"\")","v":""},null,null,null,null,{"$f":"IF($A475>0,VLOOKUP($A475,'Last Document Status-HOMA'!$C:$Y,MATCH(K$9,'Last Document Status-HOMA'!$1:$1,0)-2,0),0)","v":0},{"$f":"IF($A475>0,VLOOKUP($A475,'Last Document Status-HOMA'!$C:$Y,MATCH(L$9,'Last Document Status-HOMA'!$1:$1,0)-2,0),0)","v":0},{"$f":"IF($A475>0,VLOOKUP($A475,'Last Document Status-HOMA'!$C:$Y,MATCH(M$9,'Last Document Status-HOMA'!$1:$1,0)-2,0),0)","v":"00:00:00"},{"$f":"IF($A475>0,VLOOKUP($A475,'Last Document Status-HOMA'!$C:$Y,MATCH(\"Outgoing Date\",'Last Document Status-HOMA'!$1:$1,0)-2,0),0)","v":"00:00:00"},{"$f":"IF($A475>0,VLOOKUP($A475,'Last Document Status-HOMA'!$C:$Y,MATCH(O$9,'Last Document Status-HOMA'!$1:$1,0)-2,0),0)","v":0}]
[null,null,null,null,null,{"$f":"IFERROR((VLOOKUP(#REF!,'5-PMS'!$F$14:$N$192,6,FALSE)),\"\")","v":""},null,null,null,null,{"$f":"IF($A476>0,VLOOKUP($A476,'Last Document Status-HOMA'!$C:$Y,MATCH(K$9,'Last Document Status-HOMA'!$1:$1,0)-2,0),0)","v":0},{"$f":"IF($A476>0,VLOOKUP($A476,'Last Document Status-HOMA'!$C:$Y,MATCH(L$9,'Last Document Status-HOMA'!$1:$1,0)-2,0),0)","v":0},{"$f":"IF($A476>0,VLOOKUP($A476,'Last Document Status-HOMA'!$C:$Y,MATCH(M$9,'Last Document Status-HOMA'!$1:$1,0)-2,0),0)","v":"00:00:00"},{"$f":"IF($A476>0,VLOOKUP($A476,'Last Document Status-HOMA'!$C:$Y,MATCH(\"Outgoing Date\",'Last Document Status-HOMA'!$1:$1,0)-2,0),0)","v":"00:00:00"},{"$f":"IF($A476>0,VLOOKUP($A476,'Last Document Status-HOMA'!$C:$Y,MATCH(O$9,'Last Document Status-HOMA'!$1:$1,0)-2,0),0)","v":0}]
[null,null,null,null,null,{"$f":"IFERROR((VLOOKUP(#REF!,'5-PMS'!$F$14:$N$192,6,FALSE)),\"\")","v":""},null,null,null,null,{"$f":"IF($A477>0,VLOOKUP($A477,'Last Document Status-HOMA'!$C:$Y,MATCH(K$9,'Last Document Status-HOMA'!$1:$1,0)-2,0),0)","v":0},{"$f":"IF($A477>0,VLOOKUP($A477,'Last Document Status-HOMA'!$C:$Y,MATCH(L$9,'Last Document Status-HOMA'!$1:$1,0)-2,0),0)","v":0},{"$f":"IF($A477>0,VLOOKUP($A477,'Last Document Status-HOMA'!$C:$Y,MATCH(M$9,'Last Document Status-HOMA'!$1:$1,0)-2,0),0)","v":"00:00:00"},{"$f":"IF($A477>0,VLOOKUP($A477,'Last Document Status-HOMA'!$C:$Y,MATCH(\"Outgoing Date\",'Last Document Status-HOMA'!$1:$1,0)-2,0),0)","v":"00:00:00"},{"$f":"IF($A477>0,VLOOKUP($A477,'Last Document Status-HOMA'!$C:$Y,MATCH(O$9,'Last Document Status-HOMA'!$1:$1,0)-2,0),0)","v":0}]
[null,null,null,null,null,{"$f":"IFERROR((VLOOKUP(#REF!,'5-PMS'!$F$14:$N$192,6,FALSE)),\"\")","v":""},null,null,null,null,{"$f":"IF($A478>0,VLOOKUP($A478,'Last Document Status-HOMA'!$C:$Y,MATCH(K$9,'Last Document Status-HOMA'!$1:$1,0)-2,0),0)","v":0},{"$f":"IF($A478>0,VLOOKUP($A478,'Last Document Status-HOMA'!$C:$Y,MATCH(L$9,'Last Document Status-HOMA'!$1:$1,0)-2,0),0)","v":0},{"$f":"IF($A478>0,VLOOKUP($A478,'Last Document Status-HOMA'!$C:$Y,MATCH(M$9,'Last Document Status-HOMA'!$1:$1,0)-2,0),0)","v":"00:00:00"},{"$f":"IF($A478>0,VLOOKUP($A478,'Last Document Status-HOMA'!$C:$Y,MATCH(\"Outgoing Date\",'Last Document Status-HOMA'!$1:$1,0)-2,0),0)","v":"00:00:00"},{"$f":"IF($A478>0,VLOOKUP($A478,'Last Document Status-HOMA'!$C:$Y,MATCH(O$9,'Last Document Status-HOMA'!$1:$1,0)-2,0),0)","v":0}]
[null,null,null,null,null,{"$f":"IFERROR((VLOOKUP(#REF!,'5-PMS'!$F$14:$N$192,6,FALSE)),\"\")","v":""},null,null,null,null,{"$f":"IF($A479>0,VLOOKUP($A479,'Last Document Status-HOMA'!$C:$Y,MATCH(K$9,'Last Document Status-HOMA'!$1:$1,0)-2,0),0)","v":0},{"$f":"IF($A479>0,VLOOKUP($A479,'Last Document Status-HOMA'!$C:$Y,MATCH(L$9,'Last Document Status-HOMA'!$1:$1,0)-2,0),0)","v":0},{"$f":"IF($A479>0,VLOOKUP($A479,'Last Document Status-HOMA'!$C:$Y,MATCH(M$9,'Last Document Status-HOMA'!$1:$1,0)-2,0),0)","v":"00:00:00"},{"$f":"IF($A479>0,VLOOKUP($A479,'Last Document Status-HOMA'!$C:$Y,MATCH(\"Outgoing Date\",'Last Document Status-HOMA'!$1:$1,0)-2,0),0)","v":"00:00:00"},{"$f":"IF($A479>0,VLOOKUP($A479,'Last Document Status-HOMA'!$C:$Y,MATCH(O$9,'Last Document Status-HOMA'!$1:$1,0)-2,0),0)","v":0}]
[null,null,null,null,null,{"$f":"IFERROR((VLOOKUP(#REF!,'5-PMS'!$F$14:$N$192,6,FALSE)),\"\")","v":""},null,null,null,null,{"$f":"IF($A480>0,VLOOKUP($A480,'Last Document Status-HOMA'!$C:$Y,MATCH(K$9,'Last Document Status-HOMA'!$1:$1,0)-2,0),0)","v":0},{"$f":"IF($A480>0,VLOOKUP($A480,'Last Document Status-HOMA'!$C:$Y,MATCH(L$9,'Last Document Status-HOMA'!$1:$1,0)-2,0),0)","v":0},{"$f":"IF($A480>0,VLOOKUP($A480,'Last Document Status-HOMA'!$C:$Y,MATCH(M$9,'Last Document Status-HOMA'!$1:$1,0)-2,0),0)","v":"00:00:00"},{"$f":"IF($A480>0,VLOOKUP($A480,'Last Document Status-HOMA'!$C:$Y,MATCH(\"Outgoing Date\",'Last Document Status-HOMA'!$1:$1,0)-2,0),0)","v":"00:00:00"},{"$f":"IF($A480>0,VLOOKUP($A480,'Last Document Status-HOMA'!$C:$Y,MATCH(O$9,'Last Document Status-HOMA'!$1:$1,0)-2,0),0)","v":0}]
[null,null,null,null,null,{"$f":"IFERROR((VLOOKUP(#REF!,'5-PMS'!$F$14:$N$192,6,FALSE)),\"\")","v":""},null,null,null,null,{"$f":"IF($A481>0,VLOOKUP($A481,'Last Document Status-HOMA'!$C:$Y,MATCH(K$9,'Last Document Status-HOMA'!$1:$1,0)-2,0),0)","v":0},{"$f":"IF($A481>0,VLOOKUP($A481,'Last Document Status-HOMA'!$C:$Y,MATCH(L$9,'Last Document Status-HOMA'!$1:$1,0)-2,0),0)","v":0},{"$f":"IF($A481>0,VLOOKUP($A481,'Last Document Status-HOMA'!$C:$Y,MATCH(M$9,'Last Document Status-HOMA'!$1:$1,0)-2,0),0)","v":"00:00:00"},{"$f":"IF($A481>0,VLOOKUP($A481,'Last Document Status-HOMA'!$C:$Y,MATCH(\"Outgoing Date\",'Last Document Status-HOMA'!$1:$1,0)-2,0),0)","v":"00:00:00"},{"$f":"IF($A481>0,VLOOKUP($A481,'Last Document Status-HOMA'!$C:$Y,MATCH(O$9,'Last Document Status-HOMA'!$1:$1,0)-2,0),0)","v":0}]
[null,null,null,null,null,{"$f":"IFERROR((VLOOKUP(#REF!,'5-PMS'!$F$14:$N$192,6,FALSE)),\"\")","v":""},null,null,null,null,{"$f":"IF($A482>0,VLOOKUP($A482,'Last Document Status-HOMA'!$C:$Y,MATCH(K$9,'Last Document Status-HOMA'!$1:$1,0)-2,0),0)","v":0},{"$f":"IF($A482>0,VLOOKUP($A482,'Last Document Status-HOMA'!$C:$Y,MATCH(L$9,'Last Document Status-HOMA'!$1:$1,0)-2,0),0)","v":0},{"$f":"IF($A482>0,VLOOKUP($A482,'Last Document Status-HOMA'!$C:$Y,MATCH(M$9,'Last Document Status-HOMA'!$1:$1,0)-2,0),0)","v":"00:00:00"},{"$f":"IF($A482>0,VLOOKUP($A482,'Last Document Status-HOMA'!$C:$Y,MATCH(\"Outgoing Date\",'Last Document Status-HOMA'!$1:$1,0)-2,0),0)","v":"00:00:00"},{"$f":"IF($A482>0,VLOOKUP($A482,'Last Document Status-HOMA'!$C:$Y,MATCH(O$9,'Last Document Status-HOMA'!$1:$1,0)-2,0),0)","v":0}]
[null,null,null,null,null,{"$f":"IFERROR((VLOOKUP(#REF!,'5-PMS'!$F$14:$N$192,6,FALSE)),\"\")","v":""},null,null,null,null,{"$f":"IF($A483>0,VLOOKUP($A483,'Last Document Status-HOMA'!$C:$Y,MATCH(K$9,'Last Document Status-HOMA'!$1:$1,0)-2,0),0)","v":0},{"$f":"IF($A483>0,VLOOKUP($A483,'Last Document Status-HOMA'!$C:$Y,MATCH(L$9,'Last Document Status-HOMA'!$1:$1,0)-2,0),0)","v":0},{"$f":"IF($A483>0,VLOOKUP($A483,'Last Document Status-HOMA'!$C:$Y,MATCH(M$9,'Last Document Status-HOMA'!$1:$1,0)-2,0),0)","v":"00:00:00"},{"$f":"IF($A483>0,VLOOKUP($A483,'Last Document Status-HOMA'!$C:$Y,MATCH(\"Outgoing Date\",'Last Document Status-HOMA'!$1:$1,0)-2,0),0)","v":"00:00:00"},{"$f":"IF($A483>0,VLOOKUP($A483,'Last Document Status-HOMA'!$C:$Y,MATCH(O$9,'Last Document Status-HOMA'!$1:$1,0)-2,0),0)","v":0}]
[null,null,null,null,null,{"$f":"IFERROR((VLOOKUP(#REF!,'5-PMS'!$F$14:$N$192,6,FALSE)),\"\")","v":""},null,null,null,null,{"$f":"IF($A484>0,VLOOKUP($A484,'Last Document Status-HOMA'!$C:$Y,MATCH(K$9,'Last Document Status-HOMA'!$1:$1,0)-2,0),0)","v":0},{"$f":"IF($A484>0,VLOOKUP($A484,'Last Document Status-HOMA'!$C:$Y,MATCH(L$9,'Last Document Status-HOMA'!$1:$1,0)-2,0),0)","v":0},{"$f":"IF($A484>0,VLOOKUP($A484,'Last Document Status-HOMA'!$C:$Y,MATCH(M$9,'Last Document Status-HOMA'!$1:$1,0)-2,0),0)","v":"00:00:00"},{"$f":"IF($A484>0,VLOOKUP($A484,'Last Document Status-HOMA'!$C:$Y,MATCH(\"Outgoing Date\",'Last Document Status-HOMA'!$1:$1,0)-2,0),0)","v":"00:00:00"},{"$f":"IF($A484>0,VLOOKUP($A484,'Last Document Status-HOMA'!$C:$Y,MATCH(O$9,'Last Document Status-HOMA'!$1:$1,0)-2,0),0)","v":0}]
[null,null,null,null,null,{"$f":"IFERROR((VLOOKUP(#REF!,'5-PMS'!$F$14:$N$192,6,FALSE)),\"\")","v":""},null,null,null,null,{"$f":"IF($A485>0,VLOOKUP($A485,'Last Document Status-HOMA'!$C:$Y,MATCH(K$9,'Last Document Status-HOMA'!$1:$1,0)-2,0),0)","v":0},{"$f":"IF($A485>0,VLOOKUP($A485,'Last Document Status-HOMA'!$C:$Y,MATCH(L$9,'Last Document Status-HOMA'!$1:$1,0)-2,0),0)","v":0},{"$f":"IF($A485>0,VLOOKUP($A485,'Last Document Status-HOMA'!$C:$Y,MATCH(M$9,'Last Document Status-HOMA'!$1:$1,0)-2,0),0)","v":"00:00:00"},{"$f":"IF($A485>0,VLOOKUP($A485,'Last Document Status-HOMA'!$C:$Y,MATCH(\"Outgoing Date\",'Last Document Status-HOMA'!$1:$1,0)-2,0),0)","v":"00:00:00"},{"$f":"IF($A485>0,VLOOKUP($A485,'Last Document Status-HOMA'!$C:$Y,MATCH(O$9,'Last Document Status-HOMA'!$1:$1,0)-2,0),0)","v":0}]
[null,null,null,null,null,{"$f":"IFERROR((VLOOKUP(#REF!,'5-PMS'!$F$14:$N$192,6,FALSE)),\"\")","v":""},null,null,null,null,{"$f":"IF($A486>0,VLOOKUP($A486,'Last Document Status-HOMA'!$C:$Y,MATCH(K$9,'Last Document Status-HOMA'!$1:$1,0)-2,0),0)","v":0},{"$f":"IF($A486>0,VLOOKUP($A486,'Last Document Status-HOMA'!$C:$Y,MATCH(L$9,'Last Document Status-HOMA'!$1:$1,0)-2,0),0)","v":0},{"$f":"IF($A486>0,VLOOKUP($A486,'Last Document Status-HOMA'!$C:$Y,MATCH(M$9,'Last Document Status-HOMA'!$1:$1,0)-2,0),0)","v":"00:00:00"},{"$f":"IF($A486>0,VLOOKUP($A486,'Last Document Status-HOMA'!$C:$Y,MATCH(\"Outgoing Date\",'Last Document Status-HOMA'!$1:$1,0)-2,0),0)","v":"00:00:00"},{"$f":"IF($A486>0,VLOOKUP($A486,'Last Document Status-HOMA'!$C:$Y,MATCH(O$9,'Last Document Status-HOMA'!$1:$1,0)-2,0),0)","v":0}]
[null,null,null,null,null,{"$f":"IFERROR((VLOOKUP(#REF!,'5-PMS'!$F$14:$N$192,6,FALSE)),\"\")","v":""},null,null,null,null,{"$f":"IF($A487>0,VLOOKUP($A487,'Last Document Status-HOMA'!$C:$Y,MATCH(K$9,'Last Document Status-HOMA'!$1:$1,0)-2,0),0)","v":0},{"$f":"IF($A487>0,VLOOKUP($A487,'Last Document Status-HOMA'!$C:$Y,MATCH(L$9,'Last Document Status-HOMA'!$1:$1,0)-2,0),0)","v":0},{"$f":"IF($A487>0,VLOOKUP($A487,'Last Document Status-HOMA'!$C:$Y,MATCH(M$9,'Last Document Status-HOMA'!$1:$1,0)-2,0),0)","v":"00:00:00"},{"$f":"IF($A487>0,VLOOKUP($A487,'Last Document Status-HOMA'!$C:$Y,MATCH(\"Outgoing Date\",'Last Document Status-HOMA'!$1:$1,0)-2,0),0)","v":"00:00:00"},{"$f":"IF($A487>0,VLOOKUP($A487,'Last Document Status-HOMA'!$C:$Y,MATCH(O$9,'Last Document Status-HOMA'!$1:$1,0)-2,0),0)","v":0}]
[null,null,null,null,null,{"$f":"IFERROR((VLOOKUP(#REF!,'5-PMS'!$F$14:$N$192,6,FALSE)),\"\")","v":""},null,null,null,null,{"$f":"IF($A488>0,VLOOKUP($A488,'Last Document Status-HOMA'!$C:$Y,MATCH(K$9,'Last Document Status-HOMA'!$1:$1,0)-2,0),0)","v":0},{"$f":"IF($A488>0,VLOOKUP($A488,'Last Document Status-HOMA'!$C:$Y,MATCH(L$9,'Last Document Status-HOMA'!$1:$1,0)-2,0),0)","v":0},{"$f":"IF($A488>0,VLOOKUP($A488,'Last Document Status-HOMA'!$C:$Y,MATCH(M$9,'Last Document Status-HOMA'!$1:$1,0)-2,0),0)","v":"00:00:00"},{"$f":"IF($A488>0,VLOOKUP($A488,'Last Document Status-HOMA'!$C:$Y,MATCH(\"Outgoing Date\",'Last Document Status-HOMA'!$1:$1,0)-2,0),0)","v":"00:00:00"},{"$f":"IF($A488>0,VLOOKUP($A488,'Last Document Status-HOMA'!$C:$Y,MATCH(O$9,'Last Document Status-HOMA'!$1:$1,0)-2,0),0)","v":0}]
[null,null,null,null,null,{"$f":"IFERROR((VLOOKUP(#REF!,'5-PMS'!$F$14:$N$192,6,FALSE)),\"\")","v":""},null,null,null,null,{"$f":"IF($A489>0,VLOOKUP($A489,'Last Document Status-HOMA'!$C:$Y,MATCH(K$9,'Last Document Status-HOMA'!$1:$1,0)-2,0),0)","v":0},{"$f":"IF($A489>0,VLOOKUP($A489,'Last Document Status-HOMA'!$C:$Y,MATCH(L$9,'Last Document Status-HOMA'!$1:$1,0)-2,0),0)","v":0},{"$f":"IF($A489>0,VLOOKUP($A489,'Last Document Status-HOMA'!$C:$Y,MATCH(M$9,'Last Document Status-HOMA'!$1:$1,0)-2,0),0)","v":"00:00:00"},{"$f":"IF($A489>0,VLOOKUP($A489,'Last Document Status-HOMA'!$C:$Y,MATCH(\"Outgoing Date\",'Last Document Status-HOMA'!$1:$1,0)-2,0),0)","v":"00:00:00"},{"$f":"IF($A489>0,VLOOKUP($A489,'Last Document Status-HOMA'!$C:$Y,MATCH(O$9,'Last Document Status-HOMA'!$1:$1,0)-2,0),0)","v":0}]
[null,null,null,null,null,{"$f":"IFERROR((VLOOKUP(#REF!,'5-PMS'!$F$14:$N$192,6,FALSE)),\"\")","v":""},null,null,null,null,{"$f":"IF($A490>0,VLOOKUP($A490,'Last Document Status-HOMA'!$C:$Y,MATCH(K$9,'Last Document Status-HOMA'!$1:$1,0)-2,0),0)","v":0},{"$f":"IF($A490>0,VLOOKUP($A490,'Last Document Status-HOMA'!$C:$Y,MATCH(L$9,'Last Document Status-HOMA'!$1:$1,0)-2,0),0)","v":0},{"$f":"IF($A490>0,VLOOKUP($A490,'Last Document Status-HOMA'!$C:$Y,MATCH(M$9,'Last Document Status-HOMA'!$1:$1,0)-2,0),0)","v":"00:00:00"},{"$f":"IF($A490>0,VLOOKUP($A490,'Last Document Status-HOMA'!$C:$Y,MATCH(\"Outgoing Date\",'Last Document Status-HOMA'!$1:$1,0)-2,0),0)","v":"00:00:00"},{"$f":"IF($A490>0,VLOOKUP($A490,'Last Document Status-HOMA'!$C:$Y,MATCH(O$9,'Last Document Status-HOMA'!$1:$1,0)-2,0),0)","v":0}]
[null,null,null,null,null,{"$f":"IFERROR((VLOOKUP(#REF!,'5-PMS'!$F$14:$N$192,6,FALSE)),\"\")","v":""},null,null,null,null,{"$f":"IF($A491>0,VLOOKUP($A491,'Last Document Status-HOMA'!$C:$Y,MATCH(K$9,'Last Document Status-HOMA'!$1:$1,0)-2,0),0)","v":0},{"$f":"IF($A491>0,VLOOKUP($A491,'Last Document Status-HOMA'!$C:$Y,MATCH(L$9,'Last Document Status-HOMA'!$1:$1,0)-2,0),0)","v":0},{"$f":"IF($A491>0,VLOOKUP($A491,'Last Document Status-HOMA'!$C:$Y,MATCH(M$9,'Last Document Status-HOMA'!$1:$1,0)-2,0),0)","v":"00:00:00"},{"$f":"IF($A491>0,VLOOKUP($A491,'Last Document Status-HOMA'!$C:$Y,MATCH(\"Outgoing Date\",'Last Document Status-HOMA'!$1:$1,0)-2,0),0)","v":"00:00:00"},{"$f":"IF($A491>0,VLOOKUP($A491,'Last Document Status-HOMA'!$C:$Y,MATCH(O$9,'Last Document Status-HOMA'!$1:$1,0)-2,0),0)","v":0}]
[null,null,null,null,null,{"$f":"IFERROR((VLOOKUP(#REF!,'5-PMS'!$F$14:$N$192,6,FALSE)),\"\")","v":""},null,null,null,null,{"$f":"IF($A492>0,VLOOKUP($A492,'Last Document Status-HOMA'!$C:$Y,MATCH(K$9,'Last Document Status-HOMA'!$1:$1,0)-2,0),0)","v":0},{"$f":"IF($A492>0,VLOOKUP($A492,'Last Document Status-HOMA'!$C:$Y,MATCH(L$9,'Last Document Status-HOMA'!$1:$1,0)-2,0),0)","v":0},{"$f":"IF($A492>0,VLOOKUP($A492,'Last Document Status-HOMA'!$C:$Y,MATCH(M$9,'Last Document Status-HOMA'!$1:$1,0)-2,0),0)","v":"00:00:00"},{"$f":"IF($A492>0,VLOOKUP($A492,'Last Document Status-HOMA'!$C:$Y,MATCH(\"Outgoing Date\",'Last Document Status-HOMA'!$1:$1,0)-2,0),0)","v":"00:00:00"},{"$f":"IF($A492>0,VLOOKUP($A492,'Last Document Status-HOMA'!$C:$Y,MATCH(O$9,'Last Document Status-HOMA'!$1:$1,0)-2,0),0)","v":0}]
[null,null,null,null,null,{"$f":"IFERROR((VLOOKUP(#REF!,'5-PMS'!$F$14:$N$192,6,FALSE)),\"\")","v":""},null,null,null,null,{"$f":"IF($A493>0,VLOOKUP($A493,'Last Document Status-HOMA'!$C:$Y,MATCH(K$9,'Last Document Status-HOMA'!$1:$1,0)-2,0),0)","v":0},{"$f":"IF($A493>0,VLOOKUP($A493,'Last Document Status-HOMA'!$C:$Y,MATCH(L$9,'Last Document Status-HOMA'!$1:$1,0)-2,0),0)","v":0},{"$f":"IF($A493>0,VLOOKUP($A493,'Last Document Status-HOMA'!$C:$Y,MATCH(M$9,'Last Document Status-HOMA'!$1:$1,0)-2,0),0)","v":"00:00:00"},{"$f":"IF($A493>0,VLOOKUP($A493,'Last Document Status-HOMA'!$C:$Y,MATCH(\"Outgoing Date\",'Last Document Status-HOMA'!$1:$1,0)-2,0),0)","v":"00:00:00"},{"$f":"IF($A493>0,VLOOKUP($A493,'Last Document Status-HOMA'!$C:$Y,MATCH(O$9,'Last Document Status-HOMA'!$1:$1,0)-2,0),0)","v":0}]
[null,null,null,null,null,{"$f":"IFERROR((VLOOKUP(#REF!,'5-PMS'!$F$14:$N$192,6,FALSE)),\"\")","v":""},null,null,null,null,{"$f":"IF($A494>0,VLOOKUP($A494,'Last Document Status-HOMA'!$C:$Y,MATCH(K$9,'Last Document Status-HOMA'!$1:$1,0)-2,0),0)","v":0},{"$f":"IF($A494>0,VLOOKUP($A494,'Last Document Status-HOMA'!$C:$Y,MATCH(L$9,'Last Document Status-HOMA'!$1:$1,0)-2,0),0)","v":0},{"$f":"IF($A494>0,VLOOKUP($A494,'Last Document Status-HOMA'!$C:$Y,MATCH(M$9,'Last Document Status-HOMA'!$1:$1,0)-2,0),0)","v":"00:00:00"},{"$f":"IF($A494>0,VLOOKUP($A494,'Last Document Status-HOMA'!$C:$Y,MATCH(\"Outgoing Date\",'Last Document Status-HOMA'!$1:$1,0)-2,0),0)","v":"00:00:00"},{"$f":"IF($A494>0,VLOOKUP($A494,'Last Document Status-HOMA'!$C:$Y,MATCH(O$9,'Last Document Status-HOMA'!$1:$1,0)-2,0),0)","v":0}]
[null,null,null,null,null,{"$f":"IFERROR((VLOOKUP(#REF!,'5-PMS'!$F$14:$N$192,6,FALSE)),\"\")","v":""},null,null,null,null,{"$f":"IF($A495>0,VLOOKUP($A495,'Last Document Status-HOMA'!$C:$Y,MATCH(K$9,'Last Document Status-HOMA'!$1:$1,0)-2,0),0)","v":0},{"$f":"IF($A495>0,VLOOKUP($A495,'Last Document Status-HOMA'!$C:$Y,MATCH(L$9,'Last Document Status-HOMA'!$1:$1,0)-2,0),0)","v":0},{"$f":"IF($A495>0,VLOOKUP($A495,'Last Document Status-HOMA'!$C:$Y,MATCH(M$9,'Last Document Status-HOMA'!$1:$1,0)-2,0),0)","v":"00:00:00"},{"$f":"IF($A495>0,VLOOKUP($A495,'Last Document Status-HOMA'!$C:$Y,MATCH(\"Outgoing Date\",'Last Document Status-HOMA'!$1:$1,0)-2,0),0)","v":"00:00:00"},{"$f":"IF($A495>0,VLOOKUP($A495,'Last Document Status-HOMA'!$C:$Y,MATCH(O$9,'Last Document Status-HOMA'!$1:$1,0)-2,0),0)","v":0}]
[null,null,null,null,null,{"$f":"IFERROR((VLOOKUP(#REF!,'5-PMS'!$F$14:$N$192,6,FALSE)),\"\")","v":""},null,null,null,null,{"$f":"IF($A496>0,VLOOKUP($A496,'Last Document Status-HOMA'!$C:$Y,MATCH(K$9,'Last Document Status-HOMA'!$1:$1,0)-2,0),0)","v":0},{"$f":"IF($A496>0,VLOOKUP($A496,'Last Document Status-HOMA'!$C:$Y,MATCH(L$9,'Last Document Status-HOMA'!$1:$1,0)-2,0),0)","v":0},{"$f":"IF($A496>0,VLOOKUP($A496,'Last Document Status-HOMA'!$C:$Y,MATCH(M$9,'Last Document Status-HOMA'!$1:$1,0)-2,0),0)","v":"00:00:00"},{"$f":"IF($A496>0,VLOOKUP($A496,'Last Document Status-HOMA'!$C:$Y,MATCH(\"Outgoing Date\",'Last Document Status-HOMA'!$1:$1,0)-2,0),0)","v":"00:00:00"},{"$f":"IF($A496>0,VLOOKUP($A496,'Last Document Status-HOMA'!$C:$Y,MATCH(O$9,'Last Document Status-HOMA'!$1:$1,0)-2,0),0)","v":0}]
[null,null,null,null,null,{"$f":"IFERROR((VLOOKUP(#REF!,'5-PMS'!$F$14:$N$192,6,FALSE)),\"\")","v":""},null,null,null,null,{"$f":"IF($A497>0,VLOOKUP($A497,'Last Document Status-HOMA'!$C:$Y,MATCH(K$9,'Last Document Status-HOMA'!$1:$1,0)-2,0),0)","v":0},{"$f":"IF($A497>0,VLOOKUP($A497,'Last Document Status-HOMA'!$C:$Y,MATCH(L$9,'Last Document Status-HOMA'!$1:$1,0)-2,0),0)","v":0},{"$f":"IF($A497>0,VLOOKUP($A497,'Last Document Status-HOMA'!$C:$Y,MATCH(M$9,'Last Document Status-HOMA'!$1:$1,0)-2,0),0)","v":"00:00:00"},{"$f":"IF($A497>0,VLOOKUP($A497,'Last Document Status-HOMA'!$C:$Y,MATCH(\"Outgoing Date\",'Last Document Status-HOMA'!$1:$1,0)-2,0),0)","v":"00:00:00"},{"$f":"IF($A497>0,VLOOKUP($A497,'Last Document Status-HOMA'!$C:$Y,MATCH(O$9,'Last Document Status-HOMA'!$1:$1,0)-2,0),0)","v":0}]
[null,null,null,null,null,{"$f":"IFERROR((VLOOKUP(#REF!,'5-PMS'!$F$14:$N$192,6,FALSE)),\"\")","v":""},null,null,null,null,{"$f":"IF($A498>0,VLOOKUP($A498,'Last Document Status-HOMA'!$C:$Y,MATCH(K$9,'Last Document Status-HOMA'!$1:$1,0)-2,0),0)","v":0},{"$f":"IF($A498>0,VLOOKUP($A498,'Last Document Status-HOMA'!$C:$Y,MATCH(L$9,'Last Document Status-HOMA'!$1:$1,0)-2,0),0)","v":0},{"$f":"IF($A498>0,VLOOKUP($A498,'Last Document Status-HOMA'!$C:$Y,MATCH(M$9,'Last Document Status-HOMA'!$1:$1,0)-2,0),0)","v":"00:00:00"},{"$f":"IF($A498>0,VLOOKUP($A498,'Last Document Status-HOMA'!$C:$Y,MATCH(\"Outgoing Date\",'Last Document Status-HOMA'!$1:$1,0)-2,0),0)","v":"00:00:00"},{"$f":"IF($A498>0,VLOOKUP($A498,'Last Document Status-HOMA'!$C:$Y,MATCH(O$9,'Last Document Status-HOMA'!$1:$1,0)-2,0),0)","v":0}]
[null,null,null,null,null,{"$f":"IFERROR((VLOOKUP(#REF!,'5-PMS'!$F$14:$N$192,6,FALSE)),\"\")","v":""},null,null,null,null,{"$f":"IF($A499>0,VLOOKUP($A499,'Last Document Status-HOMA'!$C:$Y,MATCH(K$9,'Last Document Status-HOMA'!$1:$1,0)-2,0),0)","v":0},{"$f":"IF($A499>0,VLOOKUP($A499,'Last Document Status-HOMA'!$C:$Y,MATCH(L$9,'Last Document Status-HOMA'!$1:$1,0)-2,0),0)","v":0},{"$f":"IF($A499>0,VLOOKUP($A499,'Last Document Status-HOMA'!$C:$Y,MATCH(M$9,'Last Document Status-HOMA'!$1:$1,0)-2,0),0)","v":"00:00:00"},{"$f":"IF($A499>0,VLOOKUP($A499,'Last Document Status-HOMA'!$C:$Y,MATCH(\"Outgoing Date\",'Last Document Status-HOMA'!$1:$1,0)-2,0),0)","v":"00:00:00"},{"$f":"IF($A499>0,VLOOKUP($A499,'Last Document Status-HOMA'!$C:$Y,MATCH(O$9,'Last Document Status-HOMA'!$1:$1,0)-2,0),0)","v":0}]
[null,null,null,null,null,{"$f":"IFERROR((VLOOKUP(#REF!,'5-PMS'!$F$14:$N$192,6,FALSE)),\"\")","v":""},null,null,null,null,{"$f":"IF($A500>0,VLOOKUP($A500,'Last Document Status-HOMA'!$C:$Y,MATCH(K$9,'Last Document Status-HOMA'!$1:$1,0)-2,0),0)","v":0},{"$f":"IF($A500>0,VLOOKUP($A500,'Last Document Status-HOMA'!$C:$Y,MATCH(L$9,'Last Document Status-HOMA'!$1:$1,0)-2,0),0)","v":0},{"$f":"IF($A500>0,VLOOKUP($A500,'Last Document Status-HOMA'!$C:$Y,MATCH(M$9,'Last Document Status-HOMA'!$1:$1,0)-2,0),0)","v":"00:00:00"},{"$f":"IF($A500>0,VLOOKUP($A500,'Last Document Status-HOMA'!$C:$Y,MATCH(\"Outgoing Date\",'Last Document Status-HOMA'!$1:$1,0)-2,0),0)","v":"00:00:00"},{"$f":"IF($A500>0,VLOOKUP($A500,'Last Document Status-HOMA'!$C:$Y,MATCH(O$9,'Last Document Status-HOMA'!$1:$1,0)-2,0),0)","v":0}]
[null,null,null,null,null,{"$f":"IFERROR((VLOOKUP(#REF!,'5-PMS'!$F$14:$N$192,6,FALSE)),\"\")","v":""},null,null,null,null,{"$f":"IF($A501>0,VLOOKUP($A501,'Last Document Status-HOMA'!$C:$Y,MATCH(K$9,'Last Document Status-HOMA'!$1:$1,0)-2,0),0)","v":0},{"$f":"IF($A501>0,VLOOKUP($A501,'Last Document Status-HOMA'!$C:$Y,MATCH(L$9,'Last Document Status-HOMA'!$1:$1,0)-2,0),0)","v":0},{"$f":"IF($A501>0,VLOOKUP($A501,'Last Document Status-HOMA'!$C:$Y,MATCH(M$9,'Last Document Status-HOMA'!$1:$1,0)-2,0),0)","v":"00:00:00"},{"$f":"IF($A501>0,VLOOKUP($A501,'Last Document Status-HOMA'!$C:$Y,MATCH(\"Outgoing Date\",'Last Document Status-HOMA'!$1:$1,0)-2,0),0)","v":"00:00:00"},{"$f":"IF($A501>0,VLOOKUP($A501,'Last Document Status-HOMA'!$C:$Y,MATCH(O$9,'Last Document Status-HOMA'!$1:$1,0)-2,0),0)","v":0}]
[null,null,null,null,null,{"$f":"IFERROR((VLOOKUP(#REF!,'5-PMS'!$F$14:$N$192,6,FALSE)),\"\")","v":""},null,null,null,null,{"$f":"IF($A502>0,VLOOKUP($A502,'Last Document Status-HOMA'!$C:$Y,MATCH(K$9,'Last Document Status-HOMA'!$1:$1,0)-2,0),0)","v":0},{"$f":"IF($A502>0,VLOOKUP($A502,'Last Document Status-HOMA'!$C:$Y,MATCH(L$9,'Last Document Status-HOMA'!$1:$1,0)-2,0),0)","v":0},{"$f":"IF($A502>0,VLOOKUP($A502,'Last Document Status-HOMA'!$C:$Y,MATCH(M$9,'Last Document Status-HOMA'!$1:$1,0)-2,0),0)","v":"00:00:00"},{"$f":"IF($A502>0,VLOOKUP($A502,'Last Document Status-HOMA'!$C:$Y,MATCH(\"Outgoing Date\",'Last Document Status-HOMA'!$1:$1,0)-2,0),0)","v":"00:00:00"},{"$f":"IF($A502>0,VLOOKUP($A502,'Last Document Status-HOMA'!$C:$Y,MATCH(O$9,'Last Document Status-HOMA'!$1:$1,0)-2,0),0)","v":0}]
[null,null,null,null,null,{"$f":"IFERROR((VLOOKUP(#REF!,'5-PMS'!$F$14:$N$192,6,FALSE)),\"\")","v":""},null,null,null,null,{"$f":"IF($A503>0,VLOOKUP($A503,'Last Document Status-HOMA'!$C:$Y,MATCH(K$9,'Last Document Status-HOMA'!$1:$1,0)-2,0),0)","v":0},{"$f":"IF($A503>0,VLOOKUP($A503,'Last Document Status-HOMA'!$C:$Y,MATCH(L$9,'Last Document Status-HOMA'!$1:$1,0)-2,0),0)","v":0},{"$f":"IF($A503>0,VLOOKUP($A503,'Last Document Status-HOMA'!$C:$Y,MATCH(M$9,'Last Document Status-HOMA'!$1:$1,0)-2,0),0)","v":"00:00:00"},{"$f":"IF($A503>0,VLOOKUP($A503,'Last Document Status-HOMA'!$C:$Y,MATCH(\"Outgoing Date\",'Last Document Status-HOMA'!$1:$1,0)-2,0),0)","v":"00:00:00"},{"$f":"IF($A503>0,VLOOKUP($A503,'Last Document Status-HOMA'!$C:$Y,MATCH(O$9,'Last Document Status-HOMA'!$1:$1,0)-2,0),0)","v":0}]
[null,null,null,null,null,{"$f":"IFERROR((VLOOKUP(#REF!,'5-PMS'!$F$14:$N$192,6,FALSE)),\"\")","v":""},null,null,null,null,{"$f":"IF($A504>0,VLOOKUP($A504,'Last Document Status-HOMA'!$C:$Y,MATCH(K$9,'Last Document Status-HOMA'!$1:$1,0)-2,0),0)","v":0},{"$f":"IF($A504>0,VLOOKUP($A504,'Last Document Status-HOMA'!$C:$Y,MATCH(L$9,'Last Document Status-HOMA'!$1:$1,0)-2,0),0)","v":0},{"$f":"IF($A504>0,VLOOKUP($A504,'Last Document Status-HOMA'!$C:$Y,MATCH(M$9,'Last Document Status-HOMA'!$1:$1,0)-2,0),0)","v":"00:00:00"},{"$f":"IF($A504>0,VLOOKUP($A504,'Last Document Status-HOMA'!$C:$Y,MATCH(\"Outgoing Date\",'Last Document Status-HOMA'!$1:$1,0)-2,0),0)","v":"00:00:00"},{"$f":"IF($A504>0,VLOOKUP($A504,'Last Document Status-HOMA'!$C:$Y,MATCH(O$9,'Last Document Status-HOMA'!$1:$1,0)-2,0),0)","v":0}]
[null,null,null,null,null,{"$f":"IFERROR((VLOOKUP(#REF!,'5-PMS'!$F$14:$N$192,6,FALSE)),\"\")","v":""},null,null,null,null,{"$f":"IF($A505>0,VLOOKUP($A505,'Last Document Status-HOMA'!$C:$Y,MATCH(K$9,'Last Document Status-HOMA'!$1:$1,0)-2,0),0)","v":0},{"$f":"IF($A505>0,VLOOKUP($A505,'Last Document Status-HOMA'!$C:$Y,MATCH(L$9,'Last Document Status-HOMA'!$1:$1,0)-2,0),0)","v":0},{"$f":"IF($A505>0,VLOOKUP($A505,'Last Document Status-HOMA'!$C:$Y,MATCH(M$9,'Last Document Status-HOMA'!$1:$1,0)-2,0),0)","v":"00:00:00"},{"$f":"IF($A505>0,VLOOKUP($A505,'Last Document Status-HOMA'!$C:$Y,MATCH(\"Outgoing Date\",'Last Document Status-HOMA'!$1:$1,0)-2,0),0)","v":"00:00:00"},{"$f":"IF($A505>0,VLOOKUP($A505,'Last Document Status-HOMA'!$C:$Y,MATCH(O$9,'Last Document Status-HOMA'!$1:$1,0)-2,0),0)","v":0}]
[null,null,null,null,null,{"$f":"IFERROR((VLOOKUP(#REF!,'5-PMS'!$F$14:$N$192,6,FALSE)),\"\")","v":""},null,null,null,null,{"$f":"IF($A506>0,VLOOKUP($A506,'Last Document Status-HOMA'!$C:$Y,MATCH(K$9,'Last Document Status-HOMA'!$1:$1,0)-2,0),0)","v":0},{"$f":"IF($A506>0,VLOOKUP($A506,'Last Document Status-HOMA'!$C:$Y,MATCH(L$9,'Last Document Status-HOMA'!$1:$1,0)-2,0),0)","v":0},{"$f":"IF($A506>0,VLOOKUP($A506,'Last Document Status-HOMA'!$C:$Y,MATCH(M$9,'Last Document Status-HOMA'!$1:$1,0)-2,0),0)","v":"00:00:00"},{"$f":"IF($A506>0,VLOOKUP($A506,'Last Document Status-HOMA'!$C:$Y,MATCH(\"Outgoing Date\",'Last Document Status-HOMA'!$1:$1,0)-2,0),0)","v":"00:00:00"},{"$f":"IF($A506>0,VLOOKUP($A506,'Last Document Status-HOMA'!$C:$Y,MATCH(O$9,'Last Document Status-HOMA'!$1:$1,0)-2,0),0)","v":0}]
[null,null,null,null,null,{"$f":"IFERROR((VLOOKUP(#REF!,'5-PMS'!$F$14:$N$192,6,FALSE)),\"\")","v":""},null,null,null,null,{"$f":"IF($A507>0,VLOOKUP($A507,'Last Document Status-HOMA'!$C:$Y,MATCH(K$9,'Last Document Status-HOMA'!$1:$1,0)-2,0),0)","v":0},{"$f":"IF($A507>0,VLOOKUP($A507,'Last Document Status-HOMA'!$C:$Y,MATCH(L$9,'Last Document Status-HOMA'!$1:$1,0)-2,0),0)","v":0},{"$f":"IF($A507>0,VLOOKUP($A507,'Last Document Status-HOMA'!$C:$Y,MATCH(M$9,'Last Document Status-HOMA'!$1:$1,0)-2,0),0)","v":"00:00:00"},{"$f":"IF($A507>0,VLOOKUP($A507,'Last Document Status-HOMA'!$C:$Y,MATCH(\"Outgoing Date\",'Last Document Status-HOMA'!$1:$1,0)-2,0),0)","v":"00:00:00"},{"$f":"IF($A507>0,VLOOKUP($A507,'Last Document Status-HOMA'!$C:$Y,MATCH(O$9,'Last Document Status-HOMA'!$1:$1,0)-2,0),0)","v":0}]
[null,null,null,null,null,{"$f":"IFERROR((VLOOKUP(#REF!,'5-PMS'!$F$14:$N$192,6,FALSE)),\"\")","v":""},null,null,null,null,{"$f":"IF($A508>0,VLOOKUP($A508,'Last Document Status-HOMA'!$C:$Y,MATCH(K$9,'Last Document Status-HOMA'!$1:$1,0)-2,0),0)","v":0},{"$f":"IF($A508>0,VLOOKUP($A508,'Last Document Status-HOMA'!$C:$Y,MATCH(L$9,'Last Document Status-HOMA'!$1:$1,0)-2,0),0)","v":0},{"$f":"IF($A508>0,VLOOKUP($A508,'Last Document Status-HOMA'!$C:$Y,MATCH(M$9,'Last Document Status-HOMA'!$1:$1,0)-2,0),0)","v":"00:00:00"},{"$f":"IF($A508>0,VLOOKUP($A508,'Last Document Status-HOMA'!$C:$Y,MATCH(\"Outgoing Date\",'Last Document Status-HOMA'!$1:$1,0)-2,0),0)","v":"00:00:00"},{"$f":"IF($A508>0,VLOOKUP($A508,'Last Document Status-HOMA'!$C:$Y,MATCH(O$9,'Last Document Status-HOMA'!$1:$1,0)-2,0),0)","v":0}]
[null,null,null,null,null,{"$f":"IFERROR((VLOOKUP(#REF!,'5-PMS'!$F$14:$N$192,6,FALSE)),\"\")","v":""},null,null,null,null,{"$f":"IF($A509>0,VLOOKUP($A509,'Last Document Status-HOMA'!$C:$Y,MATCH(K$9,'Last Document Status-HOMA'!$1:$1,0)-2,0),0)","v":0},{"$f":"IF($A509>0,VLOOKUP($A509,'Last Document Status-HOMA'!$C:$Y,MATCH(L$9,'Last Document Status-HOMA'!$1:$1,0)-2,0),0)","v":0},{"$f":"IF($A509>0,VLOOKUP($A509,'Last Document Status-HOMA'!$C:$Y,MATCH(M$9,'Last Document Status-HOMA'!$1:$1,0)-2,0),0)","v":"00:00:00"},{"$f":"IF($A509>0,VLOOKUP($A509,'Last Document Status-HOMA'!$C:$Y,MATCH(\"Outgoing Date\",'Last Document Status-HOMA'!$1:$1,0)-2,0),0)","v":"00:00:00"},{"$f":"IF($A509>0,VLOOKUP($A509,'Last Document Status-HOMA'!$C:$Y,MATCH(O$9,'Last Document Status-HOMA'!$1:$1,0)-2,0),0)","v":0}]
[null,null,null,null,null,{"$f":"IFERROR((VLOOKUP(#REF!,'5-PMS'!$F$14:$N$192,6,FALSE)),\"\")","v":""},null,null,null,null,{"$f":"IF($A510>0,VLOOKUP($A510,'Last Document Status-HOMA'!$C:$Y,MATCH(K$9,'Last Document Status-HOMA'!$1:$1,0)-2,0),0)","v":0},{"$f":"IF($A510>0,VLOOKUP($A510,'Last Document Status-HOMA'!$C:$Y,MATCH(L$9,'Last Document Status-HOMA'!$1:$1,0)-2,0),0)","v":0},{"$f":"IF($A510>0,VLOOKUP($A510,'Last Document Status-HOMA'!$C:$Y,MATCH(M$9,'Last Document Status-HOMA'!$1:$1,0)-2,0),0)","v":"00:00:00"},{"$f":"IF($A510>0,VLOOKUP($A510,'Last Document Status-HOMA'!$C:$Y,MATCH(\"Outgoing Date\",'Last Document Status-HOMA'!$1:$1,0)-2,0),0)","v":"00:00:00"},{"$f":"IF($A510>0,VLOOKUP($A510,'Last Document Status-HOMA'!$C:$Y,MATCH(O$9,'Last Document Status-HOMA'!$1:$1,0)-2,0),0)","v":0}]
[null,null,null,null,null,{"$f":"IFERROR((VLOOKUP(#REF!,'5-PMS'!$F$14:$N$192,6,FALSE)),\"\")","v":""},null,null,null,null,{"$f":"IF($A511>0,VLOOKUP($A511,'Last Document Status-HOMA'!$C:$Y,MATCH(K$9,'Last Document Status-HOMA'!$1:$1,0)-2,0),0)","v":0},{"$f":"IF($A511>0,VLOOKUP($A511,'Last Document Status-HOMA'!$C:$Y,MATCH(L$9,'Last Document Status-HOMA'!$1:$1,0)-2,0),0)","v":0},{"$f":"IF($A511>0,VLOOKUP($A511,'Last Document Status-HOMA'!$C:$Y,MATCH(M$9,'Last Document Status-HOMA'!$1:$1,0)-2,0),0)","v":"00:00:00"},{"$f":"IF($A511>0,VLOOKUP($A511,'Last Document Status-HOMA'!$C:$Y,MATCH(\"Outgoing Date\",'Last Document Status-HOMA'!$1:$1,0)-2,0),0)","v":"00:00:00"},{"$f":"IF($A511>0,VLOOKUP($A511,'Last Document Status-HOMA'!$C:$Y,MATCH(O$9,'Last Document Status-HOMA'!$1:$1,0)-2,0),0)","v":0}]
[null,null,null,null,null,{"$f":"IFERROR((VLOOKUP(#REF!,'5-PMS'!$F$14:$N$192,6,FALSE)),\"\")","v":""},null,null,null,null,{"$f":"IF($A512>0,VLOOKUP($A512,'Last Document Status-HOMA'!$C:$Y,MATCH(K$9,'Last Document Status-HOMA'!$1:$1,0)-2,0),0)","v":0},{"$f":"IF($A512>0,VLOOKUP($A512,'Last Document Status-HOMA'!$C:$Y,MATCH(L$9,'Last Document Status-HOMA'!$1:$1,0)-2,0),0)","v":0},{"$f":"IF($A512>0,VLOOKUP($A512,'Last Document Status-HOMA'!$C:$Y,MATCH(M$9,'Last Document Status-HOMA'!$1:$1,0)-2,0),0)","v":"00:00:00"},{"$f":"IF($A512>0,VLOOKUP($A512,'Last Document Status-HOMA'!$C:$Y,MATCH(\"Outgoing Date\",'Last Document Status-HOMA'!$1:$1,0)-2,0),0)","v":"00:00:00"},{"$f":"IF($A512>0,VLOOKUP($A512,'Last Document Status-HOMA'!$C:$Y,MATCH(O$9,'Last Document Status-HOMA'!$1:$1,0)-2,0),0)","v":0}]
[null,null,null,null,null,{"$f":"IFERROR((VLOOKUP(#REF!,'5-PMS'!$F$14:$N$192,6,FALSE)),\"\")","v":""},null,null,null,null,{"$f":"IF($A513>0,VLOOKUP($A513,'Last Document Status-HOMA'!$C:$Y,MATCH(K$9,'Last Document Status-HOMA'!$1:$1,0)-2,0),0)","v":0},{"$f":"IF($A513>0,VLOOKUP($A513,'Last Document Status-HOMA'!$C:$Y,MATCH(L$9,'Last Document Status-HOMA'!$1:$1,0)-2,0),0)","v":0},{"$f":"IF($A513>0,VLOOKUP($A513,'Last Document Status-HOMA'!$C:$Y,MATCH(M$9,'Last Document Status-HOMA'!$1:$1,0)-2,0),0)","v":"00:00:00"},{"$f":"IF($A513>0,VLOOKUP($A513,'Last Document Status-HOMA'!$C:$Y,MATCH(\"Outgoing Date\",'Last Document Status-HOMA'!$1:$1,0)-2,0),0)","v":"00:00:00"},{"$f":"IF($A513>0,VLOOKUP($A513,'Last Document Status-HOMA'!$C:$Y,MATCH(O$9,'Last Document Status-HOMA'!$1:$1,0)-2,0),0)","v":0}]
[null,null,null,null,null,{"$f":"IFERROR((VLOOKUP(#REF!,'5-PMS'!$F$14:$N$192,6,FALSE)),\"\")","v":""},null,null,null,null,{"$f":"IF($A514>0,VLOOKUP($A514,'Last Document Status-HOMA'!$C:$Y,MATCH(K$9,'Last Document Status-HOMA'!$1:$1,0)-2,0),0)","v":0},{"$f":"IF($A514>0,VLOOKUP($A514,'Last Document Status-HOMA'!$C:$Y,MATCH(L$9,'Last Document Status-HOMA'!$1:$1,0)-2,0),0)","v":0},{"$f":"IF($A514>0,VLOOKUP($A514,'Last Document Status-HOMA'!$C:$Y,MATCH(M$9,'Last Document Status-HOMA'!$1:$1,0)-2,0),0)","v":"00:00:00"},{"$f":"IF($A514>0,VLOOKUP($A514,'Last Document Status-HOMA'!$C:$Y,MATCH(\"Outgoing Date\",'Last Document Status-HOMA'!$1:$1,0)-2,0),0)","v":"00:00:00"},{"$f":"IF($A514>0,VLOOKUP($A514,'Last Document Status-HOMA'!$C:$Y,MATCH(O$9,'Last Document Status-HOMA'!$1:$1,0)-2,0),0)","v":0}]
[null,null,null,null,null,{"$f":"IFERROR((VLOOKUP(#REF!,'5-PMS'!$F$14:$N$192,6,FALSE)),\"\")","v":""},null,null,null,null,{"$f":"IF($A515>0,VLOOKUP($A515,'Last Document Status-HOMA'!$C:$Y,MATCH(K$9,'Last Document Status-HOMA'!$1:$1,0)-2,0),0)","v":0},{"$f":"IF($A515>0,VLOOKUP($A515,'Last Document Status-HOMA'!$C:$Y,MATCH(L$9,'Last Document Status-HOMA'!$1:$1,0)-2,0),0)","v":0},{"$f":"IF($A515>0,VLOOKUP($A515,'Last Document Status-HOMA'!$C:$Y,MATCH(M$9,'Last Document Status-HOMA'!$1:$1,0)-2,0),0)","v":"00:00:00"},{"$f":"IF($A515>0,VLOOKUP($A515,'Last Document Status-HOMA'!$C:$Y,MATCH(\"Outgoing Date\",'Last Document Status-HOMA'!$1:$1,0)-2,0),0)","v":"00:00:00"},{"$f":"IF($A515>0,VLOOKUP($A515,'Last Document Status-HOMA'!$C:$Y,MATCH(O$9,'Last Document Status-HOMA'!$1:$1,0)-2,0),0)","v":0}]
[null,null,null,null,null,{"$f":"IFERROR((VLOOKUP(#REF!,'5-PMS'!$F$14:$N$192,6,FALSE)),\"\")","v":""},null,null,null,null,{"$f":"IF($A516>0,VLOOKUP($A516,'Last Document Status-HOMA'!$C:$Y,MATCH(K$9,'Last Document Status-HOMA'!$1:$1,0)-2,0),0)","v":0},{"$f":"IF($A516>0,VLOOKUP($A516,'Last Document Status-HOMA'!$C:$Y,MATCH(L$9,'Last Document Status-HOMA'!$1:$1,0)-2,0),0)","v":0},{"$f":"IF($A516>0,VLOOKUP($A516,'Last Document Status-HOMA'!$C:$Y,MATCH(M$9,'Last Document Status-HOMA'!$1:$1,0)-2,0),0)","v":"00:00:00"},{"$f":"IF($A516>0,VLOOKUP($A516,'Last Document Status-HOMA'!$C:$Y,MATCH(\"Outgoing Date\",'Last Document Status-HOMA'!$1:$1,0)-2,0),0)","v":"00:00:00"},{"$f":"IF($A516>0,VLOOKUP($A516,'Last Document Status-HOMA'!$C:$Y,MATCH(O$9,'Last Document Status-HOMA'!$1:$1,0)-2,0),0)","v":0}]
[null,null,null,null,null,{"$f":"IFERROR((VLOOKUP(#REF!,'5-PMS'!$F$14:$N$192,6,FALSE)),\"\")","v":""},null,null,null,null,{"$f":"IF($A517>0,VLOOKUP($A517,'Last Document Status-HOMA'!$C:$Y,MATCH(K$9,'Last Document Status-HOMA'!$1:$1,0)-2,0),0)","v":0},{"$f":"IF($A517>0,VLOOKUP($A517,'Last Document Status-HOMA'!$C:$Y,MATCH(L$9,'Last Document Status-HOMA'!$1:$1,0)-2,0),0)","v":0},{"$f":"IF($A517>0,VLOOKUP($A517,'Last Document Status-HOMA'!$C:$Y,MATCH(M$9,'Last Document Status-HOMA'!$1:$1,0)-2,0),0)","v":"00:00:00"},{"$f":"IF($A517>0,VLOOKUP($A517,'Last Document Status-HOMA'!$C:$Y,MATCH(\"Outgoing Date\",'Last Document Status-HOMA'!$1:$1,0)-2,0),0)","v":"00:00:00"},{"$f":"IF($A517>0,VLOOKUP($A517,'Last Document Status-HOMA'!$C:$Y,MATCH(O$9,'Last Document Status-HOMA'!$1:$1,0)-2,0),0)","v":0}]
[null,null,null,null,null,{"$f":"IFERROR((VLOOKUP(#REF!,'5-PMS'!$F$14:$N$192,6,FALSE)),\"\")","v":""},null,null,null,null,{"$f":"IF($A518>0,VLOOKUP($A518,'Last Document Status-HOMA'!$C:$Y,MATCH(K$9,'Last Document Status-HOMA'!$1:$1,0)-2,0),0)","v":0},{"$f":"IF($A518>0,VLOOKUP($A518,'Last Document Status-HOMA'!$C:$Y,MATCH(L$9,'Last Document Status-HOMA'!$1:$1,0)-2,0),0)","v":0},{"$f":"IF($A518>0,VLOOKUP($A518,'Last Document Status-HOMA'!$C:$Y,MATCH(M$9,'Last Document Status-HOMA'!$1:$1,0)-2,0),0)","v":"00:00:00"},{"$f":"IF($A518>0,VLOOKUP($A518,'Last Document Status-HOMA'!$C:$Y,MATCH(\"Outgoing Date\",'Last Document Status-HOMA'!$1:$1,0)-2,0),0)","v":"00:00:00"},{"$f":"IF($A518>0,VLOOKUP($A518,'Last Document Status-HOMA'!$C:$Y,MATCH(O$9,'Last Document Status-HOMA'!$1:$1,0)-2,0),0)","v":0}]
[null,null,null,null,null,{"$f":"IFERROR((VLOOKUP(#REF!,'5-PMS'!$F$14:$N$192,6,FALSE)),\"\")","v":""},null,null,null,null,{"$f":"IF($A519>0,VLOOKUP($A519,'Last Document Status-HOMA'!$C:$Y,MATCH(K$9,'Last Document Status-HOMA'!$1:$1,0)-2,0),0)","v":0},{"$f":"IF($A519>0,VLOOKUP($A519,'Last Document Status-HOMA'!$C:$Y,MATCH(L$9,'Last Document Status-HOMA'!$1:$1,0)-2,0),0)","v":0},{"$f":"IF($A519>0,VLOOKUP($A519,'Last Document Status-HOMA'!$C:$Y,MATCH(M$9,'Last Document Status-HOMA'!$1:$1,0)-2,0),0)","v":"00:00:00"},{"$f":"IF($A519>0,VLOOKUP($A519,'Last Document Status-HOMA'!$C:$Y,MATCH(\"Outgoing Date\",'Last Document Status-HOMA'!$1:$1,0)-2,0),0)","v":"00:00:00"},{"$f":"IF($A519>0,VLOOKUP($A519,'Last Document Status-HOMA'!$C:$Y,MATCH(O$9,'Last Document Status-HOMA'!$1:$1,0)-2,0),0)","v":0}]
[null,null,null,null,null,{"$f":"IFERROR((VLOOKUP(#REF!,'5-PMS'!$F$14:$N$192,6,FALSE)),\"\")","v":""},null,null,null,null,{"$f":"IF($A520>0,VLOOKUP($A520,'Last Document Status-HOMA'!$C:$Y,MATCH(K$9,'Last Document Status-HOMA'!$1:$1,0)-2,0),0)","v":0},{"$f":"IF($A520>0,VLOOKUP($A520,'Last Document Status-HOMA'!$C:$Y,MATCH(L$9,'Last Document Status-HOMA'!$1:$1,0)-2,0),0)","v":0},{"$f":"IF($A520>0,VLOOKUP($A520,'Last Document Status-HOMA'!$C:$Y,MATCH(M$9,'Last Document Status-HOMA'!$1:$1,0)-2,0),0)","v":"00:00:00"},{"$f":"IF($A520>0,VLOOKUP($A520,'Last Document Status-HOMA'!$C:$Y,MATCH(\"Outgoing Date\",'Last Document Status-HOMA'!$1:$1,0)-2,0),0)","v":"00:00:00"},{"$f":"IF($A520>0,VLOOKUP($A520,'Last Document Status-HOMA'!$C:$Y,MATCH(O$9,'Last Document Status-HOMA'!$1:$1,0)-2,0),0)","v":0}]
[null,null,null,null,null,{"$f":"IFERROR((VLOOKUP(#REF!,'5-PMS'!$F$14:$N$192,6,FALSE)),\"\")","v":""},null,null,null,null,{"$f":"IF($A521>0,VLOOKUP($A521,'Last Document Status-HOMA'!$C:$Y,MATCH(K$9,'Last Document Status-HOMA'!$1:$1,0)-2,0),0)","v":0},{"$f":"IF($A521>0,VLOOKUP($A521,'Last Document Status-HOMA'!$C:$Y,MATCH(L$9,'Last Document Status-HOMA'!$1:$1,0)-2,0),0)","v":0},{"$f":"IF($A521>0,VLOOKUP($A521,'Last Document Status-HOMA'!$C:$Y,MATCH(M$9,'Last Document Status-HOMA'!$1:$1,0)-2,0),0)","v":"00:00:00"},{"$f":"IF($A521>0,VLOOKUP($A521,'Last Document Status-HOMA'!$C:$Y,MATCH(\"Outgoing Date\",'Last Document Status-HOMA'!$1:$1,0)-2,0),0)","v":"00:00:00"},{"$f":"IF($A521>0,VLOOKUP($A521,'Last Document Status-HOMA'!$C:$Y,MATCH(O$9,'Last Document Status-HOMA'!$1:$1,0)-2,0),0)","v":0}]
[null,null,null,null,null,{"$f":"IFERROR((VLOOKUP(#REF!,'5-PMS'!$F$14:$N$192,6,FALSE)),\"\")","v":""},null,null,null,null,{"$f":"IF($A522>0,VLOOKUP($A522,'Last Document Status-HOMA'!$C:$Y,MATCH(K$9,'Last Document Status-HOMA'!$1:$1,0)-2,0),0)","v":0},{"$f":"IF($A522>0,VLOOKUP($A522,'Last Document Status-HOMA'!$C:$Y,MATCH(L$9,'Last Document Status-HOMA'!$1:$1,0)-2,0),0)","v":0},{"$f":"IF($A522>0,VLOOKUP($A522,'Last Document Status-HOMA'!$C:$Y,MATCH(M$9,'Last Document Status-HOMA'!$1:$1,0)-2,0),0)","v":"00:00:00"},{"$f":"IF($A522>0,VLOOKUP($A522,'Last Document Status-HOMA'!$C:$Y,MATCH(\"Outgoing Date\",'Last Document Status-HOMA'!$1:$1,0)-2,0),0)","v":"00:00:00"},{"$f":"IF($A522>0,VLOOKUP($A522,'Last Document Status-HOMA'!$C:$Y,MATCH(O$9,'Last Document Status-HOMA'!$1:$1,0)-2,0),0)","v":0}]
[null,null,null,null,null,{"$f":"IFERROR((VLOOKUP(#REF!,'5-PMS'!$F$14:$N$192,6,FALSE)),\"\")","v":""},null,null,null,null,{"$f":"IF($A523>0,VLOOKUP($A523,'Last Document Status-HOMA'!$C:$Y,MATCH(K$9,'Last Document Status-HOMA'!$1:$1,0)-2,0),0)","v":0},{"$f":"IF($A523>0,VLOOKUP($A523,'Last Document Status-HOMA'!$C:$Y,MATCH(L$9,'Last Document Status-HOMA'!$1:$1,0)-2,0),0)","v":0},{"$f":"IF($A523>0,VLOOKUP($A523,'Last Document Status-HOMA'!$C:$Y,MATCH(M$9,'Last Document Status-HOMA'!$1:$1,0)-2,0),0)","v":"00:00:00"},{"$f":"IF($A523>0,VLOOKUP($A523,'Last Document Status-HOMA'!$C:$Y,MATCH(\"Outgoing Date\",'Last Document Status-HOMA'!$1:$1,0)-2,0),0)","v":"00:00:00"},{"$f":"IF($A523>0,VLOOKUP($A523,'Last Document Status-HOMA'!$C:$Y,MATCH(O$9,'Last Document Status-HOMA'!$1:$1,0)-2,0),0)","v":0}]
[null,null,null,null,null,{"$f":"IFERROR((VLOOKUP(#REF!,'5-PMS'!$F$14:$N$192,6,FALSE)),\"\")","v":""},null,null,null,null,{"$f":"IF($A524>0,VLOOKUP($A524,'Last Document Status-HOMA'!$C:$Y,MATCH(K$9,'Last Document Status-HOMA'!$1:$1,0)-2,0),0)","v":0},{"$f":"IF($A524>0,VLOOKUP($A524,'Last Document Status-HOMA'!$C:$Y,MATCH(L$9,'Last Document Status-HOMA'!$1:$1,0)-2,0),0)","v":0},{"$f":"IF($A524>0,VLOOKUP($A524,'Last Document Status-HOMA'!$C:$Y,MATCH(M$9,'Last Document Status-HOMA'!$1:$1,0)-2,0),0)","v":"00:00:00"},{"$f":"IF($A524>0,VLOOKUP($A524,'Last Document Status-HOMA'!$C:$Y,MATCH(\"Outgoing Date\",'Last Document Status-HOMA'!$1:$1,0)-2,0),0)","v":"00:00:00"},{"$f":"IF($A524>0,VLOOKUP($A524,'Last Document Status-HOMA'!$C:$Y,MATCH(O$9,'Last Document Status-HOMA'!$1:$1,0)-2,0),0)","v":0}]
[null,null,null,null,null,{"$f":"IFERROR((VLOOKUP(#REF!,'5-PMS'!$F$14:$N$192,6,FALSE)),\"\")","v":""},null,null,null,null,{"$f":"IF($A525>0,VLOOKUP($A525,'Last Document Status-HOMA'!$C:$Y,MATCH(K$9,'Last Document Status-HOMA'!$1:$1,0)-2,0),0)","v":0},{"$f":"IF($A525>0,VLOOKUP($A525,'Last Document Status-HOMA'!$C:$Y,MATCH(L$9,'Last Document Status-HOMA'!$1:$1,0)-2,0),0)","v":0},{"$f":"IF($A525>0,VLOOKUP($A525,'Last Document Status-HOMA'!$C:$Y,MATCH(M$9,'Last Document Status-HOMA'!$1:$1,0)-2,0),0)","v":"00:00:00"},{"$f":"IF($A525>0,VLOOKUP($A525,'Last Document Status-HOMA'!$C:$Y,MATCH(\"Outgoing Date\",'Last Document Status-HOMA'!$1:$1,0)-2,0),0)","v":"00:00:00"},{"$f":"IF($A525>0,VLOOKUP($A525,'Last Document Status-HOMA'!$C:$Y,MATCH(O$9,'Last Document Status-HOMA'!$1:$1,0)-2,0),0)","v":0}]
[null,null,null,null,null,{"$f":"IFERROR((VLOOKUP(#REF!,'5-PMS'!$F$14:$N$192,6,FALSE)),\"\")","v":""},null,null,null,null,{"$f":"IF($A526>0,VLOOKUP($A526,'Last Document Status-HOMA'!$C:$Y,MATCH(K$9,'Last Document Status-HOMA'!$1:$1,0)-2,0),0)","v":0},{"$f":"IF($A526>0,VLOOKUP($A526,'Last Document Status-HOMA'!$C:$Y,MATCH(L$9,'Last Document Status-HOMA'!$1:$1,0)-2,0),0)","v":0},{"$f":"IF($A526>0,VLOOKUP($A526,'Last Document Status-HOMA'!$C:$Y,MATCH(M$9,'Last Document Status-HOMA'!$1:$1,0)-2,0),0)","v":"00:00:00"},{"$f":"IF($A526>0,VLOOKUP($A526,'Last Document Status-HOMA'!$C:$Y,MATCH(\"Outgoing Date\",'Last Document Status-HOMA'!$1:$1,0)-2,0),0)","v":"00:00:00"},{"$f":"IF($A526>0,VLOOKUP($A526,'Last Document Status-HOMA'!$C:$Y,MATCH(O$9,'Last Document Status-HOMA'!$1:$1,0)-2,0),0)","v":0}]
[null,null,null,null,null,{"$f":"IFERROR((VLOOKUP(#REF!,'5-PMS'!$F$14:$N$192,6,FALSE)),\"\")","v":""},null,null,null,null,{"$f":"IF($A527>0,VLOOKUP($A527,'Last Document Status-HOMA'!$C:$Y,MATCH(K$9,'Last Document Status-HOMA'!$1:$1,0)-2,0),0)","v":0},{"$f":"IF($A527>0,VLOOKUP($A527,'Last Document Status-HOMA'!$C:$Y,MATCH(L$9,'Last Document Status-HOMA'!$1:$1,0)-2,0),0)","v":0},{"$f":"IF($A527>0,VLOOKUP($A527,'Last Document Status-HOMA'!$C:$Y,MATCH(M$9,'Last Document Status-HOMA'!$1:$1,0)-2,0),0)","v":"00:00:00"},{"$f":"IF($A527>0,VLOOKUP($A527,'Last Document Status-HOMA'!$C:$Y,MATCH(\"Outgoing Date\",'Last Document Status-HOMA'!$1:$1,0)-2,0),0)","v":"00:00:00"},{"$f":"IF($A527>0,VLOOKUP($A527,'Last Document Status-HOMA'!$C:$Y,MATCH(O$9,'Last Document Status-HOMA'!$1:$1,0)-2,0),0)","v":0}]
[null,null,null,null,null,{"$f":"IFERROR((VLOOKUP(#REF!,'5-PMS'!$F$14:$N$192,6,FALSE)),\"\")","v":""},null,null,null,null,{"$f":"IF($A528>0,VLOOKUP($A528,'Last Document Status-HOMA'!$C:$Y,MATCH(K$9,'Last Document Status-HOMA'!$1:$1,0)-2,0),0)","v":0},{"$f":"IF($A528>0,VLOOKUP($A528,'Last Document Status-HOMA'!$C:$Y,MATCH(L$9,'Last Document Status-HOMA'!$1:$1,0)-2,0),0)","v":0},{"$f":"IF($A528>0,VLOOKUP($A528,'Last Document Status-HOMA'!$C:$Y,MATCH(M$9,'Last Document Status-HOMA'!$1:$1,0)-2,0),0)","v":"00:00:00"},{"$f":"IF($A528>0,VLOOKUP($A528,'Last Document Status-HOMA'!$C:$Y,MATCH(\"Outgoing Date\",'Last Document Status-HOMA'!$1:$1,0)-2,0),0)","v":"00:00:00"},{"$f":"IF($A528>0,VLOOKUP($A528,'Last Document Status-HOMA'!$C:$Y,MATCH(O$9,'Last Document Status-HOMA'!$1:$1,0)-2,0),0)","v":0}]
[null,null,null,null,null,{"$f":"IFERROR((VLOOKUP(#REF!,'5-PMS'!$F$14:$N$192,6,FALSE)),\"\")","v":""},null,null,null,null,{"$f":"IF($A529>0,VLOOKUP($A529,'Last Document Status-HOMA'!$C:$Y,MATCH(K$9,'Last Document Status-HOMA'!$1:$1,0)-2,0),0)","v":0},{"$f":"IF($A529>0,VLOOKUP($A529,'Last Document Status-HOMA'!$C:$Y,MATCH(L$9,'Last Document Status-HOMA'!$1:$1,0)-2,0),0)","v":0},{"$f":"IF($A529>0,VLOOKUP($A529,'Last Document Status-HOMA'!$C:$Y,MATCH(M$9,'Last Document Status-HOMA'!$1:$1,0)-2,0),0)","v":"00:00:00"},{"$f":"IF($A529>0,VLOOKUP($A529,'Last Document Status-HOMA'!$C:$Y,MATCH(\"Outgoing Date\",'Last Document Status-HOMA'!$1:$1,0)-2,0),0)","v":"00:00:00"},{"$f":"IF($A529>0,VLOOKUP($A529,'Last Document Status-HOMA'!$C:$Y,MATCH(O$9,'Last Document Status-HOMA'!$1:$1,0)-2,0),0)","v":0}]
[null,null,null,null,null,{"$f":"IFERROR((VLOOKUP(#REF!,'5-PMS'!$F$14:$N$192,6,FALSE)),\"\")","v":""},null,null,null,null,{"$f":"IF($A530>0,VLOOKUP($A530,'Last Document Status-HOMA'!$C:$Y,MATCH(K$9,'Last Document Status-HOMA'!$1:$1,0)-2,0),0)","v":0},{"$f":"IF($A530>0,VLOOKUP($A530,'Last Document Status-HOMA'!$C:$Y,MATCH(L$9,'Last Document Status-HOMA'!$1:$1,0)-2,0),0)","v":0},{"$f":"IF($A530>0,VLOOKUP($A530,'Last Document Status-HOMA'!$C:$Y,MATCH(M$9,'Last Document Status-HOMA'!$1:$1,0)-2,0),0)","v":"00:00:00"},{"$f":"IF($A530>0,VLOOKUP($A530,'Last Document Status-HOMA'!$C:$Y,MATCH(\"Outgoing Date\",'Last Document Status-HOMA'!$1:$1,0)-2,0),0)","v":"00:00:00"},{"$f":"IF($A530>0,VLOOKUP($A530,'Last Document Status-HOMA'!$C:$Y,MATCH(O$9,'Last Document Status-HOMA'!$1:$1,0)-2,0),0)","v":0}]
[null,null,null,null,null,{"$f":"IFERROR((VLOOKUP(#REF!,'5-PMS'!$F$14:$N$192,6,FALSE)),\"\")","v":""},null,null,null,null,{"$f":"IF($A531>0,VLOOKUP($A531,'Last Document Status-HOMA'!$C:$Y,MATCH(K$9,'Last Document Status-HOMA'!$1:$1,0)-2,0),0)","v":0},{"$f":"IF($A531>0,VLOOKUP($A531,'Last Document Status-HOMA'!$C:$Y,MATCH(L$9,'Last Document Status-HOMA'!$1:$1,0)-2,0),0)","v":0},{"$f":"IF($A531>0,VLOOKUP($A531,'Last Document Status-HOMA'!$C:$Y,MATCH(M$9,'Last Document Status-HOMA'!$1:$1,0)-2,0),0)","v":"00:00:00"},{"$f":"IF($A531>0,VLOOKUP($A531,'Last Document Status-HOMA'!$C:$Y,MATCH(\"Outgoing Date\",'Last Document Status-HOMA'!$1:$1,0)-2,0),0)","v":"00:00:00"},{"$f":"IF($A531>0,VLOOKUP($A531,'Last Document Status-HOMA'!$C:$Y,MATCH(O$9,'Last Document Status-HOMA'!$1:$1,0)-2,0),0)","v":0}]
[null,null,null,null,null,{"$f":"IFERROR((VLOOKUP(#REF!,'5-PMS'!$F$14:$N$192,6,FALSE)),\"\")","v":""},null,null,null,null,{"$f":"IF($A532>0,VLOOKUP($A532,'Last Document Status-HOMA'!$C:$Y,MATCH(K$9,'Last Document Status-HOMA'!$1:$1,0)-2,0),0)","v":0},{"$f":"IF($A532>0,VLOOKUP($A532,'Last Document Status-HOMA'!$C:$Y,MATCH(L$9,'Last Document Status-HOMA'!$1:$1,0)-2,0),0)","v":0},{"$f":"IF($A532>0,VLOOKUP($A532,'Last Document Status-HOMA'!$C:$Y,MATCH(M$9,'Last Document Status-HOMA'!$1:$1,0)-2,0),0)","v":"00:00:00"},{"$f":"IF($A532>0,VLOOKUP($A532,'Last Document Status-HOMA'!$C:$Y,MATCH(\"Outgoing Date\",'Last Document Status-HOMA'!$1:$1,0)-2,0),0)","v":"00:00:00"},{"$f":"IF($A532>0,VLOOKUP($A532,'Last Document Status-HOMA'!$C:$Y,MATCH(O$9,'Last Document Status-HOMA'!$1:$1,0)-2,0),0)","v":0}]
[null,null,null,null,null,{"$f":"IFERROR((VLOOKUP(#REF!,'5-PMS'!$F$14:$N$192,6,FALSE)),\"\")","v":""},null,null,null,null,{"$f":"IF($A533>0,VLOOKUP($A533,'Last Document Status-HOMA'!$C:$Y,MATCH(K$9,'Last Document Status-HOMA'!$1:$1,0)-2,0),0)","v":0},{"$f":"IF($A533>0,VLOOKUP($A533,'Last Document Status-HOMA'!$C:$Y,MATCH(L$9,'Last Document Status-HOMA'!$1:$1,0)-2,0),0)","v":0},{"$f":"IF($A533>0,VLOOKUP($A533,'Last Document Status-HOMA'!$C:$Y,MATCH(M$9,'Last Document Status-HOMA'!$1:$1,0)-2,0),0)","v":"00:00:00"},{"$f":"IF($A533>0,VLOOKUP($A533,'Last Document Status-HOMA'!$C:$Y,MATCH(\"Outgoing Date\",'Last Document Status-HOMA'!$1:$1,0)-2,0),0)","v":"00:00:00"},{"$f":"IF($A533>0,VLOOKUP($A533,'Last Document Status-HOMA'!$C:$Y,MATCH(O$9,'Last Document Status-HOMA'!$1:$1,0)-2,0),0)","v":0}]
[null,null,null,null,null,{"$f":"IFERROR((VLOOKUP(#REF!,'5-PMS'!$F$14:$N$192,6,FALSE)),\"\")","v":""},null,null,null,null,{"$f":"IF($A534>0,VLOOKUP($A534,'Last Document Status-HOMA'!$C:$Y,MATCH(K$9,'Last Document Status-HOMA'!$1:$1,0)-2,0),0)","v":0},{"$f":"IF($A534>0,VLOOKUP($A534,'Last Document Status-HOMA'!$C:$Y,MATCH(L$9,'Last Document Status-HOMA'!$1:$1,0)-2,0),0)","v":0},{"$f":"IF($A534>0,VLOOKUP($A534,'Last Document Status-HOMA'!$C:$Y,MATCH(M$9,'Last Document Status-HOMA'!$1:$1,0)-2,0),0)","v":"00:00:00"},{"$f":"IF($A534>0,VLOOKUP($A534,'Last Document Status-HOMA'!$C:$Y,MATCH(\"Outgoing Date\",'Last Document Status-HOMA'!$1:$1,0)-2,0),0)","v":"00:00:00"},{"$f":"IF($A534>0,VLOOKUP($A534,'Last Document Status-HOMA'!$C:$Y,MATCH(O$9,'Last Document Status-HOMA'!$1:$1,0)-2,0),0)","v":0}]
[null,null,null,null,null,{"$f":"IFERROR((VLOOKUP(#REF!,'5-PMS'!$F$14:$N$192,6,FALSE)),\"\")","v":""},null,null,null,null,{"$f":"IF($A535>0,VLOOKUP($A535,'Last Document Status-HOMA'!$C:$Y,MATCH(K$9,'Last Document Status-HOMA'!$1:$1,0)-2,0),0)","v":0},{"$f":"IF($A535>0,VLOOKUP($A535,'Last Document Status-HOMA'!$C:$Y,MATCH(L$9,'Last Document Status-HOMA'!$1:$1,0)-2,0),0)","v":0},{"$f":"IF($A535>0,VLOOKUP($A535,'Last Document Status-HOMA'!$C:$Y,MATCH(M$9,'Last Document Status-HOMA'!$1:$1,0)-2,0),0)","v":"00:00:00"},{"$f":"IF($A535>0,VLOOKUP($A535,'Last Document Status-HOMA'!$C:$Y,MATCH(\"Outgoing Date\",'Last Document Status-HOMA'!$1:$1,0)-2,0),0)","v":"00:00:00"},{"$f":"IF($A535>0,VLOOKUP($A535,'Last Document Status-HOMA'!$C:$Y,MATCH(O$9,'Last Document Status-HOMA'!$1:$1,0)-2,0),0)","v":0}]
[null,null,null,null,null,{"$f":"IFERROR((VLOOKUP(#REF!,'5-PMS'!$F$14:$N$192,6,FALSE)),\"\")","v":""},null,null,null,null,{"$f":"IF($A536>0,VLOOKUP($A536,'Last Document Status-HOMA'!$C:$Y,MATCH(K$9,'Last Document Status-HOMA'!$1:$1,0)-2,0),0)","v":0},{"$f":"IF($A536>0,VLOOKUP($A536,'Last Document Status-HOMA'!$C:$Y,MATCH(L$9,'Last Document Status-HOMA'!$1:$1,0)-2,0),0)","v":0},{"$f":"IF($A536>0,VLOOKUP($A536,'Last Document Status-HOMA'!$C:$Y,MATCH(M$9,'Last Document Status-HOMA'!$1:$1,0)-2,0),0)","v":"00:00:00"},{"$f":"IF($A536>0,VLOOKUP($A536,'Last Document Status-HOMA'!$C:$Y,MATCH(\"Outgoing Date\",'Last Document Status-HOMA'!$1:$1,0)-2,0),0)","v":"00:00:00"},{"$f":"IF($A536>0,VLOOKUP($A536,'Last Document Status-HOMA'!$C:$Y,MATCH(O$9,'Last Document Status-HOMA'!$1:$1,0)-2,0),0)","v":0}]
[null,null,null,null,null,{"$f":"IFERROR((VLOOKUP(#REF!,'5-PMS'!$F$14:$N$192,6,FALSE)),\"\")","v":""},null,null,null,null,{"$f":"IF($A537>0,VLOOKUP($A537,'Last Document Status-HOMA'!$C:$Y,MATCH(K$9,'Last Document Status-HOMA'!$1:$1,0)-2,0),0)","v":0},{"$f":"IF($A537>0,VLOOKUP($A537,'Last Document Status-HOMA'!$C:$Y,MATCH(L$9,'Last Document Status-HOMA'!$1:$1,0)-2,0),0)","v":0},{"$f":"IF($A537>0,VLOOKUP($A537,'Last Document Status-HOMA'!$C:$Y,MATCH(M$9,'Last Document Status-HOMA'!$1:$1,0)-2,0),0)","v":"00:00:00"},{"$f":"IF($A537>0,VLOOKUP($A537,'Last Document Status-HOMA'!$C:$Y,MATCH(\"Outgoing Date\",'Last Document Status-HOMA'!$1:$1,0)-2,0),0)","v":"00:00:00"},{"$f":"IF($A537>0,VLOOKUP($A537,'Last Document Status-HOMA'!$C:$Y,MATCH(O$9,'Last Document Status-HOMA'!$1:$1,0)-2,0),0)","v":0}]
[null,null,null,null,null,{"$f":"IFERROR((VLOOKUP(#REF!,'5-PMS'!$F$14:$N$192,6,FALSE)),\"\")","v":""},null,null,null,null,{"$f":"IF($A538>0,VLOOKUP($A538,'Last Document Status-HOMA'!$C:$Y,MATCH(K$9,'Last Document Status-HOMA'!$1:$1,0)-2,0),0)","v":0},{"$f":"IF($A538>0,VLOOKUP($A538,'Last Document Status-HOMA'!$C:$Y,MATCH(L$9,'Last Document Status-HOMA'!$1:$1,0)-2,0),0)","v":0},{"$f":"IF($A538>0,VLOOKUP($A538,'Last Document Status-HOMA'!$C:$Y,MATCH(M$9,'Last Document Status-HOMA'!$1:$1,0)-2,0),0)","v":"00:00:00"},{"$f":"IF($A538>0,VLOOKUP($A538,'Last Document Status-HOMA'!$C:$Y,MATCH(\"Outgoing Date\",'Last Document Status-HOMA'!$1:$1,0)-2,0),0)","v":"00:00:00"},{"$f":"IF($A538>0,VLOOKUP($A538,'Last Document Status-HOMA'!$C:$Y,MATCH(O$9,'Last Document Status-HOMA'!$1:$1,0)-2,0),0)","v":0}]
[null,null,null,null,null,{"$f":"IFERROR((VLOOKUP(#REF!,'5-PMS'!$F$14:$N$192,6,FALSE)),\"\")","v":""},null,null,null,null,{"$f":"IF($A539>0,VLOOKUP($A539,'Last Document Status-HOMA'!$C:$Y,MATCH(K$9,'Last Document Status-HOMA'!$1:$1,0)-2,0),0)","v":0},{"$f":"IF($A539>0,VLOOKUP($A539,'Last Document Status-HOMA'!$C:$Y,MATCH(L$9,'Last Document Status-HOMA'!$1:$1,0)-2,0),0)","v":0},{"$f":"IF($A539>0,VLOOKUP($A539,'Last Document Status-HOMA'!$C:$Y,MATCH(M$9,'Last Document Status-HOMA'!$1:$1,0)-2,0),0)","v":"00:00:00"},{"$f":"IF($A539>0,VLOOKUP($A539,'Last Document Status-HOMA'!$C:$Y,MATCH(\"Outgoing Date\",'Last Document Status-HOMA'!$1:$1,0)-2,0),0)","v":"00:00:00"},{"$f":"IF($A539>0,VLOOKUP($A539,'Last Document Status-HOMA'!$C:$Y,MATCH(O$9,'Last Document Status-HOMA'!$1:$1,0)-2,0),0)","v":0}]
[null,null,null,null,null,{"$f":"IFERROR((VLOOKUP(#REF!,'5-PMS'!$F$14:$N$192,6,FALSE)),\"\")","v":""},null,null,null,null,{"$f":"IF($A540>0,VLOOKUP($A540,'Last Document Status-HOMA'!$C:$Y,MATCH(K$9,'Last Document Status-HOMA'!$1:$1,0)-2,0),0)","v":0},{"$f":"IF($A540>0,VLOOKUP($A540,'Last Document Status-HOMA'!$C:$Y,MATCH(L$9,'Last Document Status-HOMA'!$1:$1,0)-2,0),0)","v":0},{"$f":"IF($A540>0,VLOOKUP($A540,'Last Document Status-HOMA'!$C:$Y,MATCH(M$9,'Last Document Status-HOMA'!$1:$1,0)-2,0),0)","v":"00:00:00"},{"$f":"IF($A540>0,VLOOKUP($A540,'Last Document Status-HOMA'!$C:$Y,MATCH(\"Outgoing Date\",'Last Document Status-HOMA'!$1:$1,0)-2,0),0)","v":"00:00:00"},{"$f":"IF($A540>0,VLOOKUP($A540,'Last Document Status-HOMA'!$C:$Y,MATCH(O$9,'Last Document Status-HOMA'!$1:$1,0)-2,0),0)","v":0}]
[null,null,null,null,null,{"$f":"IFERROR((VLOOKUP(#REF!,'5-PMS'!$F$14:$N$192,6,FALSE)),\"\")","v":""},null,null,null,null,{"$f":"IF($A541>0,VLOOKUP($A541,'Last Document Status-HOMA'!$C:$Y,MATCH(K$9,'Last Document Status-HOMA'!$1:$1,0)-2,0),0)","v":0},{"$f":"IF($A541>0,VLOOKUP($A541,'Last Document Status-HOMA'!$C:$Y,MATCH(L$9,'Last Document Status-HOMA'!$1:$1,0)-2,0),0)","v":0},{"$f":"IF($A541>0,VLOOKUP($A541,'Last Document Status-HOMA'!$C:$Y,MATCH(M$9,'Last Document Status-HOMA'!$1:$1,0)-2,0),0)","v":"00:00:00"},{"$f":"IF($A541>0,VLOOKUP($A541,'Last Document Status-HOMA'!$C:$Y,MATCH(\"Outgoing Date\",'Last Document Status-HOMA'!$1:$1,0)-2,0),0)","v":"00:00:00"},{"$f":"IF($A541>0,VLOOKUP($A541,'Last Document Status-HOMA'!$C:$Y,MATCH(O$9,'Last Document Status-HOMA'!$1:$1,0)-2,0),0)","v":0}]
[null,null,null,null,null,{"$f":"IFERROR((VLOOKUP(#REF!,'5-PMS'!$F$14:$N$192,6,FALSE)),\"\")","v":""},null,null,null,null,{"$f":"IF($A542>0,VLOOKUP($A542,'Last Document Status-HOMA'!$C:$Y,MATCH(K$9,'Last Document Status-HOMA'!$1:$1,0)-2,0),0)","v":0},{"$f":"IF($A542>0,VLOOKUP($A542,'Last Document Status-HOMA'!$C:$Y,MATCH(L$9,'Last Document Status-HOMA'!$1:$1,0)-2,0),0)","v":0},{"$f":"IF($A542>0,VLOOKUP($A542,'Last Document Status-HOMA'!$C:$Y,MATCH(M$9,'Last Document Status-HOMA'!$1:$1,0)-2,0),0)","v":"00:00:00"},{"$f":"IF($A542>0,VLOOKUP($A542,'Last Document Status-HOMA'!$C:$Y,MATCH(\"Outgoing Date\",'Last Document Status-HOMA'!$1:$1,0)-2,0),0)","v":"00:00:00"},{"$f":"IF($A542>0,VLOOKUP($A542,'Last Document Status-HOMA'!$C:$Y,MATCH(O$9,'Last Document Status-HOMA'!$1:$1,0)-2,0),0)","v":0}]
[null,null,null,null,null,{"$f":"IFERROR((VLOOKUP(#REF!,'5-PMS'!$F$14:$N$192,6,FALSE)),\"\")","v":""},null,null,null,null,{"$f":"IF($A543>0,VLOOKUP($A543,'Last Document Status-HOMA'!$C:$Y,MATCH(K$9,'Last Document Status-HOMA'!$1:$1,0)-2,0),0)","v":0},{"$f":"IF($A543>0,VLOOKUP($A543,'Last Document Status-HOMA'!$C:$Y,MATCH(L$9,'Last Document Status-HOMA'!$1:$1,0)-2,0),0)","v":0},{"$f":"IF($A543>0,VLOOKUP($A543,'Last Document Status-HOMA'!$C:$Y,MATCH(M$9,'Last Document Status-HOMA'!$1:$1,0)-2,0),0)","v":"00:00:00"},{"$f":"IF($A543>0,VLOOKUP($A543,'Last Document Status-HOMA'!$C:$Y,MATCH(\"Outgoing Date\",'Last Document Status-HOMA'!$1:$1,0)-2,0),0)","v":"00:00:00"},{"$f":"IF($A543>0,VLOOKUP($A543,'Last Document Status-HOMA'!$C:$Y,MATCH(O$9,'Last Document Status-HOMA'!$1:$1,0)-2,0),0)","v":0}]
[null,null,null,null,null,{"$f":"IFERROR((VLOOKUP(#REF!,'5-PMS'!$F$14:$N$192,6,FALSE)),\"\")","v":""},null,null,null,null,{"$f":"IF($A544>0,VLOOKUP($A544,'Last Document Status-HOMA'!$C:$Y,MATCH(K$9,'Last Document Status-HOMA'!$1:$1,0)-2,0),0)","v":0},{"$f":"IF($A544>0,VLOOKUP($A544,'Last Document Status-HOMA'!$C:$Y,MATCH(L$9,'Last Document Status-HOMA'!$1:$1,0)-2,0),0)","v":0},{"$f":"IF($A544>0,VLOOKUP($A544,'Last Document Status-HOMA'!$C:$Y,MATCH(M$9,'Last Document Status-HOMA'!$1:$1,0)-2,0),0)","v":"00:00:00"},{"$f":"IF($A544>0,VLOOKUP($A544,'Last Document Status-HOMA'!$C:$Y,MATCH(\"Outgoing Date\",'Last Document Status-HOMA'!$1:$1,0)-2,0),0)","v":"00:00:00"},{"$f":"IF($A544>0,VLOOKUP($A544,'Last Document Status-HOMA'!$C:$Y,MATCH(O$9,'Last Document Status-HOMA'!$1:$1,0)-2,0),0)","v":0}]
[null,null,null,null,null,{"$f":"IFERROR((VLOOKUP(#REF!,'5-PMS'!$F$14:$N$192,6,FALSE)),\"\")","v":""},null,null,null,null,{"$f":"IF($A545>0,VLOOKUP($A545,'Last Document Status-HOMA'!$C:$Y,MATCH(K$9,'Last Document Status-HOMA'!$1:$1,0)-2,0),0)","v":0},{"$f":"IF($A545>0,VLOOKUP($A545,'Last Document Status-HOMA'!$C:$Y,MATCH(L$9,'Last Document Status-HOMA'!$1:$1,0)-2,0),0)","v":0},{"$f":"IF($A545>0,VLOOKUP($A545,'Last Document Status-HOMA'!$C:$Y,MATCH(M$9,'Last Document Status-HOMA'!$1:$1,0)-2,0),0)","v":"00:00:00"},{"$f":"IF($A545>0,VLOOKUP($A545,'Last Document Status-HOMA'!$C:$Y,MATCH(\"Outgoing Date\",'Last Document Status-HOMA'!$1:$1,0)-2,0),0)","v":"00:00:00"},{"$f":"IF($A545>0,VLOOKUP($A545,'Last Document Status-HOMA'!$C:$Y,MATCH(O$9,'Last Document Status-HOMA'!$1:$1,0)-2,0),0)","v":0}]
[null,null,null,null,null,{"$f":"IFERROR((VLOOKUP(#REF!,'5-PMS'!$F$14:$N$192,6,FALSE)),\"\")","v":""},null,null,null,null,{"$f":"IF($A546>0,VLOOKUP($A546,'Last Document Status-HOMA'!$C:$Y,MATCH(K$9,'Last Document Status-HOMA'!$1:$1,0)-2,0),0)","v":0},{"$f":"IF($A546>0,VLOOKUP($A546,'Last Document Status-HOMA'!$C:$Y,MATCH(L$9,'Last Document Status-HOMA'!$1:$1,0)-2,0),0)","v":0},{"$f":"IF($A546>0,VLOOKUP($A546,'Last Document Status-HOMA'!$C:$Y,MATCH(M$9,'Last Document Status-HOMA'!$1:$1,0)-2,0),0)","v":"00:00:00"},{"$f":"IF($A546>0,VLOOKUP($A546,'Last Document Status-HOMA'!$C:$Y,MATCH(\"Outgoing Date\",'Last Document Status-HOMA'!$1:$1,0)-2,0),0)","v":"00:00:00"},{"$f":"IF($A546>0,VLOOKUP($A546,'Last Document Status-HOMA'!$C:$Y,MATCH(O$9,'Last Document Status-HOMA'!$1:$1,0)-2,0),0)","v":0}]
[null,null,null,null,null,{"$f":"IFERROR((VLOOKUP(#REF!,'5-PMS'!$F$14:$N$192,6,FALSE)),\"\")","v":""},null,null,null,null,{"$f":"IF($A547>0,VLOOKUP($A547,'Last Document Status-HOMA'!$C:$Y,MATCH(K$9,'Last Document Status-HOMA'!$1:$1,0)-2,0),0)","v":0},{"$f":"IF($A547>0,VLOOKUP($A547,'Last Document Status-HOMA'!$C:$Y,MATCH(L$9,'Last Document Status-HOMA'!$1:$1,0)-2,0),0)","v":0},{"$f":"IF($A547>0,VLOOKUP($A547,'Last Document Status-HOMA'!$C:$Y,MATCH(M$9,'Last Document Status-HOMA'!$1:$1,0)-2,0),0)","v":"00:00:00"},{"$f":"IF($A547>0,VLOOKUP($A547,'Last Document Status-HOMA'!$C:$Y,MATCH(\"Outgoing Date\",'Last Document Status-HOMA'!$1:$1,0)-2,0),0)","v":"00:00:00"},{"$f":"IF($A547>0,VLOOKUP($A547,'Last Document Status-HOMA'!$C:$Y,MATCH(O$9,'Last Document Status-HOMA'!$1:$1,0)-2,0),0)","v":0}]
[null,null,null,null,null,{"$f":"IFERROR((VLOOKUP(#REF!,'5-PMS'!$F$14:$N$192,6,FALSE)),\"\")","v":""},null,null,null,null,{"$f":"IF($A548>0,VLOOKUP($A548,'Last Document Status-HOMA'!$C:$Y,MATCH(K$9,'Last Document Status-HOMA'!$1:$1,0)-2,0),0)","v":0},{"$f":"IF($A548>0,VLOOKUP($A548,'Last Document Status-HOMA'!$C:$Y,MATCH(L$9,'Last Document Status-HOMA'!$1:$1,0)-2,0),0)","v":0},{"$f":"IF($A548>0,VLOOKUP($A548,'Last Document Status-HOMA'!$C:$Y,MATCH(M$9,'Last Document Status-HOMA'!$1:$1,0)-2,0),0)","v":"00:00:00"},{"$f":"IF($A548>0,VLOOKUP($A548,'Last Document Status-HOMA'!$C:$Y,MATCH(\"Outgoing Date\",'Last Document Status-HOMA'!$1:$1,0)-2,0),0)","v":"00:00:00"},{"$f":"IF($A548>0,VLOOKUP($A548,'Last Document Status-HOMA'!$C:$Y,MATCH(O$9,'Last Document Status-HOMA'!$1:$1,0)-2,0),0)","v":0}]
[null,null,null,null,null,{"$f":"IFERROR((VLOOKUP(#REF!,'5-PMS'!$F$14:$N$192,6,FALSE)),\"\")","v":""},null,null,null,null,{"$f":"IF($A549>0,VLOOKUP($A549,'Last Document Status-HOMA'!$C:$Y,MATCH(K$9,'Last Document Status-HOMA'!$1:$1,0)-2,0),0)","v":0},{"$f":"IF($A549>0,VLOOKUP($A549,'Last Document Status-HOMA'!$C:$Y,MATCH(L$9,'Last Document Status-HOMA'!$1:$1,0)-2,0),0)","v":0},{"$f":"IF($A549>0,VLOOKUP($A549,'Last Document Status-HOMA'!$C:$Y,MATCH(M$9,'Last Document Status-HOMA'!$1:$1,0)-2,0),0)","v":"00:00:00"},{"$f":"IF($A549>0,VLOOKUP($A549,'Last Document Status-HOMA'!$C:$Y,MATCH(\"Outgoing Date\",'Last Document Status-HOMA'!$1:$1,0)-2,0),0)","v":"00:00:00"},{"$f":"IF($A549>0,VLOOKUP($A549,'Last Document Status-HOMA'!$C:$Y,MATCH(O$9,'Last Document Status-HOMA'!$1:$1,0)-2,0),0)","v":0}]
[null,null,null,null,null,{"$f":"IFERROR((VLOOKUP(#REF!,'5-PMS'!$F$14:$N$192,6,FALSE)),\"\")","v":""},null,null,null,null,{"$f":"IF($A550>0,VLOOKUP($A550,'Last Document Status-HOMA'!$C:$Y,MATCH(K$9,'Last Document Status-HOMA'!$1:$1,0)-2,0),0)","v":0},{"$f":"IF($A550>0,VLOOKUP($A550,'Last Document Status-HOMA'!$C:$Y,MATCH(L$9,'Last Document Status-HOMA'!$1:$1,0)-2,0),0)","v":0},{"$f":"IF($A550>0,VLOOKUP($A550,'Last Document Status-HOMA'!$C:$Y,MATCH(M$9,'Last Document Status-HOMA'!$1:$1,0)-2,0),0)","v":"00:00:00"},{"$f":"IF($A550>0,VLOOKUP($A550,'Last Document Status-HOMA'!$C:$Y,MATCH(\"Outgoing Date\",'Last Document Status-HOMA'!$1:$1,0)-2,0),0)","v":"00:00:00"},{"$f":"IF($A550>0,VLOOKUP($A550,'Last Document Status-HOMA'!$C:$Y,MATCH(O$9,'Last Document Status-HOMA'!$1:$1,0)-2,0),0)","v":0}]
[null,null,null,null,null,{"$f":"IFERROR((VLOOKUP(#REF!,'5-PMS'!$F$14:$N$192,6,FALSE)),\"\")","v":""},null,null,null,null,{"$f":"IF($A551>0,VLOOKUP($A551,'Last Document Status-HOMA'!$C:$Y,MATCH(K$9,'Last Document Status-HOMA'!$1:$1,0)-2,0),0)","v":0},{"$f":"IF($A551>0,VLOOKUP($A551,'Last Document Status-HOMA'!$C:$Y,MATCH(L$9,'Last Document Status-HOMA'!$1:$1,0)-2,0),0)","v":0},{"$f":"IF($A551>0,VLOOKUP($A551,'Last Document Status-HOMA'!$C:$Y,MATCH(M$9,'Last Document Status-HOMA'!$1:$1,0)-2,0),0)","v":"00:00:00"},{"$f":"IF($A551>0,VLOOKUP($A551,'Last Document Status-HOMA'!$C:$Y,MATCH(\"Outgoing Date\",'Last Document Status-HOMA'!$1:$1,0)-2,0),0)","v":"00:00:00"},{"$f":"IF($A551>0,VLOOKUP($A551,'Last Document Status-HOMA'!$C:$Y,MATCH(O$9,'Last Document Status-HOMA'!$1:$1,0)-2,0),0)","v":0}]
[null,null,null,null,null,{"$f":"IFERROR((VLOOKUP(#REF!,'5-PMS'!$F$14:$N$192,6,FALSE)),\"\")","v":""},null,null,null,null,{"$f":"IF($A552>0,VLOOKUP($A552,'Last Document Status-HOMA'!$C:$Y,MATCH(K$9,'Last Document Status-HOMA'!$1:$1,0)-2,0),0)","v":0},{"$f":"IF($A552>0,VLOOKUP($A552,'Last Document Status-HOMA'!$C:$Y,MATCH(L$9,'Last Document Status-HOMA'!$1:$1,0)-2,0),0)","v":0},{"$f":"IF($A552>0,VLOOKUP($A552,'Last Document Status-HOMA'!$C:$Y,MATCH(M$9,'Last Document Status-HOMA'!$1:$1,0)-2,0),0)","v":"00:00:00"},{"$f":"IF($A552>0,VLOOKUP($A552,'Last Document Status-HOMA'!$C:$Y,MATCH(\"Outgoing Date\",'Last Document Status-HOMA'!$1:$1,0)-2,0),0)","v":"00:00:00"},{"$f":"IF($A552>0,VLOOKUP($A552,'Last Document Status-HOMA'!$C:$Y,MATCH(O$9,'Last Document Status-HOMA'!$1:$1,0)-2,0),0)","v":0}]
[null,null,null,null,null,{"$f":"IFERROR((VLOOKUP(#REF!,'5-PMS'!$F$14:$N$192,6,FALSE)),\"\")","v":""},null,null,null,null,{"$f":"IF($A553>0,VLOOKUP($A553,'Last Document Status-HOMA'!$C:$Y,MATCH(K$9,'Last Document Status-HOMA'!$1:$1,0)-2,0),0)","v":0},{"$f":"IF($A553>0,VLOOKUP($A553,'Last Document Status-HOMA'!$C:$Y,MATCH(L$9,'Last Document Status-HOMA'!$1:$1,0)-2,0),0)","v":0},{"$f":"IF($A553>0,VLOOKUP($A553,'Last Document Status-HOMA'!$C:$Y,MATCH(M$9,'Last Document Status-HOMA'!$1:$1,0)-2,0),0)","v":"00:00:00"},{"$f":"IF($A553>0,VLOOKUP($A553,'Last Document Status-HOMA'!$C:$Y,MATCH(\"Outgoing Date\",'Last Document Status-HOMA'!$1:$1,0)-2,0),0)","v":"00:00:00"},{"$f":"IF($A553>0,VLOOKUP($A553,'Last Document Status-HOMA'!$C:$Y,MATCH(O$9,'Last Document Status-HOMA'!$1:$1,0)-2,0),0)","v":0}]
[null,null,null,null,null,{"$f":"IFERROR((VLOOKUP(#REF!,'5-PMS'!$F$14:$N$192,6,FALSE)),\"\")","v":""},null,null,null,null,{"$f":"IF($A554>0,VLOOKUP($A554,'Last Document Status-HOMA'!$C:$Y,MATCH(K$9,'Last Document Status-HOMA'!$1:$1,0)-2,0),0)","v":0},{"$f":"IF($A554>0,VLOOKUP($A554,'Last Document Status-HOMA'!$C:$Y,MATCH(L$9,'Last Document Status-HOMA'!$1:$1,0)-2,0),0)","v":0},{"$f":"IF($A554>0,VLOOKUP($A554,'Last Document Status-HOMA'!$C:$Y,MATCH(M$9,'Last Document Status-HOMA'!$1:$1,0)-2,0),0)","v":"00:00:00"},{"$f":"IF($A554>0,VLOOKUP($A554,'Last Document Status-HOMA'!$C:$Y,MATCH(\"Outgoing Date\",'Last Document Status-HOMA'!$1:$1,0)-2,0),0)","v":"00:00:00"},{"$f":"IF($A554>0,VLOOKUP($A554,'Last Document Status-HOMA'!$C:$Y,MATCH(O$9,'Last Document Status-HOMA'!$1:$1,0)-2,0),0)","v":0}]
[null,null,null,null,null,{"$f":"IFERROR((VLOOKUP(#REF!,'5-PMS'!$F$14:$N$192,6,FALSE)),\"\")","v":""},null,null,null,null,{"$f":"IF($A555>0,VLOOKUP($A555,'Last Document Status-HOMA'!$C:$Y,MATCH(K$9,'Last Document Status-HOMA'!$1:$1,0)-2,0),0)","v":0},{"$f":"IF($A555>0,VLOOKUP($A555,'Last Document Status-HOMA'!$C:$Y,MATCH(L$9,'Last Document Status-HOMA'!$1:$1,0)-2,0),0)","v":0},{"$f":"IF($A555>0,VLOOKUP($A555,'Last Document Status-HOMA'!$C:$Y,MATCH(M$9,'Last Document Status-HOMA'!$1:$1,0)-2,0),0)","v":"00:00:00"},{"$f":"IF($A555>0,VLOOKUP($A555,'Last Document Status-HOMA'!$C:$Y,MATCH(\"Outgoing Date\",'Last Document Status-HOMA'!$1:$1,0)-2,0),0)","v":"00:00:00"},{"$f":"IF($A555>0,VLOOKUP($A555,'Last Document Status-HOMA'!$C:$Y,MATCH(O$9,'Last Document Status-HOMA'!$1:$1,0)-2,0),0)","v":0}]
[null,null,null,null,null,{"$f":"IFERROR((VLOOKUP(#REF!,'5-PMS'!$F$14:$N$192,6,FALSE)),\"\")","v":""},null,null,null,null,{"$f":"IF($A556>0,VLOOKUP($A556,'Last Document Status-HOMA'!$C:$Y,MATCH(K$9,'Last Document Status-HOMA'!$1:$1,0)-2,0),0)","v":0},{"$f":"IF($A556>0,VLOOKUP($A556,'Last Document Status-HOMA'!$C:$Y,MATCH(L$9,'Last Document Status-HOMA'!$1:$1,0)-2,0),0)","v":0},{"$f":"IF($A556>0,VLOOKUP($A556,'Last Document Status-HOMA'!$C:$Y,MATCH(M$9,'Last Document Status-HOMA'!$1:$1,0)-2,0),0)","v":"00:00:00"},{"$f":"IF($A556>0,VLOOKUP($A556,'Last Document Status-HOMA'!$C:$Y,MATCH(\"Outgoing Date\",'Last Document Status-HOMA'!$1:$1,0)-2,0),0)","v":"00:00:00"},{"$f":"IF($A556>0,VLOOKUP($A556,'Last Document Status-HOMA'!$C:$Y,MATCH(O$9,'Last Document Status-HOMA'!$1:$1,0)-2,0),0)","v":0}]
[null,null,null,null,null,{"$f":"IFERROR((VLOOKUP(#REF!,'5-PMS'!$F$14:$N$192,6,FALSE)),\"\")","v":""},null,null,null,null,{"$f":"IF($A557>0,VLOOKUP($A557,'Last Document Status-HOMA'!$C:$Y,MATCH(K$9,'Last Document Status-HOMA'!$1:$1,0)-2,0),0)","v":0},{"$f":"IF($A557>0,VLOOKUP($A557,'Last Document Status-HOMA'!$C:$Y,MATCH(L$9,'Last Document Status-HOMA'!$1:$1,0)-2,0),0)","v":0},{"$f":"IF($A557>0,VLOOKUP($A557,'Last Document Status-HOMA'!$C:$Y,MATCH(M$9,'Last Document Status-HOMA'!$1:$1,0)-2,0),0)","v":"00:00:00"},{"$f":"IF($A557>0,VLOOKUP($A557,'Last Document Status-HOMA'!$C:$Y,MATCH(\"Outgoing Date\",'Last Document Status-HOMA'!$1:$1,0)-2,0),0)","v":"00:00:00"},{"$f":"IF($A557>0,VLOOKUP($A557,'Last Document Status-HOMA'!$C:$Y,MATCH(O$9,'Last Document Status-HOMA'!$1:$1,0)-2,0),0)","v":0}]
[null,null,null,null,null,{"$f":"IFERROR((VLOOKUP(#REF!,'5-PMS'!$F$14:$N$192,6,FALSE)),\"\")","v":""},null,null,null,null,{"$f":"IF($A558>0,VLOOKUP($A558,'Last Document Status-HOMA'!$C:$Y,MATCH(K$9,'Last Document Status-HOMA'!$1:$1,0)-2,0),0)","v":0},{"$f":"IF($A558>0,VLOOKUP($A558,'Last Document Status-HOMA'!$C:$Y,MATCH(L$9,'Last Document Status-HOMA'!$1:$1,0)-2,0),0)","v":0},{"$f":"IF($A558>0,VLOOKUP($A558,'Last Document Status-HOMA'!$C:$Y,MATCH(M$9,'Last Document Status-HOMA'!$1:$1,0)-2,0),0)","v":"00:00:00"},{"$f":"IF($A558>0,VLOOKUP($A558,'Last Document Status-HOMA'!$C:$Y,MATCH(\"Outgoing Date\",'Last Document Status-HOMA'!$1:$1,0)-2,0),0)","v":"00:00:00"},{"$f":"IF($A558>0,VLOOKUP($A558,'Last Document Status-HOMA'!$C:$Y,MATCH(O$9,'Last Document Status-HOMA'!$1:$1,0)-2,0),0)","v":0}]
[null,null,null,null,null,{"$f":"IFERROR((VLOOKUP(#REF!,'5-PMS'!$F$14:$N$192,6,FALSE)),\"\")","v":""},null,null,null,null,{"$f":"IF($A559>0,VLOOKUP($A559,'Last Document Status-HOMA'!$C:$Y,MATCH(K$9,'Last Document Status-HOMA'!$1:$1,0)-2,0),0)","v":0},{"$f":"IF($A559>0,VLOOKUP($A559,'Last Document Status-HOMA'!$C:$Y,MATCH(L$9,'Last Document Status-HOMA'!$1:$1,0)-2,0),0)","v":0},{"$f":"IF($A559>0,VLOOKUP($A559,'Last Document Status-HOMA'!$C:$Y,MATCH(M$9,'Last Document Status-HOMA'!$1:$1,0)-2,0),0)","v":"00:00:00"},{"$f":"IF($A559>0,VLOOKUP($A559,'Last Document Status-HOMA'!$C:$Y,MATCH(\"Outgoing Date\",'Last Document Status-HOMA'!$1:$1,0)-2,0),0)","v":"00:00:00"},{"$f":"IF($A559>0,VLOOKUP($A559,'Last Document Status-HOMA'!$C:$Y,MATCH(O$9,'Last Document Status-HOMA'!$1:$1,0)-2,0),0)","v":0}]
[null,null,null,null,null,{"$f":"IFERROR((VLOOKUP(#REF!,'5-PMS'!$F$14:$N$192,6,FALSE)),\"\")","v":""},null,null,null,null,{"$f":"IF($A560>0,VLOOKUP($A560,'Last Document Status-HOMA'!$C:$Y,MATCH(K$9,'Last Document Status-HOMA'!$1:$1,0)-2,0),0)","v":0},{"$f":"IF($A560>0,VLOOKUP($A560,'Last Document Status-HOMA'!$C:$Y,MATCH(L$9,'Last Document Status-HOMA'!$1:$1,0)-2,0),0)","v":0},{"$f":"IF($A560>0,VLOOKUP($A560,'Last Document Status-HOMA'!$C:$Y,MATCH(M$9,'Last Document Status-HOMA'!$1:$1,0)-2,0),0)","v":"00:00:00"},{"$f":"IF($A560>0,VLOOKUP($A560,'Last Document Status-HOMA'!$C:$Y,MATCH(\"Outgoing Date\",'Last Document Status-HOMA'!$1:$1,0)-2,0),0)","v":"00:00:00"},{"$f":"IF($A560>0,VLOOKUP($A560,'Last Document Status-HOMA'!$C:$Y,MATCH(O$9,'Last Document Status-HOMA'!$1:$1,0)-2,0),0)","v":0}]
[null,null,null,null,null,{"$f":"IFERROR((VLOOKUP(#REF!,'5-PMS'!$F$14:$N$192,6,FALSE)),\"\")","v":""},null,null,null,null,{"$f":"IF($A561>0,VLOOKUP($A561,'Last Document Status-HOMA'!$C:$Y,MATCH(K$9,'Last Document Status-HOMA'!$1:$1,0)-2,0),0)","v":0},{"$f":"IF($A561>0,VLOOKUP($A561,'Last Document Status-HOMA'!$C:$Y,MATCH(L$9,'Last Document Status-HOMA'!$1:$1,0)-2,0),0)","v":0},{"$f":"IF($A561>0,VLOOKUP($A561,'Last Document Status-HOMA'!$C:$Y,MATCH(M$9,'Last Document Status-HOMA'!$1:$1,0)-2,0),0)","v":"00:00:00"},{"$f":"IF($A561>0,VLOOKUP($A561,'Last Document Status-HOMA'!$C:$Y,MATCH(\"Outgoing Date\",'Last Document Status-HOMA'!$1:$1,0)-2,0),0)","v":"00:00:00"},{"$f":"IF($A561>0,VLOOKUP($A561,'Last Document Status-HOMA'!$C:$Y,MATCH(O$9,'Last Document Status-HOMA'!$1:$1,0)-2,0),0)","v":0}]
[null,null,null,null,null,{"$f":"IFERROR((VLOOKUP(#REF!,'5-PMS'!$F$14:$N$192,6,FALSE)),\"\")","v":""},null,null,null,null,{"$f":"IF($A562>0,VLOOKUP($A562,'Last Document Status-HOMA'!$C:$Y,MATCH(K$9,'Last Document Status-HOMA'!$1:$1,0)-2,0),0)","v":0},{"$f":"IF($A562>0,VLOOKUP($A562,'Last Document Status-HOMA'!$C:$Y,MATCH(L$9,'Last Document Status-HOMA'!$1:$1,0)-2,0),0)","v":0},{"$f":"IF($A562>0,VLOOKUP($A562,'Last Document Status-HOMA'!$C:$Y,MATCH(M$9,'Last Document Status-HOMA'!$1:$1,0)-2,0),0)","v":"00:00:00"},{"$f":"IF($A562>0,VLOOKUP($A562,'Last Document Status-HOMA'!$C:$Y,MATCH(\"Outgoing Date\",'Last Document Status-HOMA'!$1:$1,0)-2,0),0)","v":"00:00:00"},{"$f":"IF($A562>0,VLOOKUP($A562,'Last Document Status-HOMA'!$C:$Y,MATCH(O$9,'Last Document Status-HOMA'!$1:$1,0)-2,0),0)","v":0}]
[null,null,null,null,null,{"$f":"IFERROR((VLOOKUP(#REF!,'5-PMS'!$F$14:$N$192,6,FALSE)),\"\")","v":""},null,null,null,null,{"$f":"IF($A563>0,VLOOKUP($A563,'Last Document Status-HOMA'!$C:$Y,MATCH(K$9,'Last Document Status-HOMA'!$1:$1,0)-2,0),0)","v":0},{"$f":"IF($A563>0,VLOOKUP($A563,'Last Document Status-HOMA'!$C:$Y,MATCH(L$9,'Last Document Status-HOMA'!$1:$1,0)-2,0),0)","v":0},{"$f":"IF($A563>0,VLOOKUP($A563,'Last Document Status-HOMA'!$C:$Y,MATCH(M$9,'Last Document Status-HOMA'!$1:$1,0)-2,0),0)","v":"00:00:00"},{"$f":"IF($A563>0,VLOOKUP($A563,'Last Document Status-HOMA'!$C:$Y,MATCH(\"Outgoing Date\",'Last Document Status-HOMA'!$1:$1,0)-2,0),0)","v":"00:00:00"},{"$f":"IF($A563>0,VLOOKUP($A563,'Last Document Status-HOMA'!$C:$Y,MATCH(O$9,'Last Document Status-HOMA'!$1:$1,0)-2,0),0)","v":0}]
[null,null,null,null,null,{"$f":"IFERROR((VLOOKUP(#REF!,'5-PMS'!$F$14:$N$192,6,FALSE)),\"\")","v":""},null,null,null,null,{"$f":"IF($A564>0,VLOOKUP($A564,'Last Document Status-HOMA'!$C:$Y,MATCH(K$9,'Last Document Status-HOMA'!$1:$1,0)-2,0),0)","v":0},{"$f":"IF($A564>0,VLOOKUP($A564,'Last Document Status-HOMA'!$C:$Y,MATCH(L$9,'Last Document Status-HOMA'!$1:$1,0)-2,0),0)","v":0},{"$f":"IF($A564>0,VLOOKUP($A564,'Last Document Status-HOMA'!$C:$Y,MATCH(M$9,'Last Document Status-HOMA'!$1:$1,0)-2,0),0)","v":"00:00:00"},{"$f":"IF($A564>0,VLOOKUP($A564,'Last Document Status-HOMA'!$C:$Y,MATCH(\"Outgoing Date\",'Last Document Status-HOMA'!$1:$1,0)-2,0),0)","v":"00:00:00"},{"$f":"IF($A564>0,VLOOKUP($A564,'Last Document Status-HOMA'!$C:$Y,MATCH(O$9,'Last Document Status-HOMA'!$1:$1,0)-2,0),0)","v":0}]
[null,null,null,null,null,{"$f":"IFERROR((VLOOKUP(#REF!,'5-PMS'!$F$14:$N$192,6,FALSE)),\"\")","v":""},null,null,null,null,{"$f":"IF($A565>0,VLOOKUP($A565,'Last Document Status-HOMA'!$C:$Y,MATCH(K$9,'Last Document Status-HOMA'!$1:$1,0)-2,0),0)","v":0},{"$f":"IF($A565>0,VLOOKUP($A565,'Last Document Status-HOMA'!$C:$Y,MATCH(L$9,'Last Document Status-HOMA'!$1:$1,0)-2,0),0)","v":0},{"$f":"IF($A565>0,VLOOKUP($A565,'Last Document Status-HOMA'!$C:$Y,MATCH(M$9,'Last Document Status-HOMA'!$1:$1,0)-2,0),0)","v":"00:00:00"},{"$f":"IF($A565>0,VLOOKUP($A565,'Last Document Status-HOMA'!$C:$Y,MATCH(\"Outgoing Date\",'Last Document Status-HOMA'!$1:$1,0)-2,0),0)","v":"00:00:00"},{"$f":"IF($A565>0,VLOOKUP($A565,'Last Document Status-HOMA'!$C:$Y,MATCH(O$9,'Last Document Status-HOMA'!$1:$1,0)-2,0),0)","v":0}]
[null,null,null,null,null,{"$f":"IFERROR((VLOOKUP(#REF!,'5-PMS'!$F$14:$N$192,6,FALSE)),\"\")","v":""},null,null,null,null,{"$f":"IF($A566>0,VLOOKUP($A566,'Last Document Status-HOMA'!$C:$Y,MATCH(K$9,'Last Document Status-HOMA'!$1:$1,0)-2,0),0)","v":0},{"$f":"IF($A566>0,VLOOKUP($A566,'Last Document Status-HOMA'!$C:$Y,MATCH(L$9,'Last Document Status-HOMA'!$1:$1,0)-2,0),0)","v":0},{"$f":"IF($A566>0,VLOOKUP($A566,'Last Document Status-HOMA'!$C:$Y,MATCH(M$9,'Last Document Status-HOMA'!$1:$1,0)-2,0),0)","v":"00:00:00"},{"$f":"IF($A566>0,VLOOKUP($A566,'Last Document Status-HOMA'!$C:$Y,MATCH(\"Outgoing Date\",'Last Document Status-HOMA'!$1:$1,0)-2,0),0)","v":"00:00:00"},{"$f":"IF($A566>0,VLOOKUP($A566,'Last Document Status-HOMA'!$C:$Y,MATCH(O$9,'Last Document Status-HOMA'!$1:$1,0)-2,0),0)","v":0}]
[null,null,null,null,null,{"$f":"IFERROR((VLOOKUP(#REF!,'5-PMS'!$F$14:$N$192,6,FALSE)),\"\")","v":""},null,null,null,null,{"$f":"IF($A567>0,VLOOKUP($A567,'Last Document Status-HOMA'!$C:$Y,MATCH(K$9,'Last Document Status-HOMA'!$1:$1,0)-2,0),0)","v":0},{"$f":"IF($A567>0,VLOOKUP($A567,'Last Document Status-HOMA'!$C:$Y,MATCH(L$9,'Last Document Status-HOMA'!$1:$1,0)-2,0),0)","v":0},{"$f":"IF($A567>0,VLOOKUP($A567,'Last Document Status-HOMA'!$C:$Y,MATCH(M$9,'Last Document Status-HOMA'!$1:$1,0)-2,0),0)","v":"00:00:00"},{"$f":"IF($A567>0,VLOOKUP($A567,'Last Document Status-HOMA'!$C:$Y,MATCH(\"Outgoing Date\",'Last Document Status-HOMA'!$1:$1,0)-2,0),0)","v":"00:00:00"},{"$f":"IF($A567>0,VLOOKUP($A567,'Last Document Status-HOMA'!$C:$Y,MATCH(O$9,'Last Document Status-HOMA'!$1:$1,0)-2,0),0)","v":0}]
[null,null,null,null,null,{"$f":"IFERROR((VLOOKUP(#REF!,'5-PMS'!$F$14:$N$192,6,FALSE)),\"\")","v":""},null,null,null,null,{"$f":"IF($A568>0,VLOOKUP($A568,'Last Document Status-HOMA'!$C:$Y,MATCH(K$9,'Last Document Status-HOMA'!$1:$1,0)-2,0),0)","v":0},{"$f":"IF($A568>0,VLOOKUP($A568,'Last Document Status-HOMA'!$C:$Y,MATCH(L$9,'Last Document Status-HOMA'!$1:$1,0)-2,0),0)","v":0},{"$f":"IF($A568>0,VLOOKUP($A568,'Last Document Status-HOMA'!$C:$Y,MATCH(M$9,'Last Document Status-HOMA'!$1:$1,0)-2,0),0)","v":"00:00:00"},{"$f":"IF($A568>0,VLOOKUP($A568,'Last Document Status-HOMA'!$C:$Y,MATCH(\"Outgoing Date\",'Last Document Status-HOMA'!$1:$1,0)-2,0),0)","v":"00:00:00"},{"$f":"IF($A568>0,VLOOKUP($A568,'Last Document Status-HOMA'!$C:$Y,MATCH(O$9,'Last Document Status-HOMA'!$1:$1,0)-2,0),0)","v":0}]
[null,null,null,null,null,{"$f":"IFERROR((VLOOKUP(#REF!,'5-PMS'!$F$14:$N$192,6,FALSE)),\"\")","v":""},null,null,null,null,{"$f":"IF($A569>0,VLOOKUP($A569,'Last Document Status-HOMA'!$C:$Y,MATCH(K$9,'Last Document Status-HOMA'!$1:$1,0)-2,0),0)","v":0},{"$f":"IF($A569>0,VLOOKUP($A569,'Last Document Status-HOMA'!$C:$Y,MATCH(L$9,'Last Document Status-HOMA'!$1:$1,0)-2,0),0)","v":0},{"$f":"IF($A569>0,VLOOKUP($A569,'Last Document Status-HOMA'!$C:$Y,MATCH(M$9,'Last Document Status-HOMA'!$1:$1,0)-2,0),0)","v":"00:00:00"},{"$f":"IF($A569>0,VLOOKUP($A569,'Last Document Status-HOMA'!$C:$Y,MATCH(\"Outgoing Date\",'Last Document Status-HOMA'!$1:$1,0)-2,0),0)","v":"00:00:00"},{"$f":"IF($A569>0,VLOOKUP($A569,'Last Document Status-HOMA'!$C:$Y,MATCH(O$9,'Last Document Status-HOMA'!$1:$1,0)-2,0),0)","v":0}]
[null,null,null,null,null,{"$f":"IFERROR((VLOOKUP(#REF!,'5-PMS'!$F$14:$N$192,6,FALSE)),\"\")","v":""},null,null,null,null,{"$f":"IF($A570>0,VLOOKUP($A570,'Last Document Status-HOMA'!$C:$Y,MATCH(K$9,'Last Document Status-HOMA'!$1:$1,0)-2,0),0)","v":0},{"$f":"IF($A570>0,VLOOKUP($A570,'Last Document Status-HOMA'!$C:$Y,MATCH(L$9,'Last Document Status-HOMA'!$1:$1,0)-2,0),0)","v":0},{"$f":"IF($A570>0,VLOOKUP($A570,'Last Document Status-HOMA'!$C:$Y,MATCH(M$9,'Last Document Status-HOMA'!$1:$1,0)-2,0),0)","v":"00:00:00"},{"$f":"IF($A570>0,VLOOKUP($A570,'Last Document Status-HOMA'!$C:$Y,MATCH(\"Outgoing Date\",'Last Document Status-HOMA'!$1:$1,0)-2,0),0)","v":"00:00:00"},{"$f":"IF($A570>0,VLOOKUP($A570,'Last Document Status-HOMA'!$C:$Y,MATCH(O$9,'Last Document Status-HOMA'!$1:$1,0)-2,0),0)","v":0}]
[null,null,null,null,null,{"$f":"IFERROR((VLOOKUP(#REF!,'5-PMS'!$F$14:$N$192,6,FALSE)),\"\")","v":""},null,null,null,null,{"$f":"IF($A571>0,VLOOKUP($A571,'Last Document Status-HOMA'!$C:$Y,MATCH(K$9,'Last Document Status-HOMA'!$1:$1,0)-2,0),0)","v":0},{"$f":"IF($A571>0,VLOOKUP($A571,'Last Document Status-HOMA'!$C:$Y,MATCH(L$9,'Last Document Status-HOMA'!$1:$1,0)-2,0),0)","v":0},{"$f":"IF($A571>0,VLOOKUP($A571,'Last Document Status-HOMA'!$C:$Y,MATCH(M$9,'Last Document Status-HOMA'!$1:$1,0)-2,0),0)","v":"00:00:00"},{"$f":"IF($A571>0,VLOOKUP($A571,'Last Document Status-HOMA'!$C:$Y,MATCH(\"Outgoing Date\",'Last Document Status-HOMA'!$1:$1,0)-2,0),0)","v":"00:00:00"},{"$f":"IF($A571>0,VLOOKUP($A571,'Last Document Status-HOMA'!$C:$Y,MATCH(O$9,'Last Document Status-HOMA'!$1:$1,0)-2,0),0)","v":0}]
[null,null,null,null,null,{"$f":"IFERROR((VLOOKUP(#REF!,'5-PMS'!$F$14:$N$192,6,FALSE)),\"\")","v":""},null,null,null,null,{"$f":"IF($A572>0,VLOOKUP($A572,'Last Document Status-HOMA'!$C:$Y,MATCH(K$9,'Last Document Status-HOMA'!$1:$1,0)-2,0),0)","v":0},{"$f":"IF($A572>0,VLOOKUP($A572,'Last Document Status-HOMA'!$C:$Y,MATCH(L$9,'Last Document Status-HOMA'!$1:$1,0)-2,0),0)","v":0},{"$f":"IF($A572>0,VLOOKUP($A572,'Last Document Status-HOMA'!$C:$Y,MATCH(M$9,'Last Document Status-HOMA'!$1:$1,0)-2,0),0)","v":"00:00:00"},{"$f":"IF($A572>0,VLOOKUP($A572,'Last Document Status-HOMA'!$C:$Y,MATCH(\"Outgoing Date\",'Last Document Status-HOMA'!$1:$1,0)-2,0),0)","v":"00:00:00"},{"$f":"IF($A572>0,VLOOKUP($A572,'Last Document Status-HOMA'!$C:$Y,MATCH(O$9,'Last Document Status-HOMA'!$1:$1,0)-2,0),0)","v":0}]
[null,null,null,null,null,{"$f":"IFERROR((VLOOKUP(#REF!,'5-PMS'!$F$14:$N$192,6,FALSE)),\"\")","v":""},null,null,null,null,{"$f":"IF($A573>0,VLOOKUP($A573,'Last Document Status-HOMA'!$C:$Y,MATCH(K$9,'Last Document Status-HOMA'!$1:$1,0)-2,0),0)","v":0},{"$f":"IF($A573>0,VLOOKUP($A573,'Last Document Status-HOMA'!$C:$Y,MATCH(L$9,'Last Document Status-HOMA'!$1:$1,0)-2,0),0)","v":0},{"$f":"IF($A573>0,VLOOKUP($A573,'Last Document Status-HOMA'!$C:$Y,MATCH(M$9,'Last Document Status-HOMA'!$1:$1,0)-2,0),0)","v":"00:00:00"},{"$f":"IF($A573>0,VLOOKUP($A573,'Last Document Status-HOMA'!$C:$Y,MATCH(\"Outgoing Date\",'Last Document Status-HOMA'!$1:$1,0)-2,0),0)","v":"00:00:00"},{"$f":"IF($A573>0,VLOOKUP($A573,'Last Document Status-HOMA'!$C:$Y,MATCH(O$9,'Last Document Status-HOMA'!$1:$1,0)-2,0),0)","v":0}]
[null,null,null,null,null,{"$f":"IFERROR((VLOOKUP(#REF!,'5-PMS'!$F$14:$N$192,6,FALSE)),\"\")","v":""},null,null,null,null,{"$f":"IF($A574>0,VLOOKUP($A574,'Last Document Status-HOMA'!$C:$Y,MATCH(K$9,'Last Document Status-HOMA'!$1:$1,0)-2,0),0)","v":0},{"$f":"IF($A574>0,VLOOKUP($A574,'Last Document Status-HOMA'!$C:$Y,MATCH(L$9,'Last Document Status-HOMA'!$1:$1,0)-2,0),0)","v":0},{"$f":"IF($A574>0,VLOOKUP($A574,'Last Document Status-HOMA'!$C:$Y,MATCH(M$9,'Last Document Status-HOMA'!$1:$1,0)-2,0),0)","v":"00:00:00"},{"$f":"IF($A574>0,VLOOKUP($A574,'Last Document Status-HOMA'!$C:$Y,MATCH(\"Outgoing Date\",'Last Document Status-HOMA'!$1:$1,0)-2,0),0)","v":"00:00:00"},{"$f":"IF($A574>0,VLOOKUP($A574,'Last Document Status-HOMA'!$C:$Y,MATCH(O$9,'Last Document Status-HOMA'!$1:$1,0)-2,0),0)","v":0}]
[null,null,null,null,null,{"$f":"IFERROR((VLOOKUP(#REF!,'5-PMS'!$F$14:$N$192,6,FALSE)),\"\")","v":""},null,null,null,null,{"$f":"IF($A575>0,VLOOKUP($A575,'Last Document Status-HOMA'!$C:$Y,MATCH(K$9,'Last Document Status-HOMA'!$1:$1,0)-2,0),0)","v":0},{"$f":"IF($A575>0,VLOOKUP($A575,'Last Document Status-HOMA'!$C:$Y,MATCH(L$9,'Last Document Status-HOMA'!$1:$1,0)-2,0),0)","v":0},{"$f":"IF($A575>0,VLOOKUP($A575,'Last Document Status-HOMA'!$C:$Y,MATCH(M$9,'Last Document Status-HOMA'!$1:$1,0)-2,0),0)","v":"00:00:00"},{"$f":"IF($A575>0,VLOOKUP($A575,'Last Document Status-HOMA'!$C:$Y,MATCH(\"Outgoing Date\",'Last Document Status-HOMA'!$1:$1,0)-2,0),0)","v":"00:00:00"},{"$f":"IF($A575>0,VLOOKUP($A575,'Last Document Status-HOMA'!$C:$Y,MATCH(O$9,'Last Document Status-HOMA'!$1:$1,0)-2,0),0)","v":0}]
[null,null,null,null,null,{"$f":"IFERROR((VLOOKUP(#REF!,'5-PMS'!$F$14:$N$192,6,FALSE)),\"\")","v":""},null,null,null,null,{"$f":"IF($A576>0,VLOOKUP($A576,'Last Document Status-HOMA'!$C:$Y,MATCH(K$9,'Last Document Status-HOMA'!$1:$1,0)-2,0),0)","v":0},{"$f":"IF($A576>0,VLOOKUP($A576,'Last Document Status-HOMA'!$C:$Y,MATCH(L$9,'Last Document Status-HOMA'!$1:$1,0)-2,0),0)","v":0},{"$f":"IF($A576>0,VLOOKUP($A576,'Last Document Status-HOMA'!$C:$Y,MATCH(M$9,'Last Document Status-HOMA'!$1:$1,0)-2,0),0)","v":"00:00:00"},{"$f":"IF($A576>0,VLOOKUP($A576,'Last Document Status-HOMA'!$C:$Y,MATCH(\"Outgoing Date\",'Last Document Status-HOMA'!$1:$1,0)-2,0),0)","v":"00:00:00"},{"$f":"IF($A576>0,VLOOKUP($A576,'Last Document Status-HOMA'!$C:$Y,MATCH(O$9,'Last Document Status-HOMA'!$1:$1,0)-2,0),0)","v":0}]
[null,null,null,null,null,{"$f":"IFERROR((VLOOKUP(#REF!,'5-PMS'!$F$14:$N$192,6,FALSE)),\"\")","v":""},null,null,null,null,{"$f":"IF($A577>0,VLOOKUP($A577,'Last Document Status-HOMA'!$C:$Y,MATCH(K$9,'Last Document Status-HOMA'!$1:$1,0)-2,0),0)","v":0},{"$f":"IF($A577>0,VLOOKUP($A577,'Last Document Status-HOMA'!$C:$Y,MATCH(L$9,'Last Document Status-HOMA'!$1:$1,0)-2,0),0)","v":0},{"$f":"IF($A577>0,VLOOKUP($A577,'Last Document Status-HOMA'!$C:$Y,MATCH(M$9,'Last Document Status-HOMA'!$1:$1,0)-2,0),0)","v":"00:00:00"},{"$f":"IF($A577>0,VLOOKUP($A577,'Last Document Status-HOMA'!$C:$Y,MATCH(\"Outgoing Date\",'Last Document Status-HOMA'!$1:$1,0)-2,0),0)","v":"00:00:00"},{"$f":"IF($A577>0,VLOOKUP($A577,'Last Document Status-HOMA'!$C:$Y,MATCH(O$9,'Last Document Status-HOMA'!$1:$1,0)-2,0),0)","v":0}]
[null,null,null,null,null,{"$f":"IFERROR((VLOOKUP(#REF!,'5-PMS'!$F$14:$N$192,6,FALSE)),\"\")","v":""},null,null,null,null,{"$f":"IF($A578>0,VLOOKUP($A578,'Last Document Status-HOMA'!$C:$Y,MATCH(K$9,'Last Document Status-HOMA'!$1:$1,0)-2,0),0)","v":0},{"$f":"IF($A578>0,VLOOKUP($A578,'Last Document Status-HOMA'!$C:$Y,MATCH(L$9,'Last Document Status-HOMA'!$1:$1,0)-2,0),0)","v":0},{"$f":"IF($A578>0,VLOOKUP($A578,'Last Document Status-HOMA'!$C:$Y,MATCH(M$9,'Last Document Status-HOMA'!$1:$1,0)-2,0),0)","v":"00:00:00"},{"$f":"IF($A578>0,VLOOKUP($A578,'Last Document Status-HOMA'!$C:$Y,MATCH(\"Outgoing Date\",'Last Document Status-HOMA'!$1:$1,0)-2,0),0)","v":"00:00:00"},{"$f":"IF($A578>0,VLOOKUP($A578,'Last Document Status-HOMA'!$C:$Y,MATCH(O$9,'Last Document Status-HOMA'!$1:$1,0)-2,0),0)","v":0}]
[null,null,null,null,null,{"$f":"IFERROR((VLOOKUP(#REF!,'5-PMS'!$F$14:$N$192,6,FALSE)),\"\")","v":""},null,null,null,null,{"$f":"IF($A579>0,VLOOKUP($A579,'Last Document Status-HOMA'!$C:$Y,MATCH(K$9,'Last Document Status-HOMA'!$1:$1,0)-2,0),0)","v":0},{"$f":"IF($A579>0,VLOOKUP($A579,'Last Document Status-HOMA'!$C:$Y,MATCH(L$9,'Last Document Status-HOMA'!$1:$1,0)-2,0),0)","v":0},{"$f":"IF($A579>0,VLOOKUP($A579,'Last Document Status-HOMA'!$C:$Y,MATCH(M$9,'Last Document Status-HOMA'!$1:$1,0)-2,0),0)","v":"00:00:00"},{"$f":"IF($A579>0,VLOOKUP($A579,'Last Document Status-HOMA'!$C:$Y,MATCH(\"Outgoing Date\",'Last Document Status-HOMA'!$1:$1,0)-2,0),0)","v":"00:00:00"},{"$f":"IF($A579>0,VLOOKUP($A579,'Last Document Status-HOMA'!$C:$Y,MATCH(O$9,'Last Document Status-HOMA'!$1:$1,0)-2,0),0)","v":0}]
[null,null,null,null,null,{"$f":"IFERROR((VLOOKUP(#REF!,'5-PMS'!$F$14:$N$192,6,FALSE)),\"\")","v":""},null,null,null,null,{"$f":"IF($A580>0,VLOOKUP($A580,'Last Document Status-HOMA'!$C:$Y,MATCH(K$9,'Last Document Status-HOMA'!$1:$1,0)-2,0),0)","v":0},{"$f":"IF($A580>0,VLOOKUP($A580,'Last Document Status-HOMA'!$C:$Y,MATCH(L$9,'Last Document Status-HOMA'!$1:$1,0)-2,0),0)","v":0},{"$f":"IF($A580>0,VLOOKUP($A580,'Last Document Status-HOMA'!$C:$Y,MATCH(M$9,'Last Document Status-HOMA'!$1:$1,0)-2,0),0)","v":"00:00:00"},{"$f":"IF($A580>0,VLOOKUP($A580,'Last Document Status-HOMA'!$C:$Y,MATCH(\"Outgoing Date\",'Last Document Status-HOMA'!$1:$1,0)-2,0),0)","v":"00:00:00"},{"$f":"IF($A580>0,VLOOKUP($A580,'Last Document Status-HOMA'!$C:$Y,MATCH(O$9,'Last Document Status-HOMA'!$1:$1,0)-2,0),0)","v":0}]
[null,null,null,null,null,{"$f":"IFERROR((VLOOKUP(#REF!,'5-PMS'!$F$14:$N$192,6,FALSE)),\"\")","v":""},null,null,null,null,{"$f":"IF($A581>0,VLOOKUP($A581,'Last Document Status-HOMA'!$C:$Y,MATCH(K$9,'Last Document Status-HOMA'!$1:$1,0)-2,0),0)","v":0},{"$f":"IF($A581>0,VLOOKUP($A581,'Last Document Status-HOMA'!$C:$Y,MATCH(L$9,'Last Document Status-HOMA'!$1:$1,0)-2,0),0)","v":0},{"$f":"IF($A581>0,VLOOKUP($A581,'Last Document Status-HOMA'!$C:$Y,MATCH(M$9,'Last Document Status-HOMA'!$1:$1,0)-2,0),0)","v":"00:00:00"},{"$f":"IF($A581>0,VLOOKUP($A581,'Last Document Status-HOMA'!$C:$Y,MATCH(\"Outgoing Date\",'Last Document Status-HOMA'!$1:$1,0)-2,0),0)","v":"00:00:00"},{"$f":"IF($A581>0,VLOOKUP($A581,'Last Document Status-HOMA'!$C:$Y,MATCH(O$9,'Last Document Status-HOMA'!$1:$1,0)-2,0),0)","v":0}]
[null,null,null,null,null,{"$f":"IFERROR((VLOOKUP(#REF!,'5-PMS'!$F$14:$N$192,6,FALSE)),\"\")","v":""},null,null,null,null,{"$f":"IF($A582>0,VLOOKUP($A582,'Last Document Status-HOMA'!$C:$Y,MATCH(K$9,'Last Document Status-HOMA'!$1:$1,0)-2,0),0)","v":0},{"$f":"IF($A582>0,VLOOKUP($A582,'Last Document Status-HOMA'!$C:$Y,MATCH(L$9,'Last Document Status-HOMA'!$1:$1,0)-2,0),0)","v":0},{"$f":"IF($A582>0,VLOOKUP($A582,'Last Document Status-HOMA'!$C:$Y,MATCH(M$9,'Last Document Status-HOMA'!$1:$1,0)-2,0),0)","v":"00:00:00"},{"$f":"IF($A582>0,VLOOKUP($A582,'Last Document Status-HOMA'!$C:$Y,MATCH(\"Outgoing Date\",'Last Document Status-HOMA'!$1:$1,0)-2,0),0)","v":"00:00:00"},{"$f":"IF($A582>0,VLOOKUP($A582,'Last Document Status-HOMA'!$C:$Y,MATCH(O$9,'Last Document Status-HOMA'!$1:$1,0)-2,0),0)","v":0}]
[null,null,null,null,null,{"$f":"IFERROR((VLOOKUP(#REF!,'5-PMS'!$F$14:$N$192,6,FALSE)),\"\")","v":""},null,null,null,null,{"$f":"IF($A583>0,VLOOKUP($A583,'Last Document Status-HOMA'!$C:$Y,MATCH(K$9,'Last Document Status-HOMA'!$1:$1,0)-2,0),0)","v":0},{"$f":"IF($A583>0,VLOOKUP($A583,'Last Document Status-HOMA'!$C:$Y,MATCH(L$9,'Last Document Status-HOMA'!$1:$1,0)-2,0),0)","v":0},{"$f":"IF($A583>0,VLOOKUP($A583,'Last Document Status-HOMA'!$C:$Y,MATCH(M$9,'Last Document Status-HOMA'!$1:$1,0)-2,0),0)","v":"00:00:00"},{"$f":"IF($A583>0,VLOOKUP($A583,'Last Document Status-HOMA'!$C:$Y,MATCH(\"Outgoing Date\",'Last Document Status-HOMA'!$1:$1,0)-2,0),0)","v":"00:00:00"},{"$f":"IF($A583>0,VLOOKUP($A583,'Last Document Status-HOMA'!$C:$Y,MATCH(O$9,'Last Document Status-HOMA'!$1:$1,0)-2,0),0)","v":0}]
[null,null,null,null,null,{"$f":"IFERROR((VLOOKUP(#REF!,'5-PMS'!$F$14:$N$192,6,FALSE)),\"\")","v":""},null,null,null,null,{"$f":"IF($A584>0,VLOOKUP($A584,'Last Document Status-HOMA'!$C:$Y,MATCH(K$9,'Last Document Status-HOMA'!$1:$1,0)-2,0),0)","v":0},{"$f":"IF($A584>0,VLOOKUP($A584,'Last Document Status-HOMA'!$C:$Y,MATCH(L$9,'Last Document Status-HOMA'!$1:$1,0)-2,0),0)","v":0},{"$f":"IF($A584>0,VLOOKUP($A584,'Last Document Status-HOMA'!$C:$Y,MATCH(M$9,'Last Document Status-HOMA'!$1:$1,0)-2,0),0)","v":"00:00:00"},{"$f":"IF($A584>0,VLOOKUP($A584,'Last Document Status-HOMA'!$C:$Y,MATCH(\"Outgoing Date\",'Last Document Status-HOMA'!$1:$1,0)-2,0),0)","v":"00:00:00"},{"$f":"IF($A584>0,VLOOKUP($A584,'Last Document Status-HOMA'!$C:$Y,MATCH(O$9,'Last Document Status-HOMA'!$1:$1,0)-2,0),0)","v":0}]
[null,null,null,null,null,{"$f":"IFERROR((VLOOKUP(#REF!,'5-PMS'!$F$14:$N$192,6,FALSE)),\"\")","v":""},null,null,null,null,{"$f":"IF($A585>0,VLOOKUP($A585,'Last Document Status-HOMA'!$C:$Y,MATCH(K$9,'Last Document Status-HOMA'!$1:$1,0)-2,0),0)","v":0},{"$f":"IF($A585>0,VLOOKUP($A585,'Last Document Status-HOMA'!$C:$Y,MATCH(L$9,'Last Document Status-HOMA'!$1:$1,0)-2,0),0)","v":0},{"$f":"IF($A585>0,VLOOKUP($A585,'Last Document Status-HOMA'!$C:$Y,MATCH(M$9,'Last Document Status-HOMA'!$1:$1,0)-2,0),0)","v":"00:00:00"},{"$f":"IF($A585>0,VLOOKUP($A585,'Last Document Status-HOMA'!$C:$Y,MATCH(\"Outgoing Date\",'Last Document Status-HOMA'!$1:$1,0)-2,0),0)","v":"00:00:00"},{"$f":"IF($A585>0,VLOOKUP($A585,'Last Document Status-HOMA'!$C:$Y,MATCH(O$9,'Last Document Status-HOMA'!$1:$1,0)-2,0),0)","v":0}]
[null,null,null,null,null,{"$f":"IFERROR((VLOOKUP(#REF!,'5-PMS'!$F$14:$N$192,6,FALSE)),\"\")","v":""},null,null,null,null,{"$f":"IF($A586>0,VLOOKUP($A586,'Last Document Status-HOMA'!$C:$Y,MATCH(K$9,'Last Document Status-HOMA'!$1:$1,0)-2,0),0)","v":0},{"$f":"IF($A586>0,VLOOKUP($A586,'Last Document Status-HOMA'!$C:$Y,MATCH(L$9,'Last Document Status-HOMA'!$1:$1,0)-2,0),0)","v":0},{"$f":"IF($A586>0,VLOOKUP($A586,'Last Document Status-HOMA'!$C:$Y,MATCH(M$9,'Last Document Status-HOMA'!$1:$1,0)-2,0),0)","v":"00:00:00"},{"$f":"IF($A586>0,VLOOKUP($A586,'Last Document Status-HOMA'!$C:$Y,MATCH(\"Outgoing Date\",'Last Document Status-HOMA'!$1:$1,0)-2,0),0)","v":"00:00:00"},{"$f":"IF($A586>0,VLOOKUP($A586,'Last Document Status-HOMA'!$C:$Y,MATCH(O$9,'Last Document Status-HOMA'!$1:$1,0)-2,0),0)","v":0}]
[null,null,null,null,null,{"$f":"IFERROR((VLOOKUP(#REF!,'5-PMS'!$F$14:$N$192,6,FALSE)),\"\")","v":""},null,null,null,null,{"$f":"IF($A587>0,VLOOKUP($A587,'Last Document Status-HOMA'!$C:$Y,MATCH(K$9,'Last Document Status-HOMA'!$1:$1,0)-2,0),0)","v":0},{"$f":"IF($A587>0,VLOOKUP($A587,'Last Document Status-HOMA'!$C:$Y,MATCH(L$9,'Last Document Status-HOMA'!$1:$1,0)-2,0),0)","v":0},{"$f":"IF($A587>0,VLOOKUP($A587,'Last Document Status-HOMA'!$C:$Y,MATCH(M$9,'Last Document Status-HOMA'!$1:$1,0)-2,0),0)","v":"00:00:00"},{"$f":"IF($A587>0,VLOOKUP($A587,'Last Document Status-HOMA'!$C:$Y,MATCH(\"Outgoing Date\",'Last Document Status-HOMA'!$1:$1,0)-2,0),0)","v":"00:00:00"},{"$f":"IF($A587>0,VLOOKUP($A587,'Last Document Status-HOMA'!$C:$Y,MATCH(O$9,'Last Document Status-HOMA'!$1:$1,0)-2,0),0)","v":0}]
[null,null,null,null,null,{"$f":"IFERROR((VLOOKUP(#REF!,'5-PMS'!$F$14:$N$192,6,FALSE)),\"\")","v":""},null,null,null,null,{"$f":"IF($A588>0,VLOOKUP($A588,'Last Document Status-HOMA'!$C:$Y,MATCH(K$9,'Last Document Status-HOMA'!$1:$1,0)-2,0),0)","v":0},{"$f":"IF($A588>0,VLOOKUP($A588,'Last Document Status-HOMA'!$C:$Y,MATCH(L$9,'Last Document Status-HOMA'!$1:$1,0)-2,0),0)","v":0},{"$f":"IF($A588>0,VLOOKUP($A588,'Last Document Status-HOMA'!$C:$Y,MATCH(M$9,'Last Document Status-HOMA'!$1:$1,0)-2,0),0)","v":"00:00:00"},{"$f":"IF($A588>0,VLOOKUP($A588,'Last Document Status-HOMA'!$C:$Y,MATCH(\"Outgoing Date\",'Last Document Status-HOMA'!$1:$1,0)-2,0),0)","v":"00:00:00"},{"$f":"IF($A588>0,VLOOKUP($A588,'Last Document Status-HOMA'!$C:$Y,MATCH(O$9,'Last Document Status-HOMA'!$1:$1,0)-2,0),0)","v":0}]
[null,null,null,null,null,{"$f":"IFERROR((VLOOKUP(#REF!,'5-PMS'!$F$14:$N$192,6,FALSE)),\"\")","v":""},null,null,null,null,{"$f":"IF($A589>0,VLOOKUP($A589,'Last Document Status-HOMA'!$C:$Y,MATCH(K$9,'Last Document Status-HOMA'!$1:$1,0)-2,0),0)","v":0},{"$f":"IF($A589>0,VLOOKUP($A589,'Last Document Status-HOMA'!$C:$Y,MATCH(L$9,'Last Document Status-HOMA'!$1:$1,0)-2,0),0)","v":0},{"$f":"IF($A589>0,VLOOKUP($A589,'Last Document Status-HOMA'!$C:$Y,MATCH(M$9,'Last Document Status-HOMA'!$1:$1,0)-2,0),0)","v":"00:00:00"},{"$f":"IF($A589>0,VLOOKUP($A589,'Last Document Status-HOMA'!$C:$Y,MATCH(\"Outgoing Date\",'Last Document Status-HOMA'!$1:$1,0)-2,0),0)","v":"00:00:00"},{"$f":"IF($A589>0,VLOOKUP($A589,'Last Document Status-HOMA'!$C:$Y,MATCH(O$9,'Last Document Status-HOMA'!$1:$1,0)-2,0),0)","v":0}]
[null,null,null,null,null,{"$f":"IFERROR((VLOOKUP(#REF!,'5-PMS'!$F$14:$N$192,6,FALSE)),\"\")","v":""},null,null,null,null,{"$f":"IF($A590>0,VLOOKUP($A590,'Last Document Status-HOMA'!$C:$Y,MATCH(K$9,'Last Document Status-HOMA'!$1:$1,0)-2,0),0)","v":0},{"$f":"IF($A590>0,VLOOKUP($A590,'Last Document Status-HOMA'!$C:$Y,MATCH(L$9,'Last Document Status-HOMA'!$1:$1,0)-2,0),0)","v":0},{"$f":"IF($A590>0,VLOOKUP($A590,'Last Document Status-HOMA'!$C:$Y,MATCH(M$9,'Last Document Status-HOMA'!$1:$1,0)-2,0),0)","v":"00:00:00"},{"$f":"IF($A590>0,VLOOKUP($A590,'Last Document Status-HOMA'!$C:$Y,MATCH(\"Outgoing Date\",'Last Document Status-HOMA'!$1:$1,0)-2,0),0)","v":"00:00:00"},{"$f":"IF($A590>0,VLOOKUP($A590,'Last Document Status-HOMA'!$C:$Y,MATCH(O$9,'Last Document Status-HOMA'!$1:$1,0)-2,0),0)","v":0}]
[null,null,null,null,null,{"$f":"IFERROR((VLOOKUP(#REF!,'5-PMS'!$F$14:$N$192,6,FALSE)),\"\")","v":""},null,null,null,null,{"$f":"IF($A591>0,VLOOKUP($A591,'Last Document Status-HOMA'!$C:$Y,MATCH(K$9,'Last Document Status-HOMA'!$1:$1,0)-2,0),0)","v":0},{"$f":"IF($A591>0,VLOOKUP($A591,'Last Document Status-HOMA'!$C:$Y,MATCH(L$9,'Last Document Status-HOMA'!$1:$1,0)-2,0),0)","v":0},{"$f":"IF($A591>0,VLOOKUP($A591,'Last Document Status-HOMA'!$C:$Y,MATCH(M$9,'Last Document Status-HOMA'!$1:$1,0)-2,0),0)","v":"00:00:00"},{"$f":"IF($A591>0,VLOOKUP($A591,'Last Document Status-HOMA'!$C:$Y,MATCH(\"Outgoing Date\",'Last Document Status-HOMA'!$1:$1,0)-2,0),0)","v":"00:00:00"},{"$f":"IF($A591>0,VLOOKUP($A591,'Last Document Status-HOMA'!$C:$Y,MATCH(O$9,'Last Document Status-HOMA'!$1:$1,0)-2,0),0)","v":0}]
[null,null,null,null,null,{"$f":"IFERROR((VLOOKUP(#REF!,'5-PMS'!$F$14:$N$192,6,FALSE)),\"\")","v":""},null,null,null,null,{"$f":"IF($A592>0,VLOOKUP($A592,'Last Document Status-HOMA'!$C:$Y,MATCH(K$9,'Last Document Status-HOMA'!$1:$1,0)-2,0),0)","v":0},{"$f":"IF($A592>0,VLOOKUP($A592,'Last Document Status-HOMA'!$C:$Y,MATCH(L$9,'Last Document Status-HOMA'!$1:$1,0)-2,0),0)","v":0},{"$f":"IF($A592>0,VLOOKUP($A592,'Last Document Status-HOMA'!$C:$Y,MATCH(M$9,'Last Document Status-HOMA'!$1:$1,0)-2,0),0)","v":"00:00:00"},{"$f":"IF($A592>0,VLOOKUP($A592,'Last Document Status-HOMA'!$C:$Y,MATCH(\"Outgoing Date\",'Last Document Status-HOMA'!$1:$1,0)-2,0),0)","v":"00:00:00"},{"$f":"IF($A592>0,VLOOKUP($A592,'Last Document Status-HOMA'!$C:$Y,MATCH(O$9,'Last Document Status-HOMA'!$1:$1,0)-2,0),0)","v":0}]
[null,null,null,null,null,{"$f":"IFERROR((VLOOKUP(#REF!,'5-PMS'!$F$14:$N$192,6,FALSE)),\"\")","v":""},null,null,null,null,{"$f":"IF($A593>0,VLOOKUP($A593,'Last Document Status-HOMA'!$C:$Y,MATCH(K$9,'Last Document Status-HOMA'!$1:$1,0)-2,0),0)","v":0},{"$f":"IF($A593>0,VLOOKUP($A593,'Last Document Status-HOMA'!$C:$Y,MATCH(L$9,'Last Document Status-HOMA'!$1:$1,0)-2,0),0)","v":0},{"$f":"IF($A593>0,VLOOKUP($A593,'Last Document Status-HOMA'!$C:$Y,MATCH(M$9,'Last Document Status-HOMA'!$1:$1,0)-2,0),0)","v":"00:00:00"},{"$f":"IF($A593>0,VLOOKUP($A593,'Last Document Status-HOMA'!$C:$Y,MATCH(\"Outgoing Date\",'Last Document Status-HOMA'!$1:$1,0)-2,0),0)","v":"00:00:00"},{"$f":"IF($A593>0,VLOOKUP($A593,'Last Document Status-HOMA'!$C:$Y,MATCH(O$9,'Last Document Status-HOMA'!$1:$1,0)-2,0),0)","v":0}]
[null,null,null,null,null,{"$f":"IFERROR((VLOOKUP(#REF!,'5-PMS'!$F$14:$N$192,6,FALSE)),\"\")","v":""},null,null,null,null,{"$f":"IF($A594>0,VLOOKUP($A594,'Last Document Status-HOMA'!$C:$Y,MATCH(K$9,'Last Document Status-HOMA'!$1:$1,0)-2,0),0)","v":0},{"$f":"IF($A594>0,VLOOKUP($A594,'Last Document Status-HOMA'!$C:$Y,MATCH(L$9,'Last Document Status-HOMA'!$1:$1,0)-2,0),0)","v":0},{"$f":"IF($A594>0,VLOOKUP($A594,'Last Document Status-HOMA'!$C:$Y,MATCH(M$9,'Last Document Status-HOMA'!$1:$1,0)-2,0),0)","v":"00:00:00"},{"$f":"IF($A594>0,VLOOKUP($A594,'Last Document Status-HOMA'!$C:$Y,MATCH(\"Outgoing Date\",'Last Document Status-HOMA'!$1:$1,0)-2,0),0)","v":"00:00:00"},{"$f":"IF($A594>0,VLOOKUP($A594,'Last Document Status-HOMA'!$C:$Y,MATCH(O$9,'Last Document Status-HOMA'!$1:$1,0)-2,0),0)","v":0}]
[null,null,null,null,null,{"$f":"IFERROR((VLOOKUP(#REF!,'5-PMS'!$F$14:$N$192,6,FALSE)),\"\")","v":""},null,null,null,null,{"$f":"IF($A595>0,VLOOKUP($A595,'Last Document Status-HOMA'!$C:$Y,MATCH(K$9,'Last Document Status-HOMA'!$1:$1,0)-2,0),0)","v":0},{"$f":"IF($A595>0,VLOOKUP($A595,'Last Document Status-HOMA'!$C:$Y,MATCH(L$9,'Last Document Status-HOMA'!$1:$1,0)-2,0),0)","v":0},{"$f":"IF($A595>0,VLOOKUP($A595,'Last Document Status-HOMA'!$C:$Y,MATCH(M$9,'Last Document Status-HOMA'!$1:$1,0)-2,0),0)","v":"00:00:00"},{"$f":"IF($A595>0,VLOOKUP($A595,'Last Document Status-HOMA'!$C:$Y,MATCH(\"Outgoing Date\",'Last Document Status-HOMA'!$1:$1,0)-2,0),0)","v":"00:00:00"},{"$f":"IF($A595>0,VLOOKUP($A595,'Last Document Status-HOMA'!$C:$Y,MATCH(O$9,'Last Document Status-HOMA'!$1:$1,0)-2,0),0)","v":0}]
[null,null,null,null,null,{"$f":"IFERROR((VLOOKUP(#REF!,'5-PMS'!$F$14:$N$192,6,FALSE)),\"\")","v":""},null,null,null,null,{"$f":"IF($A596>0,VLOOKUP($A596,'Last Document Status-HOMA'!$C:$Y,MATCH(K$9,'Last Document Status-HOMA'!$1:$1,0)-2,0),0)","v":0},{"$f":"IF($A596>0,VLOOKUP($A596,'Last Document Status-HOMA'!$C:$Y,MATCH(L$9,'Last Document Status-HOMA'!$1:$1,0)-2,0),0)","v":0},{"$f":"IF($A596>0,VLOOKUP($A596,'Last Document Status-HOMA'!$C:$Y,MATCH(M$9,'Last Document Status-HOMA'!$1:$1,0)-2,0),0)","v":"00:00:00"},{"$f":"IF($A596>0,VLOOKUP($A596,'Last Document Status-HOMA'!$C:$Y,MATCH(\"Outgoing Date\",'Last Document Status-HOMA'!$1:$1,0)-2,0),0)","v":"00:00:00"},{"$f":"IF($A596>0,VLOOKUP($A596,'Last Document Status-HOMA'!$C:$Y,MATCH(O$9,'Last Document Status-HOMA'!$1:$1,0)-2,0),0)","v":0}]
[null,null,null,null,null,{"$f":"IFERROR((VLOOKUP(#REF!,'5-PMS'!$F$14:$N$192,6,FALSE)),\"\")","v":""},null,null,null,null,{"$f":"IF($A597>0,VLOOKUP($A597,'Last Document Status-HOMA'!$C:$Y,MATCH(K$9,'Last Document Status-HOMA'!$1:$1,0)-2,0),0)","v":0},{"$f":"IF($A597>0,VLOOKUP($A597,'Last Document Status-HOMA'!$C:$Y,MATCH(L$9,'Last Document Status-HOMA'!$1:$1,0)-2,0),0)","v":0},{"$f":"IF($A597>0,VLOOKUP($A597,'Last Document Status-HOMA'!$C:$Y,MATCH(M$9,'Last Document Status-HOMA'!$1:$1,0)-2,0),0)","v":"00:00:00"},{"$f":"IF($A597>0,VLOOKUP($A597,'Last Document Status-HOMA'!$C:$Y,MATCH(\"Outgoing Date\",'Last Document Status-HOMA'!$1:$1,0)-2,0),0)","v":"00:00:00"},{"$f":"IF($A597>0,VLOOKUP($A597,'Last Document Status-HOMA'!$C:$Y,MATCH(O$9,'Last Document Status-HOMA'!$1:$1,0)-2,0),0)","v":0}]
[null,null,null,null,null,{"$f":"IFERROR((VLOOKUP(#REF!,'5-PMS'!$F$14:$N$192,6,FALSE)),\"\")","v":""},null,null,null,null,{"$f":"IF($A598>0,VLOOKUP($A598,'Last Document Status-HOMA'!$C:$Y,MATCH(K$9,'Last Document Status-HOMA'!$1:$1,0)-2,0),0)","v":0},{"$f":"IF($A598>0,VLOOKUP($A598,'Last Document Status-HOMA'!$C:$Y,MATCH(L$9,'Last Document Status-HOMA'!$1:$1,0)-2,0),0)","v":0},{"$f":"IF($A598>0,VLOOKUP($A598,'Last Document Status-HOMA'!$C:$Y,MATCH(M$9,'Last Document Status-HOMA'!$1:$1,0)-2,0),0)","v":"00:00:00"},{"$f":"IF($A598>0,VLOOKUP($A598,'Last Document Status-HOMA'!$C:$Y,MATCH(\"Outgoing Date\",'Last Document Status-HOMA'!$1:$1,0)-2,0),0)","v":"00:00:00"},{"$f":"IF($A598>0,VLOOKUP($A598,'Last Document Status-HOMA'!$C:$Y,MATCH(O$9,'Last Document Status-HOMA'!$1:$1,0)-2,0),0)","v":0}]
[null,null,null,null,null,{"$f":"IFERROR((VLOOKUP(#REF!,'5-PMS'!$F$14:$N$192,6,FALSE)),\"\")","v":""},null,null,null,null,{"$f":"IF($A599>0,VLOOKUP($A599,'Last Document Status-HOMA'!$C:$Y,MATCH(K$9,'Last Document Status-HOMA'!$1:$1,0)-2,0),0)","v":0},{"$f":"IF($A599>0,VLOOKUP($A599,'Last Document Status-HOMA'!$C:$Y,MATCH(L$9,'Last Document Status-HOMA'!$1:$1,0)-2,0),0)","v":0},{"$f":"IF($A599>0,VLOOKUP($A599,'Last Document Status-HOMA'!$C:$Y,MATCH(M$9,'Last Document Status-HOMA'!$1:$1,0)-2,0),0)","v":"00:00:00"},{"$f":"IF($A599>0,VLOOKUP($A599,'Last Document Status-HOMA'!$C:$Y,MATCH(\"Outgoing Date\",'Last Document Status-HOMA'!$1:$1,0)-2,0),0)","v":"00:00:00"},{"$f":"IF($A599>0,VLOOKUP($A599,'Last Document Status-HOMA'!$C:$Y,MATCH(O$9,'Last Document Status-HOMA'!$1:$1,0)-2,0),0)","v":0}]
[null,null,null,null,null,{"$f":"IFERROR((VLOOKUP(#REF!,'5-PMS'!$F$14:$N$192,6,FALSE)),\"\")","v":""},null,null,null,null,{"$f":"IF($A600>0,VLOOKUP($A600,'Last Document Status-HOMA'!$C:$Y,MATCH(K$9,'Last Document Status-HOMA'!$1:$1,0)-2,0),0)","v":0},{"$f":"IF($A600>0,VLOOKUP($A600,'Last Document Status-HOMA'!$C:$Y,MATCH(L$9,'Last Document Status-HOMA'!$1:$1,0)-2,0),0)","v":0},{"$f":"IF($A600>0,VLOOKUP($A600,'Last Document Status-HOMA'!$C:$Y,MATCH(M$9,'Last Document Status-HOMA'!$1:$1,0)-2,0),0)","v":"00:00:00"},{"$f":"IF($A600>0,VLOOKUP($A600,'Last Document Status-HOMA'!$C:$Y,MATCH(\"Outgoing Date\",'Last Document Status-HOMA'!$1:$1,0)-2,0),0)","v":"00:00:00"},{"$f":"IF($A600>0,VLOOKUP($A600,'Last Document Status-HOMA'!$C:$Y,MATCH(O$9,'Last Document Status-HOMA'!$1:$1,0)-2,0),0)","v":0}]
[null,null,null,null,null,{"$f":"IFERROR((VLOOKUP(#REF!,'5-PMS'!$F$14:$N$192,6,FALSE)),\"\")","v":""},null,null,null,null,{"$f":"IF($A601>0,VLOOKUP($A601,'Last Document Status-HOMA'!$C:$Y,MATCH(K$9,'Last Document Status-HOMA'!$1:$1,0)-2,0),0)","v":0},{"$f":"IF($A601>0,VLOOKUP($A601,'Last Document Status-HOMA'!$C:$Y,MATCH(L$9,'Last Document Status-HOMA'!$1:$1,0)-2,0),0)","v":0},{"$f":"IF($A601>0,VLOOKUP($A601,'Last Document Status-HOMA'!$C:$Y,MATCH(M$9,'Last Document Status-HOMA'!$1:$1,0)-2,0),0)","v":"00:00:00"},{"$f":"IF($A601>0,VLOOKUP($A601,'Last Document Status-HOMA'!$C:$Y,MATCH(\"Outgoing Date\",'Last Document Status-HOMA'!$1:$1,0)-2,0),0)","v":"00:00:00"},{"$f":"IF($A601>0,VLOOKUP($A601,'Last Document Status-HOMA'!$C:$Y,MATCH(O$9,'Last Document Status-HOMA'!$1:$1,0)-2,0),0)","v":0}]
[null,null,null,null,null,{"$f":"IFERROR((VLOOKUP(#REF!,'5-PMS'!$F$14:$N$192,6,FALSE)),\"\")","v":""},null,null,null,null,{"$f":"IF($A602>0,VLOOKUP($A602,'Last Document Status-HOMA'!$C:$Y,MATCH(K$9,'Last Document Status-HOMA'!$1:$1,0)-2,0),0)","v":0},{"$f":"IF($A602>0,VLOOKUP($A602,'Last Document Status-HOMA'!$C:$Y,MATCH(L$9,'Last Document Status-HOMA'!$1:$1,0)-2,0),0)","v":0},{"$f":"IF($A602>0,VLOOKUP($A602,'Last Document Status-HOMA'!$C:$Y,MATCH(M$9,'Last Document Status-HOMA'!$1:$1,0)-2,0),0)","v":"00:00:00"},{"$f":"IF($A602>0,VLOOKUP($A602,'Last Document Status-HOMA'!$C:$Y,MATCH(\"Outgoing Date\",'Last Document Status-HOMA'!$1:$1,0)-2,0),0)","v":"00:00:00"},{"$f":"IF($A602>0,VLOOKUP($A602,'Last Document Status-HOMA'!$C:$Y,MATCH(O$9,'Last Document Status-HOMA'!$1:$1,0)-2,0),0)","v":0}]
[null,null,null,null,null,{"$f":"IFERROR((VLOOKUP(#REF!,'5-PMS'!$F$14:$N$192,6,FALSE)),\"\")","v":""},null,null,null,null,{"$f":"IF($A603>0,VLOOKUP($A603,'Last Document Status-HOMA'!$C:$Y,MATCH(K$9,'Last Document Status-HOMA'!$1:$1,0)-2,0),0)","v":0},{"$f":"IF($A603>0,VLOOKUP($A603,'Last Document Status-HOMA'!$C:$Y,MATCH(L$9,'Last Document Status-HOMA'!$1:$1,0)-2,0),0)","v":0},{"$f":"IF($A603>0,VLOOKUP($A603,'Last Document Status-HOMA'!$C:$Y,MATCH(M$9,'Last Document Status-HOMA'!$1:$1,0)-2,0),0)","v":"00:00:00"},{"$f":"IF($A603>0,VLOOKUP($A603,'Last Document Status-HOMA'!$C:$Y,MATCH(\"Outgoing Date\",'Last Document Status-HOMA'!$1:$1,0)-2,0),0)","v":"00:00:00"},{"$f":"IF($A603>0,VLOOKUP($A603,'Last Document Status-HOMA'!$C:$Y,MATCH(O$9,'Last Document Status-HOMA'!$1:$1,0)-2,0),0)","v":0}]
[null,null,null,null,null,{"$f":"IFERROR((VLOOKUP(#REF!,'5-PMS'!$F$14:$N$192,6,FALSE)),\"\")","v":""},null,null,null,null,{"$f":"IF($A604>0,VLOOKUP($A604,'Last Document Status-HOMA'!$C:$Y,MATCH(K$9,'Last Document Status-HOMA'!$1:$1,0)-2,0),0)","v":0},{"$f":"IF($A604>0,VLOOKUP($A604,'Last Document Status-HOMA'!$C:$Y,MATCH(L$9,'Last Document Status-HOMA'!$1:$1,0)-2,0),0)","v":0},{"$f":"IF($A604>0,VLOOKUP($A604,'Last Document Status-HOMA'!$C:$Y,MATCH(M$9,'Last Document Status-HOMA'!$1:$1,0)-2,0),0)","v":"00:00:00"},{"$f":"IF($A604>0,VLOOKUP($A604,'Last Document Status-HOMA'!$C:$Y,MATCH(\"Outgoing Date\",'Last Document Status-HOMA'!$1:$1,0)-2,0),0)","v":"00:00:00"},{"$f":"IF($A604>0,VLOOKUP($A604,'Last Document Status-HOMA'!$C:$Y,MATCH(O$9,'Last Document Status-HOMA'!$1:$1,0)-2,0),0)","v":0}]
[null,null,null,null,null,{"$f":"IFERROR((VLOOKUP(#REF!,'5-PMS'!$F$14:$N$192,6,FALSE)),\"\")","v":""},null,null,null,null,{"$f":"IF($A605>0,VLOOKUP($A605,'Last Document Status-HOMA'!$C:$Y,MATCH(K$9,'Last Document Status-HOMA'!$1:$1,0)-2,0),0)","v":0},{"$f":"IF($A605>0,VLOOKUP($A605,'Last Document Status-HOMA'!$C:$Y,MATCH(L$9,'Last Document Status-HOMA'!$1:$1,0)-2,0),0)","v":0},{"$f":"IF($A605>0,VLOOKUP($A605,'Last Document Status-HOMA'!$C:$Y,MATCH(M$9,'Last Document Status-HOMA'!$1:$1,0)-2,0),0)","v":"00:00:00"},{"$f":"IF($A605>0,VLOOKUP($A605,'Last Document Status-HOMA'!$C:$Y,MATCH(\"Outgoing Date\",'Last Document Status-HOMA'!$1:$1,0)-2,0),0)","v":"00:00:00"},{"$f":"IF($A605>0,VLOOKUP($A605,'Last Document Status-HOMA'!$C:$Y,MATCH(O$9,'Last Document Status-HOMA'!$1:$1,0)-2,0),0)","v":0}]
[null,null,null,null,null,{"$f":"IFERROR((VLOOKUP(#REF!,'5-PMS'!$F$14:$N$192,6,FALSE)),\"\")","v":""},null,null,null,null,{"$f":"IF($A606>0,VLOOKUP($A606,'Last Document Status-HOMA'!$C:$Y,MATCH(K$9,'Last Document Status-HOMA'!$1:$1,0)-2,0),0)","v":0},{"$f":"IF($A606>0,VLOOKUP($A606,'Last Document Status-HOMA'!$C:$Y,MATCH(L$9,'Last Document Status-HOMA'!$1:$1,0)-2,0),0)","v":0},{"$f":"IF($A606>0,VLOOKUP($A606,'Last Document Status-HOMA'!$C:$Y,MATCH(M$9,'Last Document Status-HOMA'!$1:$1,0)-2,0),0)","v":"00:00:00"},{"$f":"IF($A606>0,VLOOKUP($A606,'Last Document Status-HOMA'!$C:$Y,MATCH(\"Outgoing Date\",'Last Document Status-HOMA'!$1:$1,0)-2,0),0)","v":"00:00:00"},{"$f":"IF($A606>0,VLOOKUP($A606,'Last Document Status-HOMA'!$C:$Y,MATCH(O$9,'Last Document Status-HOMA'!$1:$1,0)-2,0),0)","v":0}]
[null,null,null,null,null,{"$f":"IFERROR((VLOOKUP(#REF!,'5-PMS'!$F$14:$N$192,6,FALSE)),\"\")","v":""},null,null,null,null,{"$f":"IF($A607>0,VLOOKUP($A607,'Last Document Status-HOMA'!$C:$Y,MATCH(K$9,'Last Document Status-HOMA'!$1:$1,0)-2,0),0)","v":0},{"$f":"IF($A607>0,VLOOKUP($A607,'Last Document Status-HOMA'!$C:$Y,MATCH(L$9,'Last Document Status-HOMA'!$1:$1,0)-2,0),0)","v":0},{"$f":"IF($A607>0,VLOOKUP($A607,'Last Document Status-HOMA'!$C:$Y,MATCH(M$9,'Last Document Status-HOMA'!$1:$1,0)-2,0),0)","v":"00:00:00"},{"$f":"IF($A607>0,VLOOKUP($A607,'Last Document Status-HOMA'!$C:$Y,MATCH(\"Outgoing Date\",'Last Document Status-HOMA'!$1:$1,0)-2,0),0)","v":"00:00:00"},{"$f":"IF($A607>0,VLOOKUP($A607,'Last Document Status-HOMA'!$C:$Y,MATCH(O$9,'Last Document Status-HOMA'!$1:$1,0)-2,0),0)","v":0}]
[null,null,null,null,null,{"$f":"IFERROR((VLOOKUP(#REF!,'5-PMS'!$F$14:$N$192,6,FALSE)),\"\")","v":""},null,null,null,null,{"$f":"IF($A608>0,VLOOKUP($A608,'Last Document Status-HOMA'!$C:$Y,MATCH(K$9,'Last Document Status-HOMA'!$1:$1,0)-2,0),0)","v":0},{"$f":"IF($A608>0,VLOOKUP($A608,'Last Document Status-HOMA'!$C:$Y,MATCH(L$9,'Last Document Status-HOMA'!$1:$1,0)-2,0),0)","v":0},{"$f":"IF($A608>0,VLOOKUP($A608,'Last Document Status-HOMA'!$C:$Y,MATCH(M$9,'Last Document Status-HOMA'!$1:$1,0)-2,0),0)","v":"00:00:00"},{"$f":"IF($A608>0,VLOOKUP($A608,'Last Document Status-HOMA'!$C:$Y,MATCH(\"Outgoing Date\",'Last Document Status-HOMA'!$1:$1,0)-2,0),0)","v":"00:00:00"},{"$f":"IF($A608>0,VLOOKUP($A608,'Last Document Status-HOMA'!$C:$Y,MATCH(O$9,'Last Document Status-HOMA'!$1:$1,0)-2,0),0)","v":0}]
[null,null,null,null,null,{"$f":"IFERROR((VLOOKUP(#REF!,'5-PMS'!$F$14:$N$192,6,FALSE)),\"\")","v":""},null,null,null,null,{"$f":"IF($A609>0,VLOOKUP($A609,'Last Document Status-HOMA'!$C:$Y,MATCH(K$9,'Last Document Status-HOMA'!$1:$1,0)-2,0),0)","v":0},{"$f":"IF($A609>0,VLOOKUP($A609,'Last Document Status-HOMA'!$C:$Y,MATCH(L$9,'Last Document Status-HOMA'!$1:$1,0)-2,0),0)","v":0},{"$f":"IF($A609>0,VLOOKUP($A609,'Last Document Status-HOMA'!$C:$Y,MATCH(M$9,'Last Document Status-HOMA'!$1:$1,0)-2,0),0)","v":"00:00:00"},{"$f":"IF($A609>0,VLOOKUP($A609,'Last Document Status-HOMA'!$C:$Y,MATCH(\"Outgoing Date\",'Last Document Status-HOMA'!$1:$1,0)-2,0),0)","v":"00:00:00"},{"$f":"IF($A609>0,VLOOKUP($A609,'Last Document Status-HOMA'!$C:$Y,MATCH(O$9,'Last Document Status-HOMA'!$1:$1,0)-2,0),0)","v":0}]
[null,null,null,null,null,{"$f":"IFERROR((VLOOKUP(#REF!,'5-PMS'!$F$14:$N$192,6,FALSE)),\"\")","v":""},null,null,null,null,{"$f":"IF($A610>0,VLOOKUP($A610,'Last Document Status-HOMA'!$C:$Y,MATCH(K$9,'Last Document Status-HOMA'!$1:$1,0)-2,0),0)","v":0},{"$f":"IF($A610>0,VLOOKUP($A610,'Last Document Status-HOMA'!$C:$Y,MATCH(L$9,'Last Document Status-HOMA'!$1:$1,0)-2,0),0)","v":0},{"$f":"IF($A610>0,VLOOKUP($A610,'Last Document Status-HOMA'!$C:$Y,MATCH(M$9,'Last Document Status-HOMA'!$1:$1,0)-2,0),0)","v":"00:00:00"},{"$f":"IF($A610>0,VLOOKUP($A610,'Last Document Status-HOMA'!$C:$Y,MATCH(\"Outgoing Date\",'Last Document Status-HOMA'!$1:$1,0)-2,0),0)","v":"00:00:00"},{"$f":"IF($A610>0,VLOOKUP($A610,'Last Document Status-HOMA'!$C:$Y,MATCH(O$9,'Last Document Status-HOMA'!$1:$1,0)-2,0),0)","v":0}]
[null,null,null,null,null,{"$f":"IFERROR((VLOOKUP(#REF!,'5-PMS'!$F$14:$N$192,6,FALSE)),\"\")","v":""},null,null,null,null,{"$f":"IF($A611>0,VLOOKUP($A611,'Last Document Status-HOMA'!$C:$Y,MATCH(K$9,'Last Document Status-HOMA'!$1:$1,0)-2,0),0)","v":0},{"$f":"IF($A611>0,VLOOKUP($A611,'Last Document Status-HOMA'!$C:$Y,MATCH(L$9,'Last Document Status-HOMA'!$1:$1,0)-2,0),0)","v":0},{"$f":"IF($A611>0,VLOOKUP($A611,'Last Document Status-HOMA'!$C:$Y,MATCH(M$9,'Last Document Status-HOMA'!$1:$1,0)-2,0),0)","v":"00:00:00"},{"$f":"IF($A611>0,VLOOKUP($A611,'Last Document Status-HOMA'!$C:$Y,MATCH(\"Outgoing Date\",'Last Document Status-HOMA'!$1:$1,0)-2,0),0)","v":"00:00:00"},{"$f":"IF($A611>0,VLOOKUP($A611,'Last Document Status-HOMA'!$C:$Y,MATCH(O$9,'Last Document Status-HOMA'!$1:$1,0)-2,0),0)","v":0}]

{"sheet":"9-Manufacturing Pics Gallery","index":9,"n_rows":65,"n_cols":7,"rows_kept":65,"cut":false,"hidden":false,"merged":[[0,2,0,5],[0,6,0,7]]}
[null,null,"Picture of Operational Stages of Manufacturing",null,null,null,"Contractor/Vendor Logo"]
[]
["Operation Stage Dicsription:"]
[]
["1- Forming Component X of Tag A"]
[]
[]
[]
[]
[]
[]
[]
[]
[]
[]
[]
[]
[]
[]
[]
[]
[]
[]
[]
["2- Welding Component X of Tag A"]
[]
[]
[]
[]
[]
[]
[]
[]
[]
[]
[]
[]
[]
[]
[]
[]
[]
[]
[]
["3- Welding Component X of Tag A"]
[]
[]
[]
[]
[]
[]
[]
[]
[]
[]
[]
[]
[]
[]
[]
[]
[]
[]
[]
["Final Inspection and Packing "]

{"sheet":"Last Document Status-HOMA","index":10,"n_rows":78,"n_cols":25,"rows_kept":78,"cut":false,"hidden":false,"merged":[]}
["Project","Disc.","Document Code","Document Description","VPIS POI","Vendor Code","Vendor Name","Purchase Order No","Plan Date","Vendor Trans No.","Revision","Recieved DCC","Date","Status","Comment Sheet No.","Outgoing Date","Comment Type","Vendor ReplySheet No","Vendor ReplySheet Date","ReturnReplysheet.","Outgoing Conclusion No.","Outgoing Conclusion Date","Outgoing Conclusion Type","Vendor Delay (First)","Vendor Delay (Revised)"]
["EX1664","ME","HDPE-16-VD-5002-GN-LST-0001","Vendor Print Index & Schedule (VPIS)","IFA","PAR","Pargasiran Company","HDPE-16-DD-00-ME-PO-5002","2022-02-27T00:00:44","THD-PAR/EH-T-0006","01","2022-04-04T14:40:03.067","2022-04-04T04:30:44","R",null,null,null,null,null,"",null,null,null,0,0]
["EX1664","ME","HDPE-16-VD-5002-GN-WBS-0001","Work Breakdown Structure (WBS) for Reactors","IFA","PAR","Pargasiran Company","HDPE-16-DD-00-ME-PO-5002",null,"THD-PAR/EH-T-0005","01","2022-04-04T11:43:44.243","2022-04-04T04:30:44","R","THD-EH/PAR-C-0004","2022-04-04T07:51:32.347","Code4",null,null,"",null,null,null,0,0]
["EX1664","ME","HDPE-16-VD-5002-GN-SCH-0001","PROJECT DETAILED TIME SCHEDULE for REACTORS","IFA","PAR","Pargasiran Company","HDPE-16-DD-00-ME-PO-5002",null,"THD-PAR/EH-T-0003","00","2022-03-07T14:10:59.500","2022-03-07T03:30:44","F","THD-EH/PAR-C-0004","2022-04-04T07:51:32.347","Code2",null,null,"",null,null,null,0,0]
["EX1664","ME","HDPE-16-VD-5002-ME-DWG-0031","General Arrangement Drawing for 16-R-111","IFR","PAR","Pargasiran Company","HDPE-16-DD-00-ME-PO-5002",null,"THD-PAR/EH-T-0002","00","2022-03-07T11:58:57.487","2022-03-07T03:30:44","F","THD-EH/PAR-C-0003","2022-04-04T07:49:51.030","Code1",null,null,"",null,null,null,0,0]
["EX1664","ME","HDPE-16-VD-5002-ME-DWG-0043","General Arrangement Drawing for 16-R-121","IFR","PAR","Pargasiran Company","HDPE-16-DD-00-ME-PO-5002",null,"THD-PAR/EH-T-0003","00","2022-03-08T14:11:00","2022-03-07T03:30:44","F","THD-EH/PAR-C-0004","2022-04-04T07:51:32.347","Code3",null,null,"",null,null,null,0,0]
["EX1664","ME","HDPE-16-VD-5002-ME-CAL-0030","Mechanical Calculations for 16-R-111","IFR","PAR","Pargasiran Company","HDPE-16-DD-00-ME-PO-5002",null,"THD-PAR/EH-T-0002","00",null,"2022-03-07T14:19:05.273","First Issue","THD-EH/PAR-C-0003","2022-04-04T08:03:37.450","Code5",null,null,"",null,null,null,0,0]
["EX1664","ME","HDPE-16-VD-5002-ME-CAL-0037","Shipping & Lifting Calculation for 16-R-111","IFI","PAR","Pargasiran Company","HDPE-16-DD-00-ME-PO-5002",null,"THD-PAR/EH-T-0003","00","2022-03-08T14:11:00","2022-03-07T14:19:05.273","First Issue","THD-EH/PAR-C-0004","2022-04-04T07:51:32.347","Code5",null,null,"",null,null,null,0,0]
["EX1664","ME","HDPE-16-VD-5002-ME-CAL-0040","Pipe Support Clip Calculation for 16-R-111 ( IF ANY )","IFR","PAR","Pargasiran Company","HDPE-16-DD-00-ME-PO-5002",null,"THD-PAR/EH-T-0003","00","2022-03-08T14:11:00","2022-03-07T14:19:05.273","First Issue",null,null,null,null,null,"",null,null,null,0,0]
["EX1664","ME","HDPE-16-VD-5002-ME-CAL-0041","FEA Calculation for 16-R-111 ( IF ANY )","IFR","PAR","Pargasiran Company","HDPE-16-DD-00-ME-PO-5002",null,"THD-PAR/EH-T-0003","00","2022-03-08T14:11:00","2022-03-07T14:19:05.273","First Issue",null,null,null,null,null,"",null,null,null,0,0]
["EX1664","ME","HDPE-16-VD-5002-ME-CAL-0042","Mechanical Calculations for 16-R-121","IFR","PAR","Pargasiran Company","HDPE-16-DD-00-ME-PO-5002",null,null,null,"2022-03-08T14:11:00","2022-03-07T14:19:05.273","First Issue",null,null,null,null,null,"",null,null,null,0,0]
["EX1664","ME","HDPE-16-VD-5002-ME-CAL-0049","Shipping & Lifting Calculation for 16-R-121","IFR","PAR","Pargasiran Company","HDPE-16-DD-00-ME-PO-5002",null,null,null,null,"2022-03-07T14:19:05.273","First Issue",null,null,null,null,null,"",null,null,null,0,0]
["EX1664","ME","HDPE-16-VD-5002-ME-CAL-0053","Pipe Support Clip Calculation for 16-R-121 ( IF ANY )","IFR","PAR","Pargasiran Company","HDPE-16-DD-00-ME-PO-5002",null,null,null,null,"2022-03-07T14:19:05.273","First Issue",null,null,null,null,null,"",null,null,null,0,0]
["EX1664","ME","HDPE-16-VD-5002-ME-CAL-0054","FEA Calculation for 16-R-121 ( IF ANY )","IFR","PAR","Pargasiran Company","HDPE-16-DD-00-ME-PO-5002",null,null,null,null,null,null,null,null,null,null,null,"",null,null,null,0,0]
["EX1664","ME","HDPE-16-VD-5002-ME-CAL-0055","Mechanical Calculations for 16-R-122","IFR","PAR","Pargasiran Company","HDPE-16-DD-00-ME-PO-5002",null,null,null,null,null,null,null,null,null,null,null,"",null,null,null,0,0]
["EX1664","ME","HDPE-16-VD-5002-ME-CAL-0062","Shipping & Lifting Calculation for 16-R-122","IFR","PAR","Pargasiran Company","HDPE-16-DD-00-ME-PO-5002",null,null,null,null,null,null,null,null,null,null,null,"",null,null,null,0,0]
["EX1664","ME","HDPE-16-VD-5002-ME-CAL-0066","Pipe Support Clip Calculation for 16-R-122 ( IF ANY )","IFR","PAR","Pargasiran Company","HDPE-16-DD-00-ME-PO-5002",null,null,null,null,null,null,null,null,null,null,null,"",null,null,null,0,0]
["EX1664","ME","HDPE-16-VD-5002-ME-CAL-0067","FEA Calculation for 16-R-122 ( IF ANY )","IFR","PAR","Pargasiran Company","HDPE-16-DD-00-ME-PO-5002",null,null,null,null,null,null,null,null,null,null,null,"",null,null,null,0,0]
["EX1664","ME","HDPE-16-VD-5002-ME-CAL-0068","Mechanical Calculations for 16-R-123","IFR","PAR","Pargasiran Company","HDPE-16-DD-00-ME-PO-5002",null,null,null,null,null,null,null,null,null,null,null,"",null,null,null,0,0]
["EX1664","ME","HDPE-16-VD-5002-ME-CAL-0075","Shipping & Lifting Calculation for 16-R-123","IFR","PAR","Pargasiran Company","HDPE-16-DD-00-ME-PO-5002",null,"THD-PAR/EH-T-0002","00","2022-03-07T11:58:57.487","2022-03-07T03:30:44","F","THD-EH/PAR-C-0003","2022-04-04T07:49:51.030","Code3",null,null,"",null,null,null,0,0]
["EX1664","ME","HDPE-16-VD-5002-ME-CAL-0079","Pipe Support Clip Calculation for 16-R-123 ( IF ANY )","IFR","PAR","Pargasiran Company","HDPE-16-DD-00-ME-PO-5002",null,null,null,null,null,null,null,null,null,null,null,"",null,null,null,0,0]
["EX1664","ME","HDPE-16-VD-5002-ME-CAL-0080","FEA Calculation for 16-R-123 ( IF ANY )","IFR","PAR","Pargasiran Company","HDPE-16-DD-00-ME-PO-5002",null,null,null,null,null,null,null,null,null,null,null,"",null,null,null,0,0]
["EX1664","ME","HDPE-16-VD-5002-ME-CAT-0009","Catalogues for Reactors","IFI","PAR","Pargasiran Company","HDPE-16-DD-00-ME-PO-5002",null,null,null,null,null,null,null,null,null,null,null,"",null,null,null,0,0]
["EX1664","ME","HDPE-16-VD-5002-ME-CER-0012","NDT Personal Qualification Certificate for Reactors","IFI","PAR","Pargasiran Company","HDPE-16-DD-00-ME-PO-5002",null,null,null,null,null,null,null,null,null,null,null,"",null,null,null,0,0]
["EX1664","ME","HDPE-16-VD-5002-ME-CER-0014","Welders Qualification Certificates for Reactors","IFI","PAR","Pargasiran Company","HDPE-16-DD-00-ME-PO-5002",null,null,null,null,null,null,null,null,null,null,null,"",null,null,null,0,0]
["EX1664","ME","HDPE-16-VD-5002-ME-DWG-0010","NDT Map For Reactors","IFR","PAR","Pargasiran Company","HDPE-16-DD-00-ME-PO-5002",null,null,null,null,null,null,null,null,null,null,null,"",null,null,null,0,0]
["EX1664","ME","HDPE-16-VD-5002-ME-DWG-0013","WPS/ PQR / Welding Map for Reactors","IFR","PAR","Pargasiran Company","HDPE-16-DD-00-ME-PO-5002",null,null,null,null,null,null,null,null,null,null,null,"",null,null,null,0,0]
["EX1664","ME","HDPE-16-VD-5002-ME-DWG-0032","Body Detail Drawing for 16-R-111","IFR","PAR","Pargasiran Company","HDPE-16-DD-00-ME-PO-5002",null,null,null,null,null,null,null,null,null,null,null,"",null,null,null,0,0]
["EX1664","ME","HDPE-16-VD-5002-ME-DWG-0033","External Drawing for 16-R-111","IFI","PAR","Pargasiran Company","HDPE-16-DD-00-ME-PO-5002",null,null,null,null,null,null,null,null,null,null,null,"",null,null,null,0,0]
["EX1664","ME","HDPE-16-VD-5002-ME-DWG-0034","Nozzle & Manhole Drawing for 16-R-111","IFI","PAR","Pargasiran Company","HDPE-16-DD-00-ME-PO-5002",null,null,null,null,null,null,null,null,null,null,null,"",null,null,null,0,0]
["EX1664","ME","HDPE-16-VD-5002-ME-DWG-0035","Nameplate Drawing for 16-R-111","IFI","PAR","Pargasiran Company","HDPE-16-DD-00-ME-PO-5002",null,null,null,null,null,null,null,null,null,null,null,"",null,null,null,0,0]
["EX1664","ME","HDPE-16-VD-5002-ME-DWG-0036","Shipping & Lifting Detail Drawing for 16-R-111","IFR","PAR","Pargasiran Company","HDPE-16-DD-00-ME-PO-5002",null,null,null,null,null,null,null,null,null,null,null,"",null,null,null,0,0]
["EX1664","ME","HDPE-16-VD-5002-ME-DWG-0038","Ladder & Platform Detail Drawing for 16-R-111","IFR","PAR","Pargasiran Company","HDPE-16-DD-00-ME-PO-5002",null,null,null,null,null,null,null,null,null,null,null,"",null,null,null,0,0]
["EX1664","ME","HDPE-16-VD-5002-ME-DWG-0039","Pipe Support Clip Detail Drawing for 16-R-111 ( IF ANY )","IFR","PAR","Pargasiran Company","HDPE-16-DD-00-ME-PO-5002",null,null,null,null,null,null,null,null,null,null,null,"",null,null,null,0,0]
["EX1664","ME","HDPE-16-VD-5002-ME-DWG-0044","Body Detail Drawing for 16-R-121","IFR","PAR","Pargasiran Company","HDPE-16-DD-00-ME-PO-5002",null,null,null,null,null,null,null,null,null,null,null,"",null,null,null,0,0]
["EX1664","ME","HDPE-16-VD-5002-ME-DWG-0045","External Drawing for 16-R-121","IFR","PAR","Pargasiran Company","HDPE-16-DD-00-ME-PO-5002",null,null,null,null,null,null,null,null,null,null,null,"",null,null,null,0,0]
["EX1664","ME","HDPE-16-VD-5002-ME-DWG-0046","Nozzle & Manhole Drawing for 16-R-121","IFI","PAR","Pargasiran Company","HDPE-16-DD-00-ME-PO-5002",null,null,null,null,null,null,null,null,null,null,null,"",null,null,null,0,0]
["EX1664","ME","HDPE-16-VD-5002-ME-DWG-0047","Nameplate Drawing for 16-R-121","IFI","PAR","Pargasiran Company","HDPE-16-DD-00-ME-PO-5002",null,null,null,null,null,null,null,null,null,null,null,"",null,null,null,0,0]
["EX1664","ME","HDPE-16-VD-5002-ME-DWG-0048","Shipping & Lifting Detail Drawing for 16-R-121","IFI","PAR","Pargasiran Company","HDPE-16-DD-00-ME-PO-5002",null,null,null,null,null,null,null,null,null,null,null,"",null,null,null,0,0]
["EX1664","ME","HDPE-16-VD-5002-ME-DWG-0050","Ladder & Platform Detail Drawing for 16-R-121","IFR","PAR","Pargasiran Company","HDPE-16-DD-00-ME-PO-5002",null,null,null,null,null,null,null,null,null,null,null,"",null,null,null,0,0]
["EX1664","ME","HDPE-16-VD-5002-ME-DWG-0051","Template Detail Drawing for 16-R-121","IFR","PAR","Pargasiran Company","HDPE-16-DD-00-ME-PO-5002",null,null,null,null,null,null,null,null,null,null,null,"",null,null,null,0,0]
["EX1664","ME","HDPE-16-VD-5002-ME-DWG-0052","Pipe Support Clip Detail Drawing for 16-R-121 ( IF ANY )","IFR","PAR","Pargasiran Company","HDPE-16-DD-00-ME-PO-5002",null,null,null,null,null,null,null,null,null,null,null,"",null,null,null,0,0]
["EX1664","ME","HDPE-16-VD-5002-ME-DWG-0056","General Arrangement Drawing for 16-R-122","IFR","PAR","Pargasiran Company","HDPE-16-DD-00-ME-PO-5002",null,null,null,null,null,null,null,null,null,null,null,"",null,null,null,0,0]
["EX1664","ME","HDPE-16-VD-5002-ME-DWG-0057","Body Detail Drawing for 16-R-122","IFR","PAR","Pargasiran Company","HDPE-16-DD-00-ME-PO-5002",null,null,null,null,null,null,null,null,null,null,null,"",null,null,null,0,0]
["EX1664","ME","HDPE-16-VD-5002-ME-DWG-0058","External Drawing for 16-R-122","IFR","PAR","Pargasiran Company","HDPE-16-DD-00-ME-PO-5002",null,null,null,null,null,null,null,null,null,null,null,"",null,null,null,0,0]
["EX1664","ME","HDPE-16-VD-5002-ME-DWG-0059","Nozzle & Manhole Drawing for 16-R-122","IFI","PAR","Pargasiran Company","HDPE-16-DD-00-ME-PO-5002",null,null,null,null,null,null,null,null,null,null,null,"",null,null,null,0,0]
["EX1664","ME","HDPE-16-VD-5002-ME-DWG-0060","Nameplate Drawing for 16-R-122","IFI","PAR","Pargasiran Company","HDPE-16-DD-00-ME-PO-5002",null,null,null,null,null,null,null,null,null,null,null,"",null,null,null,0,0]
["EX1664","ME","HDPE-16-VD-5002-ME-DWG-0061","Shipping & Lifting Detail Drawing for 16-R-122","IFI","PAR","Pargasiran Company","HDPE-16-DD-00-ME-PO-5002",null,null,null,null,null,null,null,null,null,null,null,"",null,null,null,0,0]
["EX1664","ME","HDPE-16-VD-5002-ME-DWG-0063","Ladder & Platform Detail Drawing for 16-R-122","IFR","PAR","Pargasiran Company","HDPE-16-DD-00-ME-PO-5002",null,null,null,null,null,null,null,null,null,null,null,"",null,null,null,0,0]
["EX1664","ME","HDPE-16-VD-5002-ME-DWG-0064","Template Detail Drawing for 16-R-122","IFR","PAR","Pargasiran Company","HDPE-16-DD-00-ME-PO-5002",null,null,null,null,null,null,null,null,null,null,null,"",null,null,null,0,0]
["EX1664","ME","HDPE-16-VD-5002-ME-DWG-0065","Pipe Support Clip Detail Drawing for 16-R-122 ( IF ANY )","IFR","PAR","Pargasiran Company","HDPE-16-DD-00-ME-PO-5002",null,null,null,null,null,null,null,null,null,null,null,"",null,null,null,0,0]
["EX1664","ME","HDPE-16-VD-5002-ME-DWG-0069","General Arrangement Drawing for 16-R-123","IFR","PAR","Pargasiran Company","HDPE-16-DD-00-ME-PO-5002",null,null,null,null,null,null,null,null,null,null,null,"",null,null,null,0,0]
["EX1664","ME","HDPE-16-VD-5002-ME-DWG-0070","Body Detail Drawing for 16-R-123","IFR","PAR","Pargasiran Company","HDPE-16-DD-00-ME-PO-5002",null,null,null,null,null,null,null,null,null,null,null,"",null,null,null,0,0]
["EX1664","ME","HDPE-16-VD-5002-ME-DWG-0071","External Drawing for 16-R-123","IFR","PAR","Pargasiran Company","HDPE-16-DD-00-ME-PO-5002",null,null,null,null,null,null,null,null,null,null,null,"",null,null,null,0,0]
["EX1664","ME","HDPE-16-VD-5002-ME-DWG-0072","Nozzle & Manhole Drawing for 16-R-123","IFI","PAR","Pargasiran Company","HDPE-16-DD-00-ME-PO-5002",null,null,null,null,null,null,null,null,null,null,null,"",null,null,null,0,0]
["EX1664","ME","HDPE-16-VD-5002-ME-DWG-0073","Nameplate Drawing for 16-R-123","IFI","PAR","Pargasiran Company","HDPE-16-DD-00-ME-PO-5002",null,null,null,null,null,null,null,null,null,null,null,"",null,null,null,0,0]
["EX1664","ME","HDPE-16-VD-5002-ME-DWG-0074","Shipping & Lifting Detail Drawing for 16-R-123","IFI","PAR","Pargasiran Company","HDPE-16-DD-00-ME-PO-5002",null,null,null,null,null,null,null,null,null,null,null,"",null,null,null,0,0]
["EX1664","ME","HDPE-16-VD-5002-ME-DWG-0076","Ladder & Platform Detail Drawing for 16-R-123","IFR","PAR","Pargasiran Company","HDPE-16-DD-00-ME-PO-5002",null,null,null,null,null,null,null,null,null,null,null,"",null,null,null,0,0]
["EX1664","ME","HDPE-16-VD-5002-ME-DWG-0077","Template Detail Drawing for 16-R-123","IFR","PAR","Pargasiran Company","HDPE-16-DD-00-ME-PO-5002",null,null,null,null,null,null,null,null,null,null,null,"",null,null,null,0,0]
["EX1664","ME","HDPE-16-VD-5002-ME-DWG-0078","Pipe Support Clip Detail Drawing for 16-R-123 ( IF ANY )","IFR","PAR","Pargasiran Company","HDPE-16-DD-00-ME-PO-5002",null,null,null,null,null,null,null,null,null,null,null,"",null,null,null,0,0]
["EX1664","ME","HDPE-16-VD-5002-ME-ITP-0005","Inspection & Test Plan for Reactors","IFR","PAR","Pargasiran Company","HDPE-16-DD-00-ME-PO-5002",null,null,null,null,null,null,null,null,null,null,null,"",null,null,null,0,0]
["EX1664","ME","HDPE-16-VD-5002-ME-LST-0007","Two Years Spare Part List for Reactors","IFR","PAR","Pargasiran Company","HDPE-16-DD-00-ME-PO-5002",null,null,null,null,null,null,null,null,null,null,null,"",null,null,null,0,0]
["EX1664","ME","HDPE-16-VD-5002-ME-LST-0008","Pre-commissioning, Commissioning & Start-Up Spare Part for Reactors","IFR","PAR","Pargasiran Company","HDPE-16-DD-00-ME-PO-5002",null,null,null,null,null,null,null,null,null,null,null,"",null,null,null,0,0]
["EX1664","ME","HDPE-16-VD-5002-ME-MNL-0027","Installation & Maintenance Manual Procedure for Reactors","IFR","PAR","Pargasiran Company","HDPE-16-DD-00-ME-PO-5002",null,null,null,null,null,null,null,null,null,null,null,"",null,null,null,0,0]
["EX1664","ME","HDPE-16-VD-5002-ME-PRC-0011","NDT Procedure for Reactors","IFR","PAR","Pargasiran Company","HDPE-16-DD-00-ME-PO-5002",null,null,null,null,null,null,null,null,null,null,null,"",null,null,null,0,0]
["EX1664","ME","HDPE-16-VD-5002-ME-PRC-0015","General Repair Procedure for Reactors","IFI","PAR","Pargasiran Company","HDPE-16-DD-00-ME-PO-5002",null,null,null,null,null,null,null,null,null,null,null,"",null,null,null,0,0]
["EX1664","ME","HDPE-16-VD-5002-ME-PRC-0016","Hydrostatic & Pneumatic Test Procedures for Reactors","IFI","PAR","Pargasiran Company","HDPE-16-DD-00-ME-PO-5002",null,null,null,null,null,null,null,null,null,null,null,"",null,null,null,0,0]
["EX1664","ME","HDPE-16-VD-5002-ME-PRC-0017","PWHT & Hardness test Procedure for Reactors","IFR","PAR","Pargasiran Company","HDPE-16-DD-00-ME-PO-5002",null,null,null,null,null,null,null,null,null,null,null,"",null,null,null,0,0]
["EX1664","ME","HDPE-16-VD-5002-ME-PRC-0018","Surface Preparation Procedure (including Mechanical Polishing) for Reactors","IFR","PAR","Pargasiran Company","HDPE-16-DD-00-ME-PO-5002",null,null,null,null,null,null,null,null,null,null,null,"",null,null,null,0,0]
["EX1664","ME","HDPE-16-VD-5002-ME-PRC-0019","Painting Procedure for Reactors","IFR","PAR","Pargasiran Company","HDPE-16-DD-00-ME-PO-5002",null,null,null,null,null,null,null,null,null,null,null,"",null,null,null,0,0]
["EX1664","ME","HDPE-16-VD-5002-ME-PRC-0020","Packing, Marking & Shipping Procedure for Reactors","IFR","PAR","Pargasiran Company","HDPE-16-DD-00-ME-PO-5002",null,null,null,null,null,null,null,null,null,null,null,"",null,null,null,0,0]
["EX1664","ME","HDPE-16-VD-5002-ME-PRC-0021","Material Identification & Traceability Procedure for Reactors","IFR","PAR","Pargasiran Company","HDPE-16-DD-00-ME-PO-5002",null,null,null,null,null,null,null,null,null,null,null,"",null,null,null,0,0]
["EX1664","ME","HDPE-16-VD-5002-ME-PRC-0022","Protection & Preservation Procedure for Reactors","IFR","PAR","Pargasiran Company","HDPE-16-DD-00-ME-PO-5002",null,null,null,null,null,null,null,null,null,null,null,"",null,null,null,0,0]
["EX1664","ME","HDPE-16-VD-5002-ME-PRC-0023","Pickling & Passivation Procedure for Reactors","IFI","PAR","Pargasiran Company","HDPE-16-DD-00-ME-PO-5002",null,null,null,null,null,null,null,null,null,null,null,"",null,null,null,0,0]
["EX1664","ME","HDPE-16-VD-5002-ME-PRC-0024","PMI Procedure for Reactors","IFI","PAR","Pargasiran Company","HDPE-16-DD-00-ME-PO-5002",null,null,null,null,null,null,null,null,null,null,null,"",null,null,null,0,0]
["EX1664","ME","HDPE-16-VD-5002-ME-PRC-0025","Fabrication Procedure for Reactors","IFI","PAR","Pargasiran Company","HDPE-16-DD-00-ME-PO-5002",null,null,null,null,null,null,null,null,null,null,null,"",null,null,null,0,0]
["EX1664","ME","HDPE-16-VD-5002-ME-PRC-0026","Transportation Procedure for Reactors","IFR","PAR","Pargasiran Company","HDPE-16-DD-00-ME-PO-5002",null,null,null,null,null,null,null,null,null,null,null,"",null,null,null,0,0]
["EX1664","ME","HDPE-16-VD-5002-ME-QCP-0006","Vendor's Quality Control Plan for Reactors","IFI","PAR","Pargasiran Company","HDPE-16-DD-00-ME-PO-5002",null,null,null,null,null,null,null,null,null,null,null,"",null,null,null,0,0]

{"sheet":"Overall Document Status-HOMA","index":11,"n_rows":82,"n_cols":23,"rows_kept":82,"cut":false,"hidden":false,"merged":[]}
["Project","Disc.","Document Code","Document Description","VPIS POI","Vendor Code","Vendor Name","Purchase Order No","Plan Date","Vendor Trans No.","Revision","Recieved DCC","Date","Status","Comment Sheet No.","Outgoing Date","Comment Type","Vendor ReplySheet No.","Vendor ReplySheet Date","ReturnReplysheet.","Outgoing Conclusion No.","Outgoing Conclusion Date","Outgoing Conclusion Type"]
["EX1664","ME","HDPE-16-VD-5002-GN-LST-0001","Vendor Print Index & Schedule (VPIS)","Issued for Approval","PAR","Pargasiran Company","HDPE-16-DD-00-ME-PO-5002","2022-02-27T00:00:44","THD-PAR/EH-T-0001","00","2022-03-06T11:13:51.780","2022-03-06T11:13:51.780","First Issue","THD-EH/PAR-T-0001","2022-03-12T11:39:14.463","Code2",null,null,""]
["EX1664","ME","HDPE-16-VD-5002-GN-LST-0001","Vendor Print Index & Schedule (VPIS)","Issued for Approval","PAR","Pargasiran Company","HDPE-16-DD-00-ME-PO-5002","2022-02-27T00:00:44","THD-PAR/EH-T-0006","01",null,null,"Revised Issue",null,null,null,null,null,""]
["EX1664","ME","HDPE-16-VD-5002-PC-WBS-0002","Work Breakdown Structure (WBS) for Reactors","Issued for Approval","PAR","Pargasiran Company","HDPE-16-DD-00-ME-PO-5002",null,"THD-PAR/EH-T-0004","00","2022-03-09T09:29:42.960","2022-03-09T09:29:42.960","First Issue","THD-EH-PAR-C-0002","2022-03-15T13:26:14.097","Code1",null,null,""]
["EX1664","ME","HDPE-16-VD-5002-PC-WBS-0002","Work Breakdown Structure (WBS) for Reactors","Issued for Approval","PAR","Pargasiran Company","HDPE-16-DD-00-ME-PO-5002",null,"THD-PAR/EH-T-0005","01","2022-04-04T11:46:37.060","2022-04-04T11:46:37.060","Revised Issue",null,null,null,null,null,""]
["EX1664","ME","HDPE-16-VD-5002-GN-SCH-0001","PROJECT DETAILED TIME SCHEDULE for REACTORS","Issued for Approval","PAR","Pargasiran Company","HDPE-16-DD-00-ME-PO-5002",null,"THD-PAR/EH-T-0002","00","2022-03-07T14:19:05.273","2022-03-07T14:19:05.273","First Issue","THD-EH/PAR-C-0003","2022-04-04T08:03:37.450","Code3",null,null,""]
["EX1664","ME","HDPE-16-VD-5002-ME-CAL-0030","Mechanical Calculations for 16-R-111","Issued for Review","PAR","Pargasiran Company","HDPE-16-DD-00-ME-PO-5002",null,"THD-PAR/EH-T-0002","00","2022-03-07T14:19:05.273","2022-03-07T14:19:05.273","First Issue","THD-EH/PAR-C-0003","2022-04-04T08:03:37.450","Code3",null,null,""]
["EX1664","ME","HDPE-16-VD-5002-ME-DWG-0031","General Arrangement Drawing for 16-R-111","Issued for Review","PAR","Pargasiran Company","HDPE-16-DD-00-ME-PO-5002",null,"THD-PAR/EH-T-0002","00","2022-03-07T14:19:05.273","2022-03-07T14:19:05.273","First Issue","THD-EH/PAR-C-0003","2022-04-04T08:03:37.450","Code3",null,null,""]
["EX1664","ME","HDPE-16-VD-5002-ME-CAL-0042","Mechanical Calculations for 16-R-121","Issued for Review","PAR","Pargasiran Company","HDPE-16-DD-00-ME-PO-5002",null,"THD-PAR/EH-T-0003","00","2022-03-07T15:22:40.243","2022-03-07T15:22:40.243","First Issue","THD-EH/PAR-C-0004","2022-04-04T08:06:14.567","Code3",null,null,""]
["EX1664","ME","HDPE-16-VD-5002-ME-DWG-0043","General Arrangement Drawing for 16-R-121","Issued for Review","PAR","Pargasiran Company","HDPE-16-DD-00-ME-PO-5002",null,"THD-PAR/EH-T-0003","00","2022-03-07T15:22:40.243","2022-03-07T15:22:40.243","First Issue","THD-EH/PAR-C-0004","2022-04-04T08:06:14.567","Code3",null,null,""]
["EX1664","ME","HDPE-16-VD-5002-ME-CAL-0030","Mechanical Calculations for 16-R-111","Issued for Review","PAR","Pargasiran Company","HDPE-16-DD-00-ME-PO-5002"]
["EX1664","ME","HDPE-16-VD-5002-ME-CAL-0037","Shipping & Lifting Calculation for 16-R-111","Issued for Information","PAR","Pargasiran Company","HDPE-16-DD-00-ME-PO-5002"]
["EX1664","ME","HDPE-16-VD-5002-ME-CAL-0040","Pipe Support Clip Calculation for 16-R-111 ( IF ANY )","Issued for Review","PAR","Pargasiran Company","HDPE-16-DD-00-ME-PO-5002"]
["EX1664","ME","HDPE-16-VD-5002-ME-CAL-0041","FEA Calculation for 16-R-111 ( IF ANY )","Issued for Review","PAR","Pargasiran Company","HDPE-16-DD-00-ME-PO-5002"]
["EX1664","ME","HDPE-16-VD-5002-ME-CAL-0042","Mechanical Calculations for 16-R-121","Issued for Review","PAR","Pargasiran Company","HDPE-16-DD-00-ME-PO-5002"]
["EX1664","ME","HDPE-16-VD-5002-ME-CAL-0049","Shipping & Lifting Calculation for 16-R-121","Issued for Review","PAR","Pargasiran Company","HDPE-16-DD-00-ME-PO-5002"]
["EX1664","ME","HDPE-16-VD-5002-ME-CAL-0053","Pipe Support Clip Calculation for 16-R-121 ( IF ANY )","Issued for Review","PAR","Pargasiran Company","HDPE-16-DD-00-ME-PO-5002"]
["EX1664","ME","HDPE-16-VD-5002-ME-CAL-0054","FEA Calculation for 16-R-121 ( IF ANY )","Issued for Review","PAR","Pargasiran Company","HDPE-16-DD-00-ME-PO-5002"]
["EX1664","ME","HDPE-16-VD-5002-ME-CAL-0055","Mechanical Calculations for 16-R-122","Issued for Review","PAR","Pargasiran Company","HDPE-16-DD-00-ME-PO-5002"]
["EX1664","ME","HDPE-16-VD-5002-ME-CAL-0062","Shipping & Lifting Calculation for 16-R-122","Issued for Review","PAR","Pargasiran Company","HDPE-16-DD-00-ME-PO-5002"]
["EX1664","ME","HDPE-16-VD-5002-ME-CAL-0066","Pipe Support Clip Calculation for 16-R-122 ( IF ANY )","Issued for Review","PAR","Pargasiran Company","HDPE-16-DD-00-ME-PO-5002"]
["EX1664","ME","HDPE-16-VD-5002-ME-CAL-0067","FEA Calculation for 16-R-122 ( IF ANY )","Issued for Review","PAR","Pargasiran Company","HDPE-16-DD-00-ME-PO-5002"]
["EX1664","ME","HDPE-16-VD-5002-ME-CAL-0068","Mechanical Calculations for 16-R-123","Issued for Review","PAR","Pargasiran Company","HDPE-16-DD-00-ME-PO-5002"]
["EX1664","ME","HDPE-16-VD-5002-ME-CAL-0075","Shipping & Lifting Calculation for 16-R-123","Issued for Review","PAR","Pargasiran Company","HDPE-16-DD-00-ME-PO-5002"]
["EX1664","ME","HDPE-16-VD-5002-ME-CAL-0079","Pipe Support Clip Calculation for 16-R-123 ( IF ANY )","Issued for Review","PAR","Pargasiran Company","HDPE-16-DD-00-ME-PO-5002"]
["EX1664","ME","HDPE-16-VD-5002-ME-CAL-0080","FEA Calculation for 16-R-123 ( IF ANY )","Issued for Review","PAR","Pargasiran Company","HDPE-16-DD-00-ME-PO-5002"]
["EX1664","ME","HDPE-16-VD-5002-ME-CAT-0009","Catalogues for Reactors","IFI","PAR","Pargasiran Company","HDPE-16-DD-00-ME-PO-5002"]
["EX1664","ME","HDPE-16-VD-5002-ME-CER-0012","NDT Personal Qualification Certificate for Reactors","IFI","PAR","Pargasiran Company","HDPE-16-DD-00-ME-PO-5002"]
["EX1664","ME","HDPE-16-VD-5002-ME-CER-0014","Welders Qualification Certificates for Reactors","IFI","PAR","Pargasiran Company","HDPE-16-DD-00-ME-PO-5002"]
["EX1664","ME","HDPE-16-VD-5002-ME-DWG-0010","NDT Map For Reactors","Issued for Review","PAR","Pargasiran Company","HDPE-16-DD-00-ME-PO-5002"]
["EX1664","ME","HDPE-16-VD-5002-ME-DWG-0013","WPS/ PQR / Welding Map for Reactors","Issued for Review","PAR","Pargasiran Company","HDPE-16-DD-00-ME-PO-5002"]
["EX1664","ME","HDPE-16-VD-5002-ME-DWG-0032","Body Detail Drawing for 16-R-111","Issued for Review","PAR","Pargasiran Company","HDPE-16-DD-00-ME-PO-5002"]
["EX1664","ME","HDPE-16-VD-5002-ME-DWG-0033","External Drawing for 16-R-111","IFI","PAR","Pargasiran Company","HDPE-16-DD-00-ME-PO-5002"]
["EX1664","ME","HDPE-16-VD-5002-ME-DWG-0034","Nozzle & Manhole Drawing for 16-R-111","IFI","PAR","Pargasiran Company","HDPE-16-DD-00-ME-PO-5002"]
["EX1664","ME","HDPE-16-VD-5002-ME-DWG-0035","Nameplate Drawing for 16-R-111","IFI","PAR","Pargasiran Company","HDPE-16-DD-00-ME-PO-5002"]
["EX1664","ME","HDPE-16-VD-5002-ME-DWG-0036","Shipping & Lifting Detail Drawing for 16-R-111","Issued for Review","PAR","Pargasiran Company","HDPE-16-DD-00-ME-PO-5002"]
["EX1664","ME","HDPE-16-VD-5002-ME-DWG-0038","Ladder & Platform Detail Drawing for 16-R-111","Issued for Review","PAR","Pargasiran Company","HDPE-16-DD-00-ME-PO-5002"]
["EX1664","ME","HDPE-16-VD-5002-ME-DWG-0039","Pipe Support Clip Detail Drawing for 16-R-111 ( IF ANY )","Issued for Review","PAR","Pargasiran Company","HDPE-16-DD-00-ME-PO-5002"]
["EX1664","ME","HDPE-16-VD-5002-ME-DWG-0044","Body Detail Drawing for 16-R-121","Issued for Review","PAR","Pargasiran Company","HDPE-16-DD-00-ME-PO-5002"]
["EX1664","ME","HDPE-16-VD-5002-ME-DWG-0045","External Drawing for 16-R-121","Issued for Review","PAR","Pargasiran Company","HDPE-16-DD-00-ME-PO-5002"]
["EX1664","ME","HDPE-16-VD-5002-ME-DWG-0046","Nozzle & Manhole Drawing for 16-R-121","IFI","PAR","Pargasiran Company","HDPE-16-DD-00-ME-PO-5002"]
["EX1664","ME","HDPE-16-VD-5002-ME-DWG-0047","Nameplate Drawing for 16-R-121","IFI","PAR","Pargasiran Company","HDPE-16-DD-00-ME-PO-5002"]
["EX1664","ME","HDPE-16-VD-5002-ME-DWG-0048","Shipping & Lifting Detail Drawing for 16-R-121","IFI","PAR","Pargasiran Company","HDPE-16-DD-00-ME-PO-5002"]
["EX1664","ME","HDPE-16-VD-5002-ME-DWG-0050","Ladder & Platform Detail Drawing for 16-R-121","Issued for Review","PAR","Pargasiran Company","HDPE-16-DD-00-ME-PO-5002"]
["EX1664","ME","HDPE-16-VD-5002-ME-DWG-0051","Template Detail Drawing for 16-R-121","Issued for Review","PAR","Pargasiran Company","HDPE-16-DD-00-ME-PO-5002"]
["EX1664","ME","HDPE-16-VD-5002-ME-DWG-0052","Pipe Support Clip Detail Drawing for 16-R-121 ( IF ANY )","Issued for Review","PAR","Pargasiran Company","HDPE-16-DD-00-ME-PO-5002"]
["EX1664","ME","HDPE-16-VD-5002-ME-DWG-0056","General Arrangement Drawing for 16-R-122","Issued for Review","PAR","Pargasiran Company","HDPE-16-DD-00-ME-PO-5002"]
["EX1664","ME","HDPE-16-VD-5002-ME-DWG-0057","Body Detail Drawing for 16-R-122","Issued for Review","PAR","Pargasiran Company","HDPE-16-DD-00-ME-PO-5002"]
["EX1664","ME","HDPE-16-VD-5002-ME-DWG-0058","External Drawing for 16-R-122","Issued for Review","PAR","Pargasiran Company","HDPE-16-DD-00-ME-PO-5002"]
["EX1664","ME","HDPE-16-VD-5002-ME-DWG-0059","Nozzle & Manhole Drawing for 16-R-122","IFI","PAR","Pargasiran Company","HDPE-16-DD-00-ME-PO-5002"]
["EX1664","ME","HDPE-16-VD-5002-ME-DWG-0060","Nameplate Drawing for 16-R-122","IFI","PAR","Pargasiran Company","HDPE-16-DD-00-ME-PO-5002"]
["EX1664","ME","HDPE-16-VD-5002-ME-DWG-0061","Shipping & Lifting Detail Drawing for 16-R-122","IFI","PAR","Pargasiran Company","HDPE-16-DD-00-ME-PO-5002"]
["EX1664","ME","HDPE-16-VD-5002-ME-DWG-0063","Ladder & Platform Detail Drawing for 16-R-122","Issued for Review","PAR","Pargasiran Company","HDPE-16-DD-00-ME-PO-5002"]
["EX1664","ME","HDPE-16-VD-5002-ME-DWG-0064","Template Detail Drawing for 16-R-122","Issued for Review","PAR","Pargasiran Company","HDPE-16-DD-00-ME-PO-5002"]
["EX1664","ME","HDPE-16-VD-5002-ME-DWG-0065","Pipe Support Clip Detail Drawing for 16-R-122 ( IF ANY )","Issued for Review","PAR","Pargasiran Company","HDPE-16-DD-00-ME-PO-5002"]
["EX1664","ME","HDPE-16-VD-5002-ME-DWG-0069","General Arrangement Drawing for 16-R-123","Issued for Review","PAR","Pargasiran Company","HDPE-16-DD-00-ME-PO-5002"]
["EX1664","ME","HDPE-16-VD-5002-ME-DWG-0070","Body Detail Drawing for 16-R-123","Issued for Review","PAR","Pargasiran Company","HDPE-16-DD-00-ME-PO-5002"]
["EX1664","ME","HDPE-16-VD-5002-ME-DWG-0071","External Drawing for 16-R-123","Issued for Review","PAR","Pargasiran Company","HDPE-16-DD-00-ME-PO-5002"]
["EX1664","ME","HDPE-16-VD-5002-ME-DWG-0072","Nozzle & Manhole Drawing for 16-R-123","IFI","PAR","Pargasiran Company","HDPE-16-DD-00-ME-PO-5002"]
["EX1664","ME","HDPE-16-VD-5002-ME-DWG-0073","Nameplate Drawing for 16-R-123","IFI","PAR","Pargasiran Company","HDPE-16-DD-00-ME-PO-5002"]
["EX1664","ME","HDPE-16-VD-5002-ME-DWG-0074","Shipping & Lifting Detail Drawing for 16-R-123","IFI","PAR","Pargasiran Company","HDPE-16-DD-00-ME-PO-5002"]
["EX1664","ME","HDPE-16-VD-5002-ME-DWG-0076","Ladder & Platform Detail Drawing for 16-R-123","Issued for Review","PAR","Pargasiran Company","HDPE-16-DD-00-ME-PO-5002"]
["EX1664","ME","HDPE-16-VD-5002-ME-DWG-0077","Template Detail Drawing for 16-R-123","Issued for Review","PAR","Pargasiran Company","HDPE-16-DD-00-ME-PO-5002"]
["EX1664","ME","HDPE-16-VD-5002-ME-DWG-0078","Pipe Support Clip Detail Drawing for 16-R-123 ( IF ANY )","Issued for Review","PAR","Pargasiran Company","HDPE-16-DD-00-ME-PO-5002"]
["EX1664","ME","HDPE-16-VD-5002-ME-ITP-0005","Inspection & Test Plan for Reactors","Issued for Review","PAR","Pargasiran Company","HDPE-16-DD-00-ME-PO-5002"]
["EX1664","ME","HDPE-16-VD-5002-ME-LST-0007","Two Years Spare Part List for Reactors","Issued for Review","PAR","Pargasiran Company","HDPE-16-DD-00-ME-PO-5002"]
["EX1664","ME","HDPE-16-VD-5002-ME-LST-0008","Pre-commissioning, Commissioning & Start-Up Spare Part for Reactors","Issued for Review","PAR","Pargasiran Company","HDPE-16-DD-00-ME-PO-5002"]
["EX1664","ME","HDPE-16-VD-5002-ME-MNL-0027","Installation & Maintenance Manual Procedure for Reactors","Issued for Review","PAR","Pargasiran Company","HDPE-16-DD-00-ME-PO-5002"]
["EX1664","ME","HDPE-16-VD-5002-ME-PRC-0011","NDT Procedure for Reactors","Issued for Review","PAR","Pargasiran Company","HDPE-16-DD-00-ME-PO-5002"]
["EX1664","ME","HDPE-16-VD-5002-ME-PRC-0015","General Repair Procedure for Reactors","IFI","PAR","Pargasiran Company","HDPE-16-DD-00-ME-PO-5002"]
["EX1664","ME","HDPE-16-VD-5002-ME-PRC-0016","Hydrostatic & Pneumatic Test Procedures for Reactors","IFI","PAR","Pargasiran Company","HDPE-16-DD-00-ME-PO-5002"]
["EX1664","ME","HDPE-16-VD-5002-ME-PRC-0017","PWHT & Hardness test Procedure for Reactors","Issued for Review","PAR","Pargasiran Company","HDPE-16-DD-00-ME-PO-5002"]
["EX1664","ME","HDPE-16-VD-5002-ME-PRC-0018","Surface Preparation Procedure (including Mechanical Polishing) for Reactors","Issued for Review","PAR","Pargasiran Company","HDPE-16-DD-00-ME-PO-5002"]
["EX1664","ME","HDPE-16-VD-5002-ME-PRC-0019","Painting Procedure for Reactors","Issued for Review","PAR","Pargasiran Company","HDPE-16-DD-00-ME-PO-5002"]
["EX1664","ME","HDPE-16-VD-5002-ME-PRC-0020","Packing, Marking & Shipping Procedure for Reactors","Issued for Review","PAR","Pargasiran Company","HDPE-16-DD-00-ME-PO-5002"]
["EX1664","ME","HDPE-16-VD-5002-ME-PRC-0021","Material Identification & Traceability Procedure for Reactors","Issued for Review","PAR","Pargasiran Company","HDPE-16-DD-00-ME-PO-5002"]
["EX1664","ME","HDPE-16-VD-5002-ME-PRC-0022","Protection & Preservation Procedure for Reactors","Issued for Review","PAR","Pargasiran Company","HDPE-16-DD-00-ME-PO-5002"]
["EX1664","ME","HDPE-16-VD-5002-ME-PRC-0023","Pickling & Passivation Procedure for Reactors","IFI","PAR","Pargasiran Company","HDPE-16-DD-00-ME-PO-5002"]
["EX1664","ME","HDPE-16-VD-5002-ME-PRC-0024","PMI Procedure for Reactors","IFI","PAR","Pargasiran Company","HDPE-16-DD-00-ME-PO-5002"]
["EX1664","ME","HDPE-16-VD-5002-ME-PRC-0025","Fabrication Procedure for Reactors","IFI","PAR","Pargasiran Company","HDPE-16-DD-00-ME-PO-5002"]
["EX1664","ME","HDPE-16-VD-5002-ME-PRC-0026","Transportation Procedure for Reactors","Issued for Review","PAR","Pargasiran Company","HDPE-16-DD-00-ME-PO-5002"]
["EX1664","ME","HDPE-16-VD-5002-ME-QCP-0006","Vendor's Quality Control Plan for Reactors","IFI","PAR","Pargasiran Company","HDPE-16-DD-00-ME-PO-5002"]

{"sheet":"Eng. Progress Measurement PRC","index":12,"n_rows":40,"n_cols":19,"rows_kept":40,"cut":false,"hidden":false,"merged":[[26,2,26,9],[15,1,15,8],[16,1,16,8],[19,15,19,17],[21,2,21,9],[5,9,5,12],[6,10,6,12],[9,1,9,9],[0,0,6,2],[0,9,3,12],[4,9,4,12],[31,15,31,17],[38,2,38,3],[39,2,39,3],[0,3,1,8],[2,3,3,8],[4,3,4,8],[5,3,5,8],[6,3,6,8],[22,2,22,9],[23,2,23,9],[24,2,24,9],[25,2,25,9],[31,2,31,3],[13,1,13,8],[14,1,14,8],[4,15,4,17]]}
[null,null,null,{"$f":"'1-COVER SHEET'!F1","v":"Tabriz Petrochemical Company"},null,null,null,null,null,"Contractor/Vendor Logo"]
[]
[null,null,null,{"$f":"'1-COVER SHEET'!F3","v":"310 KTPA HDPE Plant"}]
[]
[null,null,null,"DOCUMENT TITLE:",null,null,null,null,null,"Vendor Name :",null,null,null,null,null,"P1 Document Types (VPIS) for Mechanical Packages & Rotary"]
[null,null,null,"Monthly/Weekly Progress Report",null,null,null,null,null,{"$f":"'1-COVER SHEET'!L6","v":"XXXXX Co."},null,null,null,null,"Priority Class","Discipline","DOCUMENT TITLE","Required for start of Manufacturing / Raw material Supply","Priority Class"]
[null,null,null,"Document Progress Measurement",null,null,null,null,null,"PO. No.:",{"$f":"'1-COVER SHEET'!M7","v":"XXXXXX"},null,null,null,"P1","ME","INSPECTION AND TEST PLAN","X","P1"]
[null,null,null,null,null,null,null,null,null,null,null,null,null,null,"P1","ME","INSPECTION AND TEST PROCEDURE","X","P1"]
[null,null,null,null,null,null,null,null,null,null,null,null,null,null,"P1","ME","PIPING AND INSTRUMENR DIAGRAM (PID)","X","P1"]
[null,"Document Progress Measurement Method",null,null,null,null,null,null,null,null,null,null,null,null,"P1","ME","PROCESS FLOW DIAGRAM","X","P1"]
[null,null,null,null,null,null,null,null,null,null,null,null,null,null,"P1","ME","STRENGTH CALCULATIONS ","X","P1"]
[null,"- Weight Factor allocation method in MDR",null,null,null,null,null,null,null,null,null,null,null,null,"P1","ME","GENERAL ARRANGEMENT DRAWINGS","X","P1"]
[null,null,null,null,null,null,null,null,null,null,null,null,null,null,"P1","ME","FOUNDATION WITH LOADING ","X","P1"]
[null,"General and Engineering Documents",null,null,null,null,null,null,null,"W.F","Cumulative","Priority Class",null,null,"P1","ME","MAIN EQUIPMENT DATA SHEETS","X","P1"]
[null,"Total W.F of all required Engineering Drawings for proceeding MATERIALS SUPPLY must be:",null,null,null,null,null,null,null,0.45,{"$f":"J15","v":0.45},"P1",null,null,"P1","ME","PERFORMANCE CURVE (Related to Pump, not Compressor or other Packages)","X","P1"]
[null,"Total W.F of all required Engineering Drawings for proceeding FABRICATION must be:",null,null,null,null,null,null,null,0.35,{"$f":"K15+J16","v":0.8},"P2",null,null,"P1","ME","MOTOR DATA SHEET & CURVES (Related to Pump, not Compressor or other Packages)","X","P1"]
[null,"Other Documents Such as (WBS, Time Schedule, VPIS, General Procedures, Final Book, Shipping Package, ...)",null,null,null,null,null,null,null,0.2,{"$f":"K16+J17","v":1},"P4",null,null,"P1","ME","SECTIONAL DRAWING (Related to Pump, not Compressor or other Packages)","X","P1"]
[]
[]
[null,null,null,null,null,null,null,null,null,null,null,null,null,null,null,"P1 Document Types (VPIS) for Fixed Equipment"]
[null,"- Appraisal method",null,null,null,null,null,null,null,null,null,null,null,null,"Priority Class","Discipline","DOCUMENT TITLE","Required for start of Manufacturing / Raw material Supply","Priority Class"]
[null,"CODE1","AP : Approved (for IFA documents)",null,null,null,null,null,null,null,null,null,null,null,"P1","ME","QC PLAN","x","P1"]
[null,"CODE2","AN : Approved with Note",null,null,null,null,null,null,null,null,null,null,null,"P1","ME","INSPECTION and TEST PLAN","X","P1"]
[null,"CODE3","CM : Commented",null,null,null,null,null,null,null,null,null,null,null,"P1","ME","SUB-VENDOR LIST","X","P1"]
[null,"CODE4","RE : Rejected",null,null,null,null,null,null,null,null,null,null,null,"P1","ME","Material certificates / certificate of origin (including supplementary requirements)","X","P1"]
[null,"CODE5","NCM : No Comment (for IFR documents)",null,null,null,null,null,null,null,null,null,null,null,"P1","ME","MECHANICAL CALCULATION BOOK (& Other docs related to Thickness Calculations)","X","P1"]
[null,"CODE6","NCO : No Code (for IFI documents)",null,null,null,null,null,null,null,null,null,null,null,"P1","ME","FINITE ELEMENT ANALYSIS ","X","P1"]
[null,null,null,null,null,null,null,null,null,null,null,null,null,null,"P1","ME","GENERAL ARRANGMENT DRAWING ","X","P1"]
[null,"- Progress measurement method"]
[]
[null,null,null,null,"Issued",null,null,"Appraisal Codes"]
[null,null,"POI",null,0,"Code5","Code4","Code3","Code2","Code1",null,null,null,null,null,"P1 Document Types (VPIS) for Instrument & Electrical Items"]
[null,"IFI","For Information (FI)",null,1,1,0,0,0,0,null,null,null,null,"Priority Class","Discipline","DOCUMENT TITLE","Required for start of Manufacturing / Raw material Supply","Priority Class"]
[null,"IFR","For Review (FR)",null,0.5,1,0,0.5,0.9,1,null,null,null,null,"P1","EL, IN","Inspection Test Plan (ITP) ","X","P1"]
[null,"IFA","For Approval (FA)",null,0.4,0.4,0,0.4,0.8,1,null,null,null,null,"P1","EL, IN","Test Procedure ","X","P1"]
[null,"IFC","Issue for Construction (IFC)",null,0.4,0.4,0,0.4,0.8,1,null,null,null,null,"P1","EL","Single Line Diagram ","X","P1"]
[null,null,"Note: IFC issue is Only for EPC Contracts",null,null,null,null,null,null,null,null,null,null,null,"P1","EL","DC Power Consumption Calculation","X","P1"]
[null,null,null,null,null,"Soft Copy","EIED Approval","Hard Copy",null,null,null,null,null,null,"P1","EL, IN","DATA SHEETS","X","P1"]
[null,null,"Final Book Package",null,"Step %",0.3,0.1,0.6,null,null,null,null,null,null,"P1","IN","CACULATIONS","X","P1"]
[null,null,"(All As-builts & Final revision of Approved Docs)",null,"Cum. %",0.3,{"$f":"F40+G39","v":0.4},{"$f":"G40+H39","v":1},null,null,null,null,null,null,"P1","EL, IN","General Arrangement Drawings","X","P1"]